BEGIN:VCALENDAR
VERSION:2.0
PRODID:-//jEvents 2.0 for Joomla//EN
CALSCALE:GREGORIAN
METHOD:PUBLISH
BEGIN:VEVENT
UID:9cfc0bd23d8b812ad94ce0c4f2a5c1fd
CATEGORIES:15. Bezirk
CREATED:20250625T102749
SUMMARY:Lesen im Park
LOCATION:Auer-Welsbach-Park (Spielplatz)
DESCRIPTION:<div class="eventContent"><p>„Lesen im Park“ lädt Kinder von 3 bis 10 Jahre
 n ein, in die spannende Welt der Bücher einzutauchen. Unsere Bücherkörbe mi
 t einem breiten Angebot an Bilderbüchern, Kinderbüchern und Sachbüchern ste
 hen auf Spielplätzen in Parks zum Erkunden und Entlehnen bereit. Geschulte 
 BetreuerInnen helfen bei der Auswahl.<br />Ohne Vorlage eines Ausweises dar
 f das Lesevergnügen dabei ganz unbürokratisch ausgeborgt werden.</p><p>Lese
 n im Park findet im Auftrag von wienXtra und im Rahmen des wienXtra-feriens
 piels statt!</p><p>30. Juni – 7. August und 18. August – 28. August (außer 
 an Regentagen!)</p><p>immer von&nbsp;Montag – Donnerstag,14 - 18 Uhr</p><p>
 <b>Standorte: </b>Waldspielplatz im Augarten (2. Bezirk), Alois-Drasche-Par
 k (4. Bezirk), Alfred-Böhm-Park (10. Bezirk), Auer-Welsbach-Park (15. Bezir
 k), Allerheiligenpark (20. Bezirk)</p></div><p>&nbsp;</p>
CONTACT:office@jugendliteratur.at
DTSTAMP:20260426T011155
DTSTART:20250630T120000
DTEND:20250828T160000
SEQUENCE:0
TRANSP:OPAQUE
END:VEVENT
END:VCALENDAR