BEGIN:VCALENDAR
VERSION:2.0
PRODID:-//jEvents 2.0 for Joomla//EN
CALSCALE:GREGORIAN
METHOD:PUBLISH
BEGIN:VEVENT
UID:df3145ee6fdb99b044c337f8afa312fd
CATEGORIES:18. Bezirk
CREATED:20250626T115506
SUMMARY:Ankommen dürfen
LOCATION:Spielringel  Mollgasse  11-13
DESCRIPTION:<h4 style="box-sizing: border-box; margin-top: 0px; margin-bottom: 1rem; fo
 nt-family: Montserrat; font-weight: 300; line-height: 1.2; font-size: 1.625
 rem; color: #2b2b2b;">Information und Workshop zur Eingewöhnung Deines Kind
 es in der Kinderkrippe oder im Kindergarten</h4><p style="box-sizing: borde
 r-box; margin-top: 0px; margin-bottom: 1rem; color: #2b2b2b; font-family: R
 oboto; font-size: 16px;"><span class="text-primary font-weight-bold" style=
 "box-sizing: border-box; font-weight: 700 !important; color: #158795 !impor
 tant;">Kurstag:&nbsp;</span>Samstag 10:00-12:00</p><p style="box-sizing: bo
 rder-box; margin-top: 0px; margin-bottom: 1rem; color: #2b2b2b; font-family
 : Roboto; font-size: 16px;"><span class="text-primary font-weight-bold" sty
 le="box-sizing: border-box; font-weight: 700 !important; color: #158795 !im
 portant;">Termine:&nbsp;</span>28.06.2025</p><p style="box-sizing: border-b
 ox; margin-top: 0px; margin-bottom: 1rem; color: #2b2b2b; font-family: Robo
 to; font-size: 16px;"><span class="text-primary font-weight-bold" style="bo
 x-sizing: border-box; font-weight: 700 !important; color: #158795 !importan
 t;">Kosten:&nbsp;</span>€45,- pro Person</p><p style="box-sizing: border-bo
 x; margin-top: 0px; margin-bottom: 1rem; color: #2b2b2b; font-family: Robot
 o; font-size: 16px;">Der Übergang von familiärer Betreuung zu außerfamiliär
 er Betreuung ist für Kinder und auch für Eltern ein großer Schritt. In dies
 em Workshop bekommst Du:</p><ul class="list-normal" style="box-sizing: bord
 er-box; margin-top: 0px; margin-bottom: 1rem; color: #2b2b2b; font-family: 
 Roboto; font-size: 16px;"><li style="box-sizing: border-box;">Information z
 ur Organisation des Kinderbetreuungswesens in Wien und möglichen Eingewöhnu
 ngsmodellen</li><li style="box-sizing: border-box;">Impulse wie Du Dein Kin
 d auf die neue Situation vorbereiten kannst</li><li style="box-sizing: bord
 er-box;">Raum sich mit eigenen Sorgen rund um diesen Übergang auseinanderzu
 setzen</li><li style="box-sizing: border-box;">Ideen wie Abschiedsmomente g
 estaltet werden können</li></ul><p style="box-sizing: border-box; margin-to
 p: 0px; margin-bottom: 0px; color: #2b2b2b; font-family: Roboto; font-size:
  16px;">Dieser Workshop richtet sich an Erwachsene. Babys, die noch nicht m
 obil sind, können gerne mitgenommen werden.</p>
CONTACT:www.spielringel.at
X-EXTRAINFO:[preis='4500'][anmeldung='true']
DTSTAMP:20260426T011158
DTSTART:20250628T080000
DTEND:20250628T100000
SEQUENCE:0
TRANSP:OPAQUE
END:VEVENT
END:VCALENDAR