BEGIN:VCALENDAR
VERSION:2.0
PRODID:-//jEvents 2.0 for Joomla//EN
CALSCALE:GREGORIAN
METHOD:PUBLISH
BEGIN:VEVENT
UID:16ca1dbbda5a56e3977303f00983493f
CATEGORIES:3. Bezirk
CREATED:20250702T105249
SUMMARY:Sing in Summer (2.5-3.5yrs old with their carer)
LOCATION:Rhythmikstudio\, Untere Viaduktgasse 57/3
DESCRIPTION:<p style="caret-color: #000000; color: #000000;" data-start="183" data-end=
 "254">🎵&nbsp;<strong data-start="186" data-end="251">Bond through music – w
 hile developing your child's musicality</strong>&nbsp;💞</p><p style="caret-
 color: #000000; color: #000000;" data-start="256" data-end="322">This summe
 r, come and join us for a special short summer course.</p><p style="caret-c
 olor: #000000; color: #000000;" data-start="324" data-end="384">Cuddles, rh
 ythm, and singing – just for you and your child.</p><p style="caret-color: 
 #000000; color: #000000;" data-start="386" data-end="489">These 4 sessions 
 are all about connection:<br data-start="428" data-end="431" />🌸 Soft sound
 s<br data-start="445" data-end="448" />🌈 Sensory play<br data-start="463" d
 ata-end="466" />💃 Energy and dancing</p><p style="caret-color: #000000; col
 or: #000000;" data-start="491" data-end="534">Music that nurtures the bond 
 between you.</p><p style="caret-color: #000000; color: #000000;" data-start
 ="536" data-end="655">Simple but rich – thanks to the incredible repertoire
  of songs and the musical dialogue we’ll create with your child.</p><p styl
 e="caret-color: #000000; color: #000000;" data-start="657" data-end="706">C
 ome as you are – but leave a little lighter. ✨</p><p style="caret-color: #0
 00000; color: #000000;" data-start="708" data-end="801"><em data-start="708
 " data-end="758">"I'd love to come but can't make all the dates!"</em><br d
 ata-start="758" data-end="761" />No worries –&nbsp;<strong data-start="774"
  data-end="800">drop-ins are available</strong>.</p><p>Book over the websit
 e:&nbsp;<a href="https://sophielusty.com/workshops/" style="font-family: in
 herit; font-size: 1rem;">https://sophielusty.com/workshops/</a></p><p>&nbsp
 ;</p>
CONTACT:contact@sophielusty.com
X-EXTRAINFO:[preis='1500'][anmeldung='true']
DTSTAMP:20260426T005628
DTSTART:20250820T141000
DTEND:20250820T145500
SEQUENCE:0
TRANSP:OPAQUE
END:VEVENT
END:VCALENDAR