BEGIN:VCALENDAR
VERSION:2.0
PRODID:-//jEvents 2.0 for Joomla//EN
CALSCALE:GREGORIAN
METHOD:PUBLISH
BEGIN:VEVENT
UID:e57f324615a24f85b8c218dd1dbb4e58
CATEGORIES:12. Bezirk
CREATED:19700101T010000
SUMMARY:ANMELDESTART: Statik - Forschen - Schätzen: Ein Technikkurs für Kindergartenkinder
LOCATION:Flurschützstraße 5/1/1\, 1120 Wien
DESCRIPTION:<p><strong>ANMELDESTART!</strong></p><p><strong>Der Kurs selber beginnt am 
 11. August und findet täglich bis zum 14.08.2025 statt, jeweils um 09.30-10
 .45.</strong></p><p>Wir erforschen die Grundgesetze der Statik mit spannend
 en Experimenten, messen in vielerlei Maßeinheiten und tätigen erste Schätzu
 ngen. Wuppi - unser außerirdischer Freund - begleitet uns nicht nur auf uns
 erer Technikreise, sondern er bringt uns auch viel über das Lernen-lernen b
 ei.</p><p>&nbsp;</p><p>Wir spielen und lernen in einer kleinen Gruppe von m
 ax. 6 Kindern und 2 Erwachsenen (Trainerin und Co-Trainer). So wird jedes K
 ind individuell gefördert!</p><p>&nbsp;</p><p>&nbsp;</p><p>Bei freien Plätz
 en werden auch ErstklässlerInnen aufgenommen.</p><p>&nbsp;</p><p>Kursstart 
 verpasst? <strong>Der nächste Statikkurs</strong> beginnt am&nbsp;<strong>1
 9.05.2026&nbsp;</strong>und dauert bis<strong>&nbsp;23.06.2026</strong>.</p
 ><p>&nbsp;</p><p>Wir freuen uns auf dich!</p><p>&nbsp;</p><p>Mehr Informati
 onen und weitere Kurse auf <a href="https://www.hochbegabung.wien">www.hoch
 begabung.wien</a></p><p>&nbsp;</p><p><strong>Schnuppertermine</strong> sind
  bei freien Kursplätzen nach Rücksprache möglich. Geschwisterkinder zahlen 
 15% weniger.</p>
CONTACT:birgit.hartel@hochbegabung.wien
X-EXTRAINFO:[preis='15500'][anmeldung='true']
DTSTAMP:20260426T005733
DTSTART:20250703T073000
DTEND:20250703T084500
SEQUENCE:0
RRULE:FREQ=WEEKLY;UNTIL=20250808T000000Z;INTERVAL=1;BYDAY=TH
TRANSP:OPAQUE
END:VEVENT
END:VCALENDAR