BEGIN:VCALENDAR
VERSION:2.0
PRODID:-//jEvents 2.0 for Joomla//EN
CALSCALE:GREGORIAN
METHOD:PUBLISH
BEGIN:VEVENT
UID:77ad85e43b79f1927399b48b05358dda
CATEGORIES:18. Bezirk
CREATED:19700101T010000
SUMMARY:Spiel mit Farben
LOCATION:Spielringel  Mollgasse  11-13
DESCRIPTION:Sinnesspiel mit Farben für Kinder ab 1 bis 2,5 Jahren (mit Begleitung)Kurst
 ag: Dienstag 11:00-12:00\nTermine: 12.08./ 19.08./ 26.08.\nKosten: €20,- (e
 ine Einheit)\nIm Sommer gibt es Kennenlerntermine von unserer Farbenspieler
 ei - Spiel mit Farben.\nJedes mal dürfen sich die Kleinen auf eine andere A
 rt und Weise mit Farben austoben!\nAuf jeden Fall wird es jedesmal sehr bun
 t!\nBitte Gewand, das auch schmutzig werden darf, anziehen und Wechselgewan
 d mitnehmen!\n
X-ALT-DESC;FMTTYPE=text/html:<h2 class="element-header" style="box-sizing: border-box; margin-top: 0px; 
 margin-bottom: 0.5rem; font-family: Montserrat; font-weight: 300; line-heig
 ht: 1.2; font-size: 2.1rem; color: #2b2b2b;">Sinnesspiel mit Farben für Kin
 der ab 1 bis 2,5 Jahren (mit Begleitung)</h2><p style="box-sizing: border-b
 ox; margin-top: 0px; margin-bottom: 1rem; color: #2b2b2b; font-family: Robo
 to; font-size: 16px;"><span class="text-primary font-weight-bold" style="bo
 x-sizing: border-box; font-weight: 700 !important; color: #158795 !importan
 t;">Kurstag:&nbsp;</span>Dienstag 11:00-12:00</p><p style="box-sizing: bord
 er-box; margin-top: 0px; margin-bottom: 1rem; color: #2b2b2b; font-family: 
 Roboto; font-size: 16px;"><span class="text-primary font-weight-bold" style
 ="box-sizing: border-box; font-weight: 700 !important; color: #158795 !impo
 rtant;">Termine:&nbsp;</span>12.08./ 19.08./ 26.08.</p><p style="box-sizing
 : border-box; margin-top: 0px; margin-bottom: 1rem; color: #2b2b2b; font-fa
 mily: Roboto; font-size: 16px;"><span class="text-primary font-weight-bold"
  style="box-sizing: border-box; font-weight: 700 !important; color: #158795
  !important;">Kosten:&nbsp;</span>€20,- (eine Einheit)</p><p style="box-siz
 ing: border-box; margin-top: 0px; margin-bottom: 1rem; color: #2b2b2b; font
 -family: Roboto; font-size: 16px;">Im Sommer gibt es Kennenlerntermine von 
 unserer Farbenspielerei - Spiel mit Farben.</p><p style="box-sizing: border
 -box; margin-top: 0px; margin-bottom: 1rem; color: #2b2b2b; font-family: Ro
 boto; font-size: 16px;">Jedes mal dürfen sich die Kleinen auf eine andere A
 rt und Weise mit Farben austoben!</p><p style="box-sizing: border-box; marg
 in-top: 0px; margin-bottom: 1rem; color: #2b2b2b; font-family: Roboto; font
 -size: 16px;">Auf jeden Fall wird es jedesmal sehr bunt!</p><p style="box-s
 izing: border-box; margin-top: 0px; margin-bottom: 1rem; color: #2b2b2b; fo
 nt-family: Roboto; font-size: 16px;">Bitte Gewand, das auch schmutzig werde
 n darf, anziehen und Wechselgewand mitnehmen!</p>
CONTACT:www.spielringel.at
X-EXTRAINFO:[preis='2000'][anmeldung='true']
DTSTAMP:20260426T020200
DTSTART:20250812T090000
DTEND:20250812T100000
SEQUENCE:0
RRULE:FREQ=WEEKLY;UNTIL=20250828T000000Z;INTERVAL=1;BYDAY=TU
TRANSP:OPAQUE
END:VEVENT
END:VCALENDAR