BEGIN:VCALENDAR
VERSION:2.0
PRODID:-//jEvents 2.0 for Joomla//EN
CALSCALE:GREGORIAN
METHOD:PUBLISH
BEGIN:VEVENT
UID:5782159a66ad8b75d9bf2df1d2188687
CATEGORIES:18. Bezirk
CREATED:19700101T010000
SUMMARY:Babyklangwelt zum Kennenlernen
LOCATION:Spielringel  Mollgasse  11-13
DESCRIPTION:für Babys (3-10 Monate)Kurstag: Dienstag 13:00-13:45\nTermine: 12.08./ 19.0
 8.\nKosten: €20,- (für einen Termin)\nBabys lieben Klänge, Geräusche, Musik
  und Gesang. Gemeinsam schaffen wir akustische und musikalische Erlebniswel
 ten, in die sich die Babys nach Möglichkeit einbringen können und erweitern
  dabei auch Kompetenz und Repertoire das Kind im Alltag spielerisch zu förd
 ern.\nIm Sommer gibt es die Babyklangwelt zum Kennenlernen als Einzeleinhei
 t zu buchen.\n
X-ALT-DESC;FMTTYPE=text/html:<h4 style="box-sizing: border-box; margin-top: 0px; margin-bottom: 1rem; fo
 nt-family: Montserrat; font-weight: 300; line-height: 1.2; font-size: 1.5re
 m; color: #2b2b2b;">für Babys (3-10 Monate)</h4><p style="box-sizing: borde
 r-box; margin-top: 0px; margin-bottom: 1rem; color: #2b2b2b; font-family: R
 oboto; font-size: 16px;"><span class="text-primary font-weight-bold" style=
 "box-sizing: border-box; font-weight: 700 !important; color: #158795 !impor
 tant;">Kurstag:&nbsp;</span>Dienstag 13:00-13:45</p><p style="box-sizing: b
 order-box; margin-top: 0px; margin-bottom: 1rem; color: #2b2b2b; font-famil
 y: Roboto; font-size: 16px;"><span class="text-primary font-weight-bold" st
 yle="box-sizing: border-box; font-weight: 700 !important; color: #158795 !i
 mportant;">Termine:&nbsp;</span>12.08./ 19.08.</p><p style="box-sizing: bor
 der-box; margin-top: 0px; margin-bottom: 1rem; color: #2b2b2b; font-family:
  Roboto; font-size: 16px;"><span class="text-primary font-weight-bold" styl
 e="box-sizing: border-box; font-weight: 700 !important; color: #158795 !imp
 ortant;">Kosten:&nbsp;</span>€20,- (für einen Termin)</p><p style="box-sizi
 ng: border-box; margin-top: 0px; margin-bottom: 1rem; color: #2b2b2b; font-
 family: Roboto; font-size: 16px;">Babys lieben Klänge, Geräusche, Musik und
  Gesang. Gemeinsam schaffen wir akustische und musikalische Erlebniswelten,
  in die sich die Babys nach Möglichkeit einbringen können und erweitern dab
 ei auch Kompetenz und Repertoire das Kind im Alltag spielerisch zu fördern.
 </p><p style="box-sizing: border-box; margin-top: 0px; margin-bottom: 1rem;
  color: #2b2b2b; font-family: Roboto; font-size: 16px;">Im Sommer gibt es d
 ie Babyklangwelt zum Kennenlernen als Einzeleinheit zu buchen.</p>
CONTACT:www.spielringel.at
X-EXTRAINFO:[preis='2000'][anmeldung='true']
DTSTAMP:20260426T005451
DTSTART:20250812T110000
DTEND:20250812T114500
SEQUENCE:0
RRULE:FREQ=WEEKLY;UNTIL=20250821T000000Z;INTERVAL=1;BYDAY=TU
TRANSP:OPAQUE
END:VEVENT
END:VCALENDAR