BEGIN:VCALENDAR
VERSION:2.0
PRODID:-//jEvents 2.0 for Joomla//EN
CALSCALE:GREGORIAN
METHOD:PUBLISH
BEGIN:VEVENT
UID:e485fb095aeef1118bc438aa96107e36
CATEGORIES:18. Bezirk
CREATED:19700101T010000
SUMMARY:Musik mit Susanne für Babys
LOCATION:Spielringel  Mollgasse  11-13
DESCRIPTION:Kurstag: Dienstag 14:00-14:45\nTermine: 12.08./ 19.08.\nKosten: €20,- (für 
 einen Termin)\n„Musikalität ist vor allem die Fähigkeit von Musik berührt z
 u werden."\nEs wird dem Alter und der Entwicklung der Babys entsprechend, g
 espielt, gesungen, getanzt und musiziert. Musik fördert die Entwicklung von
  Babys: Sie ist gut für die Bewegungskoordination, die Sprachentwicklung, d
 en Gleichgewichtssinn und die Bindung zur Bezugsperson. Das beste daran ist
 , dass es einfach Freude macht!\nAlle Termine sind einzeln buchbar.\n
X-ALT-DESC;FMTTYPE=text/html:<p style="box-sizing: border-box; margin-top: 0px; margin-bottom: 1rem; col
 or: #2b2b2b; font-family: Roboto; font-size: 16px;"><span class="text-prima
 ry font-weight-bold" style="box-sizing: border-box; font-weight: 700 !impor
 tant; color: #158795 !important;">Kurstag:&nbsp;</span>Dienstag 14:00-14:45
 </p><p style="box-sizing: border-box; margin-top: 0px; margin-bottom: 1rem;
  color: #2b2b2b; font-family: Roboto; font-size: 16px;"><span class="text-p
 rimary font-weight-bold" style="box-sizing: border-box; font-weight: 700 !i
 mportant; color: #158795 !important;">Termine:&nbsp;</span>12.08./ 19.08.</
 p><p style="box-sizing: border-box; margin-top: 0px; margin-bottom: 1rem; c
 olor: #2b2b2b; font-family: Roboto; font-size: 16px;"><span class="text-pri
 mary font-weight-bold" style="box-sizing: border-box; font-weight: 700 !imp
 ortant; color: #158795 !important;">Kosten:&nbsp;</span>€20,- (für einen Te
 rmin)</p><p style="box-sizing: border-box; margin-top: 0px; margin-bottom: 
 1rem; color: #2b2b2b; font-family: Roboto; font-size: 16px;">„Musikalität i
 st vor allem die Fähigkeit von Musik berührt zu werden."</p><p style="box-s
 izing: border-box; margin-top: 0px; margin-bottom: 1rem; color: #2b2b2b; fo
 nt-family: Roboto; font-size: 16px;">Es wird dem Alter und der Entwicklung 
 der Babys entsprechend, gespielt, gesungen, getanzt und musiziert. Musik fö
 rdert die Entwicklung von Babys: Sie ist gut für die Bewegungskoordination,
  die Sprachentwicklung, den Gleichgewichtssinn und die Bindung zur Bezugspe
 rson. Das beste daran ist, dass es einfach Freude macht!</p><p style="box-s
 izing: border-box; margin-top: 0px; margin-bottom: 1rem; color: #2b2b2b; fo
 nt-family: Roboto; font-size: 16px;"><span style="box-sizing: border-box; f
 ont-weight: bolder;">Alle Termine sind einzeln buchbar.</span></p>
CONTACT:www.spielringel.at
X-EXTRAINFO:[preis='2000'][anmeldung='true']
DTSTAMP:20260426T035654
DTSTART:20250812T120000
DTEND:20250812T124500
SEQUENCE:0
RRULE:FREQ=WEEKLY;UNTIL=20250821T000000Z;INTERVAL=1;BYDAY=TU
TRANSP:OPAQUE
END:VEVENT
END:VCALENDAR