BEGIN:VCALENDAR
VERSION:2.0
PRODID:-//jEvents 2.0 for Joomla//EN
CALSCALE:GREGORIAN
METHOD:PUBLISH
BEGIN:VEVENT
UID:5ec81f4439b56206cad57d4941df7b6c
CATEGORIES:18. Bezirk
CREATED:20250706T134336
SUMMARY:Musik mit Susanne für Babys
LOCATION:Spielringel  Mollgasse  11-13
DESCRIPTION:für Babys (6-14 Monate)Kurstag: Mittwoch 09:30-10:15\nTermine: 13.08.\nKost
 en: €20,- (für einen Termin)\n„Musikalität ist vor allem die Fähigkeit von 
 Musik berührt zu werden."\nEs wird dem Alter und der Entwicklung der Babys 
 entsprechend, gespielt, gesungen, getanzt und musiziert. Musik fördert die 
 Entwicklung von Babys: Sie ist gut für die Bewegungskoordination, die Sprac
 hentwicklung, den Gleichgewichtssinn und die Bindung zur Bezugsperson. Das 
 beste daran ist, dass es einfach Freude macht!\n
X-ALT-DESC;FMTTYPE=text/html:<h4 style="box-sizing: border-box; margin-top: 0px; margin-bottom: 1rem; fo
 nt-family: Montserrat; font-weight: 300; line-height: 1.2; font-size: 1.5re
 m; color: #2b2b2b;">für Babys (6-14 Monate)</h4><p style="box-sizing: borde
 r-box; margin-top: 0px; margin-bottom: 1rem; color: #2b2b2b; font-family: R
 oboto; font-size: 16px;"><span class="text-primary font-weight-bold" style=
 "box-sizing: border-box; font-weight: 700 !important; color: #158795 !impor
 tant;">Kurstag:&nbsp;</span>Mittwoch 09:30-10:15</p><p style="box-sizing: b
 order-box; margin-top: 0px; margin-bottom: 1rem; color: #2b2b2b; font-famil
 y: Roboto; font-size: 16px;"><span class="text-primary font-weight-bold" st
 yle="box-sizing: border-box; font-weight: 700 !important; color: #158795 !i
 mportant;">Termine:&nbsp;</span>13.08.</p><p style="box-sizing: border-box;
  margin-top: 0px; margin-bottom: 1rem; color: #2b2b2b; font-family: Roboto;
  font-size: 16px;"><span class="text-primary font-weight-bold" style="box-s
 izing: border-box; font-weight: 700 !important; color: #158795 !important;"
 >Kosten:&nbsp;</span>€20,- (für einen Termin)</p><p style="box-sizing: bord
 er-box; margin-top: 0px; margin-bottom: 1rem; color: #2b2b2b; font-family: 
 Roboto; font-size: 16px;">„Musikalität ist vor allem die Fähigkeit von Musi
 k berührt zu werden."</p><p style="box-sizing: border-box; margin-top: 0px;
  margin-bottom: 1rem; color: #2b2b2b; font-family: Roboto; font-size: 16px;
 ">Es wird dem Alter und der Entwicklung der Babys entsprechend, gespielt, g
 esungen, getanzt und musiziert. Musik fördert die Entwicklung von Babys: Si
 e ist gut für die Bewegungskoordination, die Sprachentwicklung, den Gleichg
 ewichtssinn und die Bindung zur Bezugsperson. Das beste daran ist, dass es 
 einfach Freude macht!</p>
CONTACT:www.spielringel.at
X-EXTRAINFO:[preis='2000'][anmeldung='true']
DTSTAMP:20260426T035656
DTSTART:20250813T073000
DTEND:20250813T081500
SEQUENCE:0
TRANSP:OPAQUE
END:VEVENT
END:VCALENDAR