BEGIN:VCALENDAR
VERSION:2.0
PRODID:-//jEvents 2.0 for Joomla//EN
CALSCALE:GREGORIAN
METHOD:PUBLISH
BEGIN:VEVENT
UID:068fb19ed0fca7e0d47ab75fdb2b5003
CATEGORIES:18. Bezirk
CREATED:20250706T134442
SUMMARY:Musik mit Susanne für Kleinkinder
LOCATION:Spielringel  Mollgasse  11-13
DESCRIPTION:<h4 style="box-sizing: border-box; margin-top: 0px; margin-bottom: 1rem; fo
 nt-family: Montserrat; font-weight: 300; line-height: 1.2; font-size: 1.5re
 m; color: #2b2b2b;">(12- 24 Monate)</h4><p style="box-sizing: border-box; m
 argin-top: 0px; margin-bottom: 1rem; color: #2b2b2b; font-family: Roboto; f
 ont-size: 16px;"><span class="text-primary font-weight-bold" style="box-siz
 ing: border-box; font-weight: 700 !important; color: #158795 !important;">K
 urstag:&nbsp;</span>Mittwoch 10:30-11:15</p><p style="box-sizing: border-bo
 x; margin-top: 0px; margin-bottom: 1rem; color: #2b2b2b; font-family: Robot
 o; font-size: 16px;"><span class="text-primary font-weight-bold" style="box
 -sizing: border-box; font-weight: 700 !important; color: #158795 !important
 ;">Termine:&nbsp;</span>Einzeltermin am 13.08.2025</p><p style="box-sizing:
  border-box; margin-top: 0px; margin-bottom: 1rem; color: #2b2b2b; font-fam
 ily: Roboto; font-size: 16px;"><span class="text-primary font-weight-bold" 
 style="box-sizing: border-box; font-weight: 700 !important; color: #158795 
 !important;">Kosten:&nbsp;</span>€20,-</p><p style="box-sizing: border-box;
  margin-top: 0px; margin-bottom: 1rem; color: #2b2b2b; font-family: Roboto;
  font-size: 16px;">Der Gruppenraum wird zum Erlebnis- und Bewegungsraum. In
  gemütlicher, kindgerechter Umgebung können neue Bekanntschaften geschlosse
 n werden.</p><p style="box-sizing: border-box; margin-top: 0px; margin-bott
 om: 1rem; color: #2b2b2b; font-family: Roboto; font-size: 16px;">Jede Stund
 e regen neue Spielimpulse zum Mitmachen an und geben Anreiz zur leichten Um
 setzung zu Hause.</p><p style="box-sizing: border-box; margin-top: 0px; mar
 gin-bottom: 1rem; color: #2b2b2b; font-family: Roboto; font-size: 16px;">De
 in Kind hat die Möglichkeit sich frei in einer Gruppe Gleichaltriger zu bew
 egen und dich trotzdem immer als sicheren Hafen zur Einkehr bei sich zu hab
 en.</p><p style="box-sizing: border-box; margin-top: 0px; margin-bottom: 0p
 x; color: #2b2b2b; font-family: Roboto; font-size: 16px;">An diesem Einzelt
 ermin kannst du dir ansehen, wie eine EInheit der Spielgruppe mit Musik abl
 aufen kann.</p>
CONTACT:www.spielringel.at
X-EXTRAINFO:[preis='2000'][anmeldung='true']
DTSTAMP:20260426T005719
DTSTART:20250813T083000
DTEND:20250813T091500
SEQUENCE:0
TRANSP:OPAQUE
END:VEVENT
END:VCALENDAR