BEGIN:VCALENDAR
VERSION:2.0
PRODID:-//jEvents 2.0 for Joomla//EN
CALSCALE:GREGORIAN
METHOD:PUBLISH
BEGIN:VEVENT
UID:a590cdae450eca6858baca2631ff8097
CATEGORIES:18. Bezirk
CREATED:20250706T134615
SUMMARY:MusikZwerge in Bewegung mini 
LOCATION:Spielringel  Mollgasse  11-13
DESCRIPTION:<h2 class="element-header" style="box-sizing: border-box; margin-top: 0px; 
 margin-bottom: 0.5rem; font-family: Montserrat; font-weight: 300; line-heig
 ht: 1.2; font-size: 2.1rem; color: #2b2b2b;">MusikZwerge in Bewegung mini&n
 bsp;</h2><h4 style="box-sizing: border-box; margin-top: 0px; margin-bottom:
  1rem; font-family: Montserrat; font-weight: 300; line-height: 1.2; font-si
 ze: 1.5rem; color: #2b2b2b;">für Krabbelkinder (ca. 6–14 Monate)</h4><p sty
 le="box-sizing: border-box; margin-top: 0px; margin-bottom: 1rem; color: #2
 b2b2b; font-family: Roboto; font-size: 16px;"><span class="text-primary fon
 t-weight-bold" style="box-sizing: border-box; font-weight: 700 !important; 
 color: #158795 !important;">Kurstag:&nbsp;</span>Mittwoch 09:30-10:15</p><p
  style="box-sizing: border-box; margin-top: 0px; margin-bottom: 1rem; color
 : #2b2b2b; font-family: Roboto; font-size: 16px;"><span class="text-primary
  font-weight-bold" style="box-sizing: border-box; font-weight: 700 !importa
 nt; color: #158795 !important;">Termine:&nbsp;</span>20.08.</p><p style="bo
 x-sizing: border-box; margin-top: 0px; margin-bottom: 1rem; color: #2b2b2b;
  font-family: Roboto; font-size: 16px;"><span class="text-primary font-weig
 ht-bold" style="box-sizing: border-box; font-weight: 700 !important; color:
  #158795 !important;">Kosten:&nbsp;</span>€20,- (für einen Termin)</p><p st
 yle="box-sizing: border-box; margin-top: 0px; margin-bottom: 1rem; color: #
 2b2b2b; font-family: Roboto; font-size: 16px;"><span style="box-sizing: bor
 der-box; font-weight: bolder;">MusikZwerge in Bewegung</span>&nbsp;ist eine
  liebevoll gestaltete Kursreihe für Babys und Kleinkinder, die auf spieleri
 sche Weise die Welt der Musik, Bewegung und Körperwahrnehmung entdecken. In
  einer geschützten und fröhlichen Atmosphäre fördern wir mit Liedern, Tänze
 n und einfachen Instrumenten die ganzheitliche Entwicklung deines Kindes – 
 und schaffen zugleich wertvolle gemeinsame Momente.</p><p style="box-sizing
 : border-box; margin-top: 0px; margin-bottom: 0px; color: #2b2b2b; font-fam
 ily: Roboto; font-size: 16px;"><span style="box-sizing: border-box; font-we
 ight: bolder;">MusikZwerge mini – für Krabbelkinder</span>&nbsp;(ca. 6–14 M
 onate) In dieser Gruppe stehen sanfte Bewegungsimpulse, Kniereiter, Fingers
 piele und einfache Klanginstrumente im Vordergrund. Dein Kind erlebt Musik 
 mit dem ganzen Körper, wird zum Mitmachen angeregt und fördert dabei seine 
 Wahrnehmung, Koordination und Bindung zu dir.</p>
CONTACT:www.spielringel.at
X-EXTRAINFO:[preis='2000'][anmeldung='true']
DTSTAMP:20260426T005721
DTSTART:20250820T073000
DTEND:20250820T081500
SEQUENCE:0
TRANSP:OPAQUE
END:VEVENT
END:VCALENDAR