BEGIN:VCALENDAR
VERSION:2.0
PRODID:-//jEvents 2.0 for Joomla//EN
CALSCALE:GREGORIAN
METHOD:PUBLISH
BEGIN:VEVENT
UID:c1ce98224878ff9630c318681c238315
CATEGORIES:18. Bezirk
CREATED:20250706T134811
SUMMARY:MusikZwerge in Bewegung maxi
LOCATION:Spielringel  Mollgasse  11-13
DESCRIPTION:<h2 class="element-header" style="box-sizing: border-box; margin-top: 0px; 
 margin-bottom: 0.5rem; font-family: Montserrat; font-weight: 300; line-heig
 ht: 1.2; font-size: 2.1rem; color: #2b2b2b;">MusikZwerge in Bewegung maxi -
  am 20.08.</h2><h4 style="box-sizing: border-box; margin-top: 0px; margin-b
 ottom: 1rem; font-family: Montserrat; font-weight: 300; line-height: 1.2; f
 ont-size: 1.5rem; color: #2b2b2b;">für Laufanfänger:innen &amp; kleine Tänz
 er:innen (ca. 14–30 Monate)</h4><h4 style="box-sizing: border-box; margin-t
 op: 0px; margin-bottom: 1rem; font-family: Montserrat; font-weight: 300; li
 ne-height: 1.2; font-size: 1.5rem; color: #2b2b2b;"><span class="text-prima
 ry font-weight-bold" style="box-sizing: border-box; font-weight: 700 !impor
 tant; color: #158795 !important;">Kurstag:&nbsp;</span>Mittwoch 10:30-11:15
 </h4><h4 style="box-sizing: border-box; margin-top: 0px; margin-bottom: 1re
 m; font-family: Montserrat; font-weight: 300; line-height: 1.2; font-size: 
 1.5rem; color: #2b2b2b;"><span class="text-primary font-weight-bold" style=
 "box-sizing: border-box; font-weight: 700 !important; color: #158795 !impor
 tant;">Termine:&nbsp;</span>18.08.</h4><h4 style="box-sizing: border-box; m
 argin-top: 0px; margin-bottom: 1rem; font-family: Montserrat; font-weight: 
 300; line-height: 1.2; font-size: 1.5rem; color: #2b2b2b;"><span class="tex
 t-primary font-weight-bold" style="box-sizing: border-box; font-weight: 700
  !important; color: #158795 !important;">Kosten:&nbsp;</span>€20,- (für ein
 en Termin)</h4><div id="page-content" class="bp-page-content main-section" 
 style="box-sizing: border-box;"><div class="section section-default" style=
 "box-sizing: border-box; overflow: hidden;"><div class="container" style="b
 ox-sizing: border-box; width: 960px; padding-right: 20px; padding-left: 20p
 x; margin-right: auto; margin-left: auto; max-width: 960px;"><div class="se
 ction-row" style="box-sizing: border-box; display: flex; flex-wrap: wrap; m
 argin-left: -20px; margin-right: -20px;"><div class="frame frame-default fr
 ame-type-textpic frame-layout-0 frame-background-none frame-no-backgroundim
 age frame-space-before-none frame-space-after-none" style="box-sizing: bord
 er-box; position: relative; padding-top: 3.5rem; padding-bottom: 3.5rem; ma
 rgin-top: 0rem; margin-bottom: 0rem;"><div class="frame-container" style="b
 ox-sizing: border-box; position: relative; width: 680px; padding-right: 0px
 ; padding-left: 0px; margin-right: auto; margin-left: auto; max-width: 960p
 x; margin-bottom: 0px;"><div class="frame-inner" style="box-sizing: border-
 box;"><div class="textpic textpic-right" style="box-sizing: border-box; dis
 play: flex; flex-wrap: wrap; margin-left: -20px; margin-right: -20px; margi
 n-bottom: 0px;"><div class="textpic-item textpic-text" style="box-sizing: b
 order-box; order: 1; width: 360px; padding-left: 20px; padding-right: 20px;
  margin-bottom: 0px;"><p style="box-sizing: border-box; margin-top: 0px; ma
 rgin-bottom: 1rem;"><span style="box-sizing: border-box; font-weight: bolde
 r;">MusikZwerge in Bewegung</span>&nbsp;ist eine liebevoll gestaltete Kursr
 eihe für Babys und Kleinkinder, die auf spielerische Weise die Welt der Mus
 ik, Bewegung und Körperwahrnehmung entdecken. In einer geschützten und fröh
 lichen Atmosphäre fördern wir mit Liedern, Tänzen und einfachen Instrumente
 n die ganzheitliche Entwicklung deines Kindes – und schaffen zugleich wertv
 olle gemeinsame Momente.</p><p style="box-sizing: border-box; margin-top: 0
 px; margin-bottom: 0px;"><span style="box-sizing: border-box; font-weight: 
 bolder;">MusikZwerge maxi – für Laufanfänger:innen &nbsp;&amp; kleine Tänze
 r:innen&nbsp;</span>(ca. 14–30 Monate) Sobald die ersten Schritte sicher si
 nd, wird die Welt noch spannender! In diesem Kurs wird getanzt, gehüpft, ge
 klatscht und gespielt. Mit altersgerechten Bewegungsliedern, kleinen Tänzen
  und phantasievollen Spielen regen wir nicht nur die Motorik an, sondern au
 ch Kreativität, Sprache und soziales Miteinander.</p></div></div></div></di
 v></div><div id="c1383" class="frame frame-default frame-type-form_formfram
 ework frame-layout-0 frame-background-none frame-no-backgroundimage frame-s
 pace-before-none frame-space-after-none" style="box-sizing: border-box; pos
 ition: relative; padding-top: 3.5rem; padding-bottom: 3.5rem; margin-top: -
 3.5rem; margin-bottom: 0rem;"><div class="frame-container" style="box-sizin
 g: border-box; position: relative; width: 680px; padding-right: 0px; paddin
 g-left: 0px; margin-right: auto; margin-left: auto; max-width: 960px; margi
 n-bottom: 0px;"><div class="frame-inner" style="box-sizing: border-box;"><d
 iv class="form-container form-identifier-anmeldeformular-1383" style="box-s
 izing: border-box; margin-bottom: 0px;"><form enctype="multipart/form-data"
  method="post" novalidate="novalidate" id="anmeldeformular-1383" style="box
 -sizing: border-box;"><div style="box-sizing: border-box;">&nbsp;</div><inp
 ut autocomplete="ScelYngQz3JK7E" name="tx_form_formframework[anmeldeformula
 r-1383][ScelYngQz3JK7E]" type="text" id="anmeldeformular-1383-ScelYngQz3JK7
 E" style="box-sizing: border-box; margin: 0px 0px 0px -999em; font-family: 
 inherit; font-size: inherit; line-height: inherit; overflow: visible; posit
 ion: absolute;" tabindex="-1" aria-hidden="true" /><div class="form-actions
 " style="box-sizing: border-box; margin-top: 1em;"><nav class="form-navigat
 ion" style="box-sizing: border-box;"><div class="btn-toolbar" style="box-si
 zing: border-box; display: flex; flex-wrap: wrap; justify-content: flex-sta
 rt;" role="toolbar"><div class="btn-group" style="box-sizing: border-box; p
 osition: relative; display: inline-flex; vertical-align: middle;" role="gro
 up"><span class="btn-group next" style="box-sizing: border-box; position: r
 elative; display: inline-flex; vertical-align: middle;"><button name="tx_fo
 rm_formframework[anmeldeformular-1383][__currentPage]" type="submit" value=
 "1" class="btn btn-primary" style="border-radius: 0.25rem; margin: 0px; fon
 t-family: inherit; font-size: 1rem; line-height: 1.5; overflow: visible; ap
 pearance: button; font-weight: 400; color: #ffffff; vertical-align: middle;
  user-select: none; background-color: #158795; padding: 0.375rem 0.75rem; t
 ransition: color 0.15s ease-in-out, background-color 0.15s ease-in-out, bor
 der-color 0.15s ease-in-out, box-shadow 0.15s ease-in-out; cursor: pointer;
  position: relative; flex: 1 1 auto; border: 1px solid #158795;">Onlineanme
 ldung</button></span></div></div></nav></div></form></div></div></div></div
 ></div></div></div></div><footer id="page-footer" class="bp-page-footer" st
 yle="box-sizing: border-box;"><section class="section footer-section footer
 -section-content" style="box-sizing: border-box; overflow: hidden; color: #
 ffffff; background-color: #2b2b2b; font-family: Roboto; font-size: 16px;"><
 div class="container" style="box-sizing: border-box; width: 960px; padding-
 right: 20px; padding-left: 20px; margin-right: auto; margin-left: auto; max
 -width: 960px;"><div class="section-row" style="box-sizing: border-box; dis
 play: flex; flex-wrap: wrap; margin-left: -20px; margin-right: -20px;"><div
  class="section-column footer-section-content-column footer-section-content
 -column-left" style="box-sizing: border-box; width: 319.991px; padding-left
 : 20px; padding-right: 20px;">&nbsp;</div><div class="section-column footer
 -section-content-column footer-section-content-column-middle" style="box-si
 zing: border-box; width: 319.991px; padding-left: 20px; padding-right: 20px
 ;">&nbsp;</div><div class="section-column footer-section-content-column foo
 ter-section-content-column-right" style="box-sizing: border-box; width: 319
 .991px; padding-left: 20px; padding-right: 20px;">&nbsp;</div></div></div><
 /section><section class="section footer-section footer-section-meta" style=
 "box-sizing: border-box; overflow: hidden; color: #ffffff; background-color
 : #232323; text-align: center; font-family: Roboto; font-size: 16px;"><div 
 class="frame frame-background-none frame-space-before-none frame-space-afte
 r-none" style="box-sizing: border-box; position: relative; padding-top: 3.5
 rem; padding-bottom: 3.5rem; margin-top: 0rem; margin-bottom: 0rem;"><div c
 lass="frame-container" style="box-sizing: border-box; position: relative; w
 idth: 960px; padding-right: 20px; padding-left: 20px; margin-right: auto; m
 argin-left: auto; max-width: 960px; margin-bottom: 0px;"><div class="frame-
 inner" style="box-sizing: border-box;"><div class="footer-meta" style="box-
 sizing: border-box; overflow: hidden;">&nbsp;</div></div></div></div></sect
 ion></footer>
CONTACT:www.spielringel.at
X-EXTRAINFO:[preis='2000'][anmeldung='true']
DTSTAMP:20260426T005722
DTSTART:20250820T083000
DTEND:20250820T091500
SEQUENCE:0
TRANSP:OPAQUE
END:VEVENT
END:VCALENDAR