BEGIN:VCALENDAR
VERSION:2.0
PRODID:-//jEvents 2.0 for Joomla//EN
CALSCALE:GREGORIAN
METHOD:PUBLISH
BEGIN:VEVENT
UID:87a61b5dc70fee223e3742d4801d9017
CATEGORIES:18. Bezirk
CREATED:19700101T010000
SUMMARY:Kleine Entdecker im Sommer
LOCATION:Spielringel  Mollgasse  11-13
DESCRIPTION:Kleine Entdecker im Sommer2 bis 4 Jahre (mit Begleitung)Mit: Claudia (https
 ://spielringel.at/angebote/das-team/mag-claudia-weissmann-karacsonyi)\nKurs
 tag: Mittwoch 14:00-15:00\nTermine: 13.08./ 20.08.\nKosten: €20,-\nHier hei
 ßen wir alle neugierigen Entdecker von 2-4 Jahren willkommen, die die Welt 
 spielerisch entdecken möchten.\nDie Stunde starten wir mit dem Öffnen unser
 es Entdeckerkoffers, der das spannende Thema des Tages enthüllt. Dieser Kof
 fer ist gefüllt mit Materialien und Ideen, die die Fantasie der Kinder anre
 gen und sie zum Mitmachen animieren.\nIm Anschluss werden vielfältige Aktio
 nstabletts und Spiele angeboten, die zum Thema passen. Die kleinen Entdecke
 r haben die Möglichkeit, kreativ zu sein und neue Fähigkeiten zu entwickeln
 . \n \nIm Sommer sind die Termine wieder einzeln zu buchen! Gebt bitte an, 
 wann ihr kommen möchtet!\n
X-ALT-DESC;FMTTYPE=text/html:<h2 class="element-header" style="box-sizing: border-box; margin-top: 0px; 
 margin-bottom: 0.5rem; font-family: Montserrat; font-weight: 300; line-heig
 ht: 1.2; font-size: 2.1rem; color: #2b2b2b;">Kleine Entdecker im Sommer</h2
 ><h4 style="box-sizing: border-box; margin-top: 0px; margin-bottom: 1rem; f
 ont-family: Montserrat; font-weight: 300; line-height: 1.2; font-size: 1.5r
 em; color: #2b2b2b;">2 bis 4 Jahre (mit Begleitung)</h4><p style="box-sizin
 g: border-box; margin-top: 0px; margin-bottom: 1rem; color: #2b2b2b; font-f
 amily: Roboto; font-size: 16px;"><span class="text-primary font-weight-bold
 " style="box-sizing: border-box; font-weight: 700 !important; color: #15879
 5 !important;">Mit:&nbsp;</span><a href="https://spielringel.at/angebote/da
 s-team/mag-claudia-weissmann-karacsonyi" style="box-sizing: border-box; col
 or: #158795; text-decoration-line: none; background-color: transparent;">Cl
 audia</a></p><p style="box-sizing: border-box; margin-top: 0px; margin-bott
 om: 1rem; color: #2b2b2b; font-family: Roboto; font-size: 16px;"><span clas
 s="text-primary font-weight-bold" style="box-sizing: border-box; font-weigh
 t: 700 !important; color: #158795 !important;">Kurstag:&nbsp;</span>Mittwoc
 h 14:00-15:00</p><p style="box-sizing: border-box; margin-top: 0px; margin-
 bottom: 1rem; color: #2b2b2b; font-family: Roboto; font-size: 16px;"><span 
 class="text-primary font-weight-bold" style="box-sizing: border-box; font-w
 eight: 700 !important; color: #158795 !important;">Termine:&nbsp;</span>13.
 08./ 20.08.</p><p style="box-sizing: border-box; margin-top: 0px; margin-bo
 ttom: 1rem; color: #2b2b2b; font-family: Roboto; font-size: 16px;"><span cl
 ass="text-primary font-weight-bold" style="box-sizing: border-box; font-wei
 ght: 700 !important; color: #158795 !important;">Kosten:&nbsp;</span>€20,-<
 /p><p style="box-sizing: border-box; margin-top: 0px; margin-bottom: 1rem; 
 color: #2b2b2b; font-family: Roboto; font-size: 16px;">Hier heißen wir alle
  neugierigen Entdecker von 2-4 Jahren willkommen, die die Welt spielerisch 
 entdecken möchten.</p><p style="box-sizing: border-box; margin-top: 0px; ma
 rgin-bottom: 1rem; color: #2b2b2b; font-family: Roboto; font-size: 16px;">D
 ie Stunde starten wir mit dem Öffnen unseres Entdeckerkoffers, der das span
 nende Thema des Tages enthüllt. Dieser Koffer ist gefüllt mit Materialien u
 nd Ideen, die die Fantasie der Kinder anregen und sie zum Mitmachen animier
 en.</p><p style="box-sizing: border-box; margin-top: 0px; margin-bottom: 1r
 em; color: #2b2b2b; font-family: Roboto; font-size: 16px;">Im Anschluss wer
 den vielfältige Aktionstabletts und Spiele angeboten, die zum Thema passen.
  Die kleinen Entdecker haben die Möglichkeit, kreativ zu sein und neue Fähi
 gkeiten zu entwickeln.&nbsp;</p><p style="box-sizing: border-box; margin-to
 p: 0px; margin-bottom: 1rem; color: #2b2b2b; font-family: Roboto; font-size
 : 16px;">&nbsp;</p><p style="box-sizing: border-box; margin-top: 0px; margi
 n-bottom: 1rem; color: #2b2b2b; font-family: Roboto; font-size: 16px;"><spa
 n style="box-sizing: border-box; font-weight: bolder;">Im Sommer sind die T
 ermine wieder einzeln zu buchen! Gebt bitte an, wann ihr kommen möchtet!</s
 pan></p>
CONTACT:www.spielringel.at
X-EXTRAINFO:[preis='2000'][anmeldung='true']
DTSTAMP:20260426T033423
DTSTART:20250813T120000
DTEND:20250813T130000
SEQUENCE:0
RRULE:FREQ=WEEKLY;UNTIL=20250822T000000Z;INTERVAL=1;BYDAY=WE
TRANSP:OPAQUE
END:VEVENT
END:VCALENDAR