BEGIN:VCALENDAR
VERSION:2.0
PRODID:-//jEvents 2.0 for Joomla//EN
CALSCALE:GREGORIAN
METHOD:PUBLISH
BEGIN:VEVENT
UID:17518f113e2c6311695ce17fb77cfec5
CATEGORIES:18. Bezirk
CREATED:20250706T135510
SUMMARY:BabySteps ® zum Kennenlernen
LOCATION:Spielringel  Mollgasse  11-13
DESCRIPTION:für Eltern mit Babys von 0-1Kurstag: Donnerstag 09:45-10:45\nTermine: 14.08
 .\nKosten: €20,- (1 Einheit)\nDu suchst Antwort auf all deine Fragen in Bab
 ys erstem Lebensjahr und magst andere Mamas kennen lernen und dich mit ihne
 n austauschen? Dabei willst du hilfreiche Informationen rund um die Entwick
 lung deines Babys un dentwicklungsgerechte Spielanregungen durch die Jahres
 zeiten bekommen? Dann bist du im BabySteps Kurs bei Doris genau richtig!\nA
 m 14.08. gibt es eine BabySteps Kennenlernstunde mit Doris bei uns zu buche
 n!\n Onlineanmeldung    
X-ALT-DESC;FMTTYPE=text/html:<h4 style="box-sizing: border-box; margin-top: 0px; margin-bottom: 1rem; fo
 nt-family: Montserrat; font-weight: 300; line-height: 1.2; font-size: 1.25r
 em; color: #2b2b2b;">für Eltern mit Babys von 0-1</h4><div id="page-content
 " class="bp-page-content main-section" style="box-sizing: border-box;"><div
  class="section section-default" style="box-sizing: border-box; overflow: h
 idden;"><div class="container" style="box-sizing: border-box; width: 540px;
  padding-right: 20px; padding-left: 20px; margin-right: auto; margin-left: 
 auto; max-width: 540px;"><div class="section-row" style="box-sizing: border
 -box; display: flex; flex-wrap: wrap; margin-left: -20px; margin-right: -20
 px;"><div class="frame frame-default frame-type-textpic frame-layout-0 fram
 e-background-none frame-no-backgroundimage frame-space-before-none frame-sp
 ace-after-none" style="box-sizing: border-box; position: relative; padding-
 top: 2.5rem; padding-bottom: 2.5rem; margin-top: 0rem; margin-bottom: 0rem;
 "><div class="frame-container" style="box-sizing: border-box; position: rel
 ative; width: 500px; padding-right: 0px; padding-left: 0px; margin-right: a
 uto; margin-left: auto; max-width: 540px; margin-bottom: 0px;"><div class="
 frame-inner" style="box-sizing: border-box;"><div class="textpic textpic-ri
 ght" style="box-sizing: border-box; display: flex; flex-wrap: wrap; margin-
 left: -20px; margin-right: -20px; margin-bottom: 0px;"><div class="textpic-
 item textpic-text" style="box-sizing: border-box; order: 1; width: 540px; p
 adding-left: 20px; padding-right: 20px;"><p style="box-sizing: border-box; 
 margin-top: 0px; margin-bottom: 1rem;"><span class="text-primary font-weigh
 t-bold" style="box-sizing: border-box; font-weight: 700 !important; color: 
 #158795 !important;">Kurstag:&nbsp;</span>Donnerstag 09:45-10:45</p><p styl
 e="box-sizing: border-box; margin-top: 0px; margin-bottom: 1rem;"><span cla
 ss="text-primary font-weight-bold" style="box-sizing: border-box; font-weig
 ht: 700 !important; color: #158795 !important;">Termine:&nbsp;</span>14.08.
 </p><p style="box-sizing: border-box; margin-top: 0px; margin-bottom: 1rem;
 "><span class="text-primary font-weight-bold" style="box-sizing: border-box
 ; font-weight: 700 !important; color: #158795 !important;">Kosten:&nbsp;</s
 pan>€20,- (1 Einheit)</p><p style="box-sizing: border-box; margin-top: 0px;
  margin-bottom: 1rem;">Du suchst Antwort auf all deine Fragen in Babys erst
 em Lebensjahr und magst andere Mamas kennen lernen und dich mit ihnen austa
 uschen? Dabei willst du hilfreiche Informationen rund um die Entwicklung de
 ines Babys un dentwicklungsgerechte Spielanregungen durch die Jahreszeiten 
 bekommen? Dann bist du im BabySteps Kurs bei Doris genau richtig!</p><p sty
 le="box-sizing: border-box; margin-top: 0px; margin-bottom: 0px;">Am 14.08.
  gibt es eine BabySteps Kennenlernstunde mit Doris bei uns zu buchen!</p></
 div></div></div></div></div><div id="c1357" class="frame frame-default fram
 e-type-form_formframework frame-layout-0 frame-background-none frame-no-bac
 kgroundimage frame-space-before-none frame-space-after-none" style="box-siz
 ing: border-box; position: relative; padding-top: 2.5rem; padding-bottom: 2
 .5rem; margin-top: -2.5rem; margin-bottom: 0rem;"><div class="frame-contain
 er" style="box-sizing: border-box; position: relative; width: 500px; paddin
 g-right: 0px; padding-left: 0px; margin-right: auto; margin-left: auto; max
 -width: 540px; margin-bottom: 0px;"><div class="frame-inner" style="box-siz
 ing: border-box;"><div class="form-container form-identifier-anmeldeformula
 r-1357" style="box-sizing: border-box; margin-bottom: 0px;"><form enctype="
 multipart/form-data" method="post" novalidate="novalidate" id="anmeldeformu
 lar-1357" style="box-sizing: border-box;"><div style="box-sizing: border-bo
 x;">&nbsp;</div><input autocomplete="A5JahM8DjtsByF4" name="tx_form_formfra
 mework[anmeldeformular-1357][A5JahM8DjtsByF4]" type="text" id="anmeldeformu
 lar-1357-A5JahM8DjtsByF4" style="box-sizing: border-box; margin: 0px 0px 0p
 x -999em; font-family: inherit; font-size: inherit; line-height: inherit; o
 verflow: visible; position: absolute;" tabindex="-1" aria-hidden="true" /><
 div class="form-actions" style="box-sizing: border-box; margin-top: 1em;"><
 nav class="form-navigation" style="box-sizing: border-box;"><div class="btn
 -toolbar" style="box-sizing: border-box; display: flex; flex-wrap: wrap; ju
 stify-content: flex-start;" role="toolbar"><div class="btn-group" style="bo
 x-sizing: border-box; position: relative; display: inline-flex; vertical-al
 ign: middle;" role="group"><span class="btn-group next" style="box-sizing: 
 border-box; position: relative; display: inline-flex; vertical-align: middl
 e;"><button name="tx_form_formframework[anmeldeformular-1357][__currentPage
 ]" type="submit" value="1" class="btn btn-primary" style="border-radius: 0.
 25rem; margin: 0px; font-family: inherit; font-size: 1rem; line-height: 1.5
 ; overflow: visible; appearance: button; font-weight: 400; color: #ffffff; 
 vertical-align: middle; user-select: none; background-color: #158795; paddi
 ng: 0.375rem 0.75rem; transition: color 0.15s ease-in-out, background-color
  0.15s ease-in-out, border-color 0.15s ease-in-out, box-shadow 0.15s ease-i
 n-out; cursor: pointer; position: relative; flex: 1 1 auto; border: 1px sol
 id #158795;">Onlineanmeldung</button></span></div></div></nav></div></form>
 </div></div></div></div></div></div></div></div><footer id="page-footer" cl
 ass="bp-page-footer" style="box-sizing: border-box;"><section class="sectio
 n footer-section footer-section-content" style="box-sizing: border-box; ove
 rflow: hidden; color: #ffffff; background-color: #2b2b2b; font-family: Robo
 to; font-size: 16px;"><div class="container" style="box-sizing: border-box;
  width: 540px; padding-right: 20px; padding-left: 20px; margin-right: auto;
  margin-left: auto; max-width: 540px;"><div class="section-row" style="box-
 sizing: border-box; display: flex; flex-wrap: wrap; margin-left: -20px; mar
 gin-right: -20px;"><div class="section-column footer-section-content-column
  footer-section-content-column-left" style="box-sizing: border-box; width: 
 179.995px; padding-left: 20px; padding-right: 20px;">&nbsp;</div><div class
 ="section-column footer-section-content-column footer-section-content-colum
 n-middle" style="box-sizing: border-box; width: 179.995px; padding-left: 20
 px; padding-right: 20px;">&nbsp;</div><div class="section-column footer-sec
 tion-content-column footer-section-content-column-right" style="box-sizing:
  border-box; width: 179.995px; padding-left: 20px; padding-right: 20px;">&n
 bsp;</div></div></div></section><section class="section footer-section foot
 er-section-meta" style="box-sizing: border-box; overflow: hidden; color: #f
 fffff; background-color: #232323; text-align: center; font-family: Roboto; 
 font-size: 16px;"><div class="frame frame-background-none frame-space-befor
 e-none frame-space-after-none" style="box-sizing: border-box; position: rel
 ative; padding-top: 2.5rem; padding-bottom: 2.5rem; margin-top: 0rem; margi
 n-bottom: 0rem;"><div class="frame-container" style="box-sizing: border-box
 ; position: relative; width: 540px; padding-right: 20px; padding-left: 20px
 ; margin-right: auto; margin-left: auto; max-width: 540px; margin-bottom: 0
 px;"><div class="frame-inner" style="box-sizing: border-box;"><div class="f
 ooter-meta" style="box-sizing: border-box; overflow: hidden;">&nbsp;</div><
 /div></div></div></section></footer>
CONTACT:www.spielringel.at
X-EXTRAINFO:[preis='2000'][anmeldung='true']
DTSTAMP:20260426T035654
DTSTART:20250814T074500
DTEND:20250814T084500
SEQUENCE:0
TRANSP:OPAQUE
END:VEVENT
END:VCALENDAR