BEGIN:VCALENDAR
VERSION:2.0
PRODID:-//jEvents 2.0 for Joomla//EN
CALSCALE:GREGORIAN
METHOD:PUBLISH
BEGIN:VEVENT
UID:c647f9b7086c98776ca534041d44c273
CATEGORIES:18. Bezirk
CREATED:20250706T135814
SUMMARY:MiniSigns zum Kennenlernen
LOCATION:Spielringel  Mollgasse  11-13
DESCRIPTION:für Eltern mit Babys und KleinkindernKurstag: Donnerstag 11:00-12:00\nTermi
 ne: 14.08.\nKosten: €20,- (1 Einheit)\nSpielerisch in Austausch mit deinem 
 Baby kommen!Im Kurs erfährst du Interessantes über die kindliche Sprachentw
 icklung und die Verwendung von Gebärden im Alltag. Du erlernst Gebärden, di
 e du mit deinem Kind verwenden kannst un dvor allem hast du ganz viel Spaß 
 und lernst andere Familien kennen!\nDer wichtigste Grundsatz bei MiniSigns 
 ist, dass die Gebärden ohne Erwartung und mit viel Spaß vermittelt werden. 
 \nAm 14.08. gibt es eine MiniSigns Kennenlernstunde bei uns zu buchen!\n On
 lineanmeldung    
X-ALT-DESC;FMTTYPE=text/html:<h4 style="box-sizing: border-box; margin-top: 0px; margin-bottom: 1rem; fo
 nt-family: Montserrat; font-weight: 300; line-height: 1.2; font-size: 1.25r
 em; color: #2b2b2b;">für Eltern mit Babys und Kleinkindern</h4><div id="pag
 e-content" class="bp-page-content main-section" style="box-sizing: border-b
 ox;"><div class="section section-default" style="box-sizing: border-box; ov
 erflow: hidden;"><div class="container" style="box-sizing: border-box; widt
 h: 540px; padding-right: 20px; padding-left: 20px; margin-right: auto; marg
 in-left: auto; max-width: 540px;"><div class="section-row" style="box-sizin
 g: border-box; display: flex; flex-wrap: wrap; margin-left: -20px; margin-r
 ight: -20px;"><div class="frame frame-default frame-type-textpic frame-layo
 ut-0 frame-background-none frame-no-backgroundimage frame-space-before-none
  frame-space-after-none" style="box-sizing: border-box; position: relative;
  padding-top: 2.5rem; padding-bottom: 2.5rem; margin-top: 0rem; margin-bott
 om: 0rem;"><div class="frame-container" style="box-sizing: border-box; posi
 tion: relative; width: 500px; padding-right: 0px; padding-left: 0px; margin
 -right: auto; margin-left: auto; max-width: 540px; margin-bottom: 0px;"><di
 v class="frame-inner" style="box-sizing: border-box;"><div class="textpic t
 extpic-right" style="box-sizing: border-box; display: flex; flex-wrap: wrap
 ; margin-left: -20px; margin-right: -20px; margin-bottom: 0px;"><div class=
 "textpic-item textpic-text" style="box-sizing: border-box; order: 1; width:
  540px; padding-left: 20px; padding-right: 20px;"><p style="box-sizing: bor
 der-box; margin-top: 0px; margin-bottom: 1rem;"><span class="text-primary f
 ont-weight-bold" style="box-sizing: border-box; font-weight: 700 !important
 ; color: #158795 !important;">Kurstag:&nbsp;</span>Donnerstag 11:00-12:00</
 p><p style="box-sizing: border-box; margin-top: 0px; margin-bottom: 1rem;">
 <span class="text-primary font-weight-bold" style="box-sizing: border-box; 
 font-weight: 700 !important; color: #158795 !important;">Termine:&nbsp;</sp
 an>14.08.</p><p style="box-sizing: border-box; margin-top: 0px; margin-bott
 om: 1rem;"><span class="text-primary font-weight-bold" style="box-sizing: b
 order-box; font-weight: 700 !important; color: #158795 !important;">Kosten:
 &nbsp;</span>€20,- (1 Einheit)</p><p style="box-sizing: border-box; margin-
 top: 0px; margin-bottom: 1rem;">Spielerisch in Austausch mit deinem Baby ko
 mmen!<br style="box-sizing: border-box;" />Im Kurs erfährst du Interessante
 s über die kindliche Sprachentwicklung und die Verwendung von Gebärden im A
 lltag. Du erlernst Gebärden, die du mit deinem Kind verwenden kannst un dvo
 r allem hast du ganz viel Spaß und lernst andere Familien kennen!</p><p sty
 le="box-sizing: border-box; margin-top: 0px; margin-bottom: 1rem;">Der wich
 tigste Grundsatz bei MiniSigns ist, dass die Gebärden ohne Erwartung und mi
 t viel Spaß vermittelt werden.&nbsp;</p><p style="box-sizing: border-box; m
 argin-top: 0px; margin-bottom: 0px;">Am 14.08. gibt es eine MiniSigns Kenne
 nlernstunde bei uns zu buchen!</p></div></div></div></div></div><div id="c1
 359" class="frame frame-default frame-type-form_formframework frame-layout-
 0 frame-background-none frame-no-backgroundimage frame-space-before-none fr
 ame-space-after-none" style="box-sizing: border-box; position: relative; pa
 dding-top: 2.5rem; padding-bottom: 2.5rem; margin-top: -2.5rem; margin-bott
 om: 0rem;"><div class="frame-container" style="box-sizing: border-box; posi
 tion: relative; width: 500px; padding-right: 0px; padding-left: 0px; margin
 -right: auto; margin-left: auto; max-width: 540px; margin-bottom: 0px;"><di
 v class="frame-inner" style="box-sizing: border-box;"><div class="form-cont
 ainer form-identifier-anmeldeformular-1359" style="box-sizing: border-box; 
 margin-bottom: 0px;"><form enctype="multipart/form-data" method="post" nova
 lidate="novalidate" id="anmeldeformular-1359" style="box-sizing: border-box
 ;"><div style="box-sizing: border-box;">&nbsp;</div><input autocomplete="zi
 Xopc3ye1k5xIKPBWf2bq0VTZ" name="tx_form_formframework[anmeldeformular-1359]
 [ziXopc3ye1k5xIKPBWf2bq0VTZ]" type="text" id="anmeldeformular-1359-ziXopc3y
 e1k5xIKPBWf2bq0VTZ" style="box-sizing: border-box; margin: 0px 0px 0px -999
 em; font-family: inherit; font-size: inherit; line-height: inherit; overflo
 w: visible; position: absolute;" tabindex="-1" aria-hidden="true" /><div cl
 ass="form-actions" style="box-sizing: border-box; margin-top: 1em;"><nav cl
 ass="form-navigation" style="box-sizing: border-box;"><div class="btn-toolb
 ar" style="box-sizing: border-box; display: flex; flex-wrap: wrap; justify-
 content: flex-start;" role="toolbar"><div class="btn-group" style="box-sizi
 ng: border-box; position: relative; display: inline-flex; vertical-align: m
 iddle;" role="group"><span class="btn-group next" style="box-sizing: border
 -box; position: relative; display: inline-flex; vertical-align: middle;"><b
 utton name="tx_form_formframework[anmeldeformular-1359][__currentPage]" typ
 e="submit" value="1" class="btn btn-primary" style="border-radius: 0.25rem;
  margin: 0px; font-family: inherit; font-size: 1rem; line-height: 1.5; over
 flow: visible; appearance: button; font-weight: 400; color: #ffffff; vertic
 al-align: middle; user-select: none; background-color: #158795; padding: 0.
 375rem 0.75rem; transition: color 0.15s ease-in-out, background-color 0.15s
  ease-in-out, border-color 0.15s ease-in-out, box-shadow 0.15s ease-in-out;
  cursor: pointer; position: relative; flex: 1 1 auto; border: 1px solid #15
 8795;">Onlineanmeldung</button></span></div></div></nav></div></form></div>
 </div></div></div></div></div></div></div><footer id="page-footer" class="b
 p-page-footer" style="box-sizing: border-box;"><section class="section foot
 er-section footer-section-content" style="box-sizing: border-box; overflow:
  hidden; color: #ffffff; background-color: #2b2b2b; font-family: Roboto; fo
 nt-size: 16px;"><div class="container" style="box-sizing: border-box; width
 : 540px; padding-right: 20px; padding-left: 20px; margin-right: auto; margi
 n-left: auto; max-width: 540px;"><div class="section-row" style="box-sizing
 : border-box; display: flex; flex-wrap: wrap; margin-left: -20px; margin-ri
 ght: -20px;"><div class="section-column footer-section-content-column foote
 r-section-content-column-left" style="box-sizing: border-box; width: 179.99
 5px; padding-left: 20px; padding-right: 20px;">&nbsp;</div><div class="sect
 ion-column footer-section-content-column footer-section-content-column-midd
 le" style="box-sizing: border-box; width: 179.995px; padding-left: 20px; pa
 dding-right: 20px;">&nbsp;</div><div class="section-column footer-section-c
 ontent-column footer-section-content-column-right" style="box-sizing: borde
 r-box; width: 179.995px; padding-left: 20px; padding-right: 20px;">&nbsp;</
 div></div></div></section><section class="section footer-section footer-sec
 tion-meta" style="box-sizing: border-box; overflow: hidden; color: #ffffff;
  background-color: #232323; text-align: center; font-family: Roboto; font-s
 ize: 16px;"><div class="frame frame-background-none frame-space-before-none
  frame-space-after-none" style="box-sizing: border-box; position: relative;
  padding-top: 2.5rem; padding-bottom: 2.5rem; margin-top: 0rem; margin-bott
 om: 0rem;"><div class="frame-container" style="box-sizing: border-box; posi
 tion: relative; width: 540px; padding-right: 20px; padding-left: 20px; marg
 in-right: auto; margin-left: auto; max-width: 540px; margin-bottom: 0px;"><
 div class="frame-inner" style="box-sizing: border-box;"><div class="footer-
 meta" style="box-sizing: border-box; overflow: hidden;">&nbsp;</div></div><
 /div></div></section></footer>
CONTACT:www.spielringel.at
X-EXTRAINFO:[preis='2000'][anmeldung='true']
DTSTAMP:20260426T035701
DTSTART:20250814T090000
DTEND:20250814T100000
SEQUENCE:0
TRANSP:OPAQUE
END:VEVENT
END:VCALENDAR