BEGIN:VCALENDAR
VERSION:2.0
PRODID:-//jEvents 2.0 for Joomla//EN
CALSCALE:GREGORIAN
METHOD:PUBLISH
BEGIN:VEVENT
UID:927e5c757371a1e73562ee2f2e23ad24
CATEGORIES:18. Bezirk
CREATED:20250706T140049
SUMMARY:Kunterbunter Bewegungsspaß
LOCATION:Spielringel  Mollgasse  11-13
DESCRIPTION:für Kleinkinder 1-2,5 JahreKurstag: Donnerstag 09:30-10:30\nTermine: 21.08.
 \nKosten: €20,- (eine Einheit)\nEs wird jedes Mal eine bunte Bewegungslands
 chaft aufgebaut, die von den Kleinen gemeinsam mit der Begleitperson erkund
 et werden darf.\nKlettern, Balancieren, Hüpfen, Springen usw. macht allen S
 paß!\n
X-ALT-DESC;FMTTYPE=text/html:<h4 style="box-sizing: border-box; margin-top: 0px; margin-bottom: 1rem; fo
 nt-family: Montserrat; font-weight: 300; line-height: 1.2; font-size: 1.25r
 em; color: #2b2b2b;">für Kleinkinder 1-2,5 Jahre</h4><p style="box-sizing: 
 border-box; margin-top: 0px; margin-bottom: 1rem; color: #2b2b2b; font-fami
 ly: Roboto; font-size: 16px;"><span class="text-primary font-weight-bold" s
 tyle="box-sizing: border-box; font-weight: 700 !important; color: #158795 !
 important;">Kurstag:&nbsp;</span>Donnerstag 09:30-10:30</p><p style="box-si
 zing: border-box; margin-top: 0px; margin-bottom: 1rem; color: #2b2b2b; fon
 t-family: Roboto; font-size: 16px;"><span class="text-primary font-weight-b
 old" style="box-sizing: border-box; font-weight: 700 !important; color: #15
 8795 !important;">Termine:&nbsp;</span>21.08.</p><p style="box-sizing: bord
 er-box; margin-top: 0px; margin-bottom: 1rem; color: #2b2b2b; font-family: 
 Roboto; font-size: 16px;"><span class="text-primary font-weight-bold" style
 ="box-sizing: border-box; font-weight: 700 !important; color: #158795 !impo
 rtant;">Kosten:&nbsp;</span>€20,- (eine Einheit)</p><p style="box-sizing: b
 order-box; margin-top: 0px; margin-bottom: 1rem; color: #2b2b2b; font-famil
 y: Roboto; font-size: 16px;">Es wird jedes Mal eine bunte Bewegungslandscha
 ft aufgebaut, die von den Kleinen gemeinsam mit der Begleitperson erkundet 
 werden darf.</p><p style="box-sizing: border-box; margin-top: 0px; margin-b
 ottom: 1rem; color: #2b2b2b; font-family: Roboto; font-size: 16px;">Kletter
 n, Balancieren, Hüpfen, Springen usw. macht allen Spaß!</p>
CONTACT:www.spielringel.at
X-EXTRAINFO:[preis='2000'][anmeldung='true']
DTSTAMP:20260426T033451
DTSTART:20250821T073000
DTEND:20250821T083000
SEQUENCE:0
TRANSP:OPAQUE
END:VEVENT
END:VCALENDAR