BEGIN:VCALENDAR
VERSION:2.0
PRODID:-//jEvents 2.0 for Joomla//EN
CALSCALE:GREGORIAN
METHOD:PUBLISH
BEGIN:VEVENT
UID:53682121338b83c51a6f2d519b2b76f0
CATEGORIES:18. Bezirk
CREATED:20250706T140211
SUMMARY:Kunterbunter Bewegungsspaß für große Kleine
LOCATION:Spielringel  Mollgasse  11-13
DESCRIPTION:für Kinder 2-4 JahreKurstag: Donnerstag 11:00-12:00\nTermine: 10.07./ 21.08
 .\nKosten: €20,- (eine Einheit)\nEs wird jedes Mal eine bunte Bewegungsland
 schaft aufgebaut, die von den Kleinen gemeinsam mit der Begleitperson erkun
 det werden darf.\nKlettern, Balancieren, Hüpfen, Springen usw. macht allen 
 Spaß!\n
X-ALT-DESC;FMTTYPE=text/html:<h4 style="box-sizing: border-box; margin-top: 0px; margin-bottom: 1rem; fo
 nt-family: Montserrat; font-weight: 300; line-height: 1.2; font-size: 1.25r
 em; color: #2b2b2b;">für Kinder 2-4 Jahre</h4><p style="box-sizing: border-
 box; margin-top: 0px; margin-bottom: 1rem; color: #2b2b2b; font-family: Rob
 oto; font-size: 16px;"><span class="text-primary font-weight-bold" style="b
 ox-sizing: border-box; font-weight: 700 !important; color: #158795 !importa
 nt;">Kurstag:&nbsp;</span>Donnerstag 11:00-12:00</p><p style="box-sizing: b
 order-box; margin-top: 0px; margin-bottom: 1rem; color: #2b2b2b; font-famil
 y: Roboto; font-size: 16px;"><span class="text-primary font-weight-bold" st
 yle="box-sizing: border-box; font-weight: 700 !important; color: #158795 !i
 mportant;">Termine:&nbsp;</span>10.07./ 21.08.</p><p style="box-sizing: bor
 der-box; margin-top: 0px; margin-bottom: 1rem; color: #2b2b2b; font-family:
  Roboto; font-size: 16px;"><span class="text-primary font-weight-bold" styl
 e="box-sizing: border-box; font-weight: 700 !important; color: #158795 !imp
 ortant;">Kosten:&nbsp;</span>€20,- (eine Einheit)</p><p style="box-sizing: 
 border-box; margin-top: 0px; margin-bottom: 1rem; color: #2b2b2b; font-fami
 ly: Roboto; font-size: 16px;">Es wird jedes Mal eine bunte Bewegungslandsch
 aft aufgebaut, die von den Kleinen gemeinsam mit der Begleitperson erkundet
  werden darf.</p><p style="box-sizing: border-box; margin-top: 0px; margin-
 bottom: 1rem; color: #2b2b2b; font-family: Roboto; font-size: 16px;">Klette
 rn, Balancieren, Hüpfen, Springen usw. macht allen Spaß!</p>
CONTACT:www.spielringel.at
X-EXTRAINFO:[preis='2000'][anmeldung='true']
DTSTAMP:20260426T022234
DTSTART:20250821T090000
DTEND:20250821T100000
SEQUENCE:0
TRANSP:OPAQUE
END:VEVENT
END:VCALENDAR