BEGIN:VCALENDAR
VERSION:2.0
PRODID:-//jEvents 2.0 for Joomla//EN
CALSCALE:GREGORIAN
METHOD:PUBLISH
BEGIN:VEVENT
UID:b928df1a28d4b68e7f2ee9a02ce098e5
CATEGORIES:18. Bezirk
CREATED:19700101T010000
SUMMARY:Spielend durch den Sommer am Montag
LOCATION:Spielringel  Mollgasse  11-13
DESCRIPTION:<h4 style="box-sizing: border-box; margin-top: 0px; margin-bottom: 1rem; fo
 nt-family: Montserrat; font-weight: 300; line-height: 1.2; font-size: 1.25r
 em; color: #2b2b2b;">für Kinder von 1-3 Jahren</h4><p style="box-sizing: bo
 rder-box; margin-top: 0px; margin-bottom: 1rem; color: #2b2b2b; font-family
 : Roboto; font-size: 16px;"><span class="text-primary font-weight-bold" sty
 le="box-sizing: border-box; font-weight: 700 !important; color: #158795 !im
 portant;">Kurstag:&nbsp;</span>Montag 11:15-12:15</p><p style="box-sizing: 
 border-box; margin-top: 0px; margin-bottom: 1rem; color: #2b2b2b; font-fami
 ly: Roboto; font-size: 16px;"><span class="text-primary font-weight-bold" s
 tyle="box-sizing: border-box; font-weight: 700 !important; color: #158795 !
 important;">Termine:&nbsp;</span>18.08./ 25.08.</p><p style="box-sizing: bo
 rder-box; margin-top: 0px; margin-bottom: 1rem; color: #2b2b2b; font-family
 : Roboto; font-size: 16px;"><span class="text-primary font-weight-bold" sty
 le="box-sizing: border-box; font-weight: 700 !important; color: #158795 !im
 portant;">Kosten:&nbsp;</span>€20,- pro Kind mit Begleitperson für einen Te
 rmin</p><p style="box-sizing: border-box; margin-top: 0px; margin-bottom: 1
 rem; color: #2b2b2b; font-family: Roboto; font-size: 16px;">Wir spielen und
  basteln passend zum Sommer!</p><p style="box-sizing: border-box; margin-to
 p: 0px; margin-bottom: 1rem; color: #2b2b2b; font-family: Roboto; font-size
 : 16px;">Hier werden wir gemeinsam den Sommer mit allen Sinnen erleben. Es 
 wird der Jahreszeit entsprechend gebastelt, gewerkt, entdeckt und gespielt.
  Natürlich bleibt auch genug Zeit und Raum für soziale Interaktionen und Be
 wegungen.</p><p style="box-sizing: border-box; margin-top: 0px; margin-bott
 om: 1rem; color: #2b2b2b; font-family: Roboto; font-size: 16px;"><br style=
 "box-sizing: border-box;" /><span style="box-sizing: border-box; font-weigh
 t: bolder;">Alle Termine sind einzeln buchbar.</span></p>
CONTACT:www.spielringel.at
X-EXTRAINFO:[preis='2000'][anmeldung='true']
DTSTAMP:20260426T005722
DTSTART:20250818T091500
DTEND:20250818T101500
SEQUENCE:0
RRULE:FREQ=WEEKLY;UNTIL=20250827T000000Z;INTERVAL=1;BYDAY=MO
TRANSP:OPAQUE
END:VEVENT
END:VCALENDAR