BEGIN:VCALENDAR
VERSION:2.0
PRODID:-//jEvents 2.0 for Joomla//EN
CALSCALE:GREGORIAN
METHOD:PUBLISH
BEGIN:VEVENT
UID:efafb9eb8b89f5ff8c486f6f946ce1db
CATEGORIES:18. Bezirk
CREATED:20250706T141246
SUMMARY:MusikZwerge in Bewegung mini
LOCATION:Spielringel  Mollgasse  11-13
DESCRIPTION:für Krabbelkinder (ca. 6–14 Monate)Kurstag: Montag 09:30-10:15\nTermine: 18
 .08.\nKosten: €20,- (für einen Termin)\nMusikZwerge in Bewegung ist eine li
 ebevoll gestaltete Kursreihe für Babys und Kleinkinder, die auf spielerisch
 e Weise die Welt der Musik, Bewegung und Körperwahrnehmung entdecken. In ei
 ner geschützten und fröhlichen Atmosphäre fördern wir mit Liedern, Tänzen u
 nd einfachen Instrumenten die ganzheitliche Entwicklung deines Kindes – und
  schaffen zugleich wertvolle gemeinsame Momente.\nMusikZwerge mini – für Kr
 abbelkinder (ca. 6–14 Monate) In dieser Gruppe stehen sanfte Bewegungsimpul
 se, Kniereiter, Fingerspiele und einfache Klanginstrumente im Vordergrund. 
 Dein Kind erlebt Musik mit dem ganzen Körper, wird zum Mitmachen angeregt u
 nd fördert dabei seine Wahrnehmung, Koordination und Bindung zu dir.\n
X-ALT-DESC;FMTTYPE=text/html:<h4 style="box-sizing: border-box; margin-top: 0px; margin-bottom: 1rem; fo
 nt-family: Montserrat; font-weight: 300; line-height: 1.2; font-size: 1.25r
 em; color: #2b2b2b;">für Krabbelkinder (ca. 6–14 Monate)</h4><p style="box-
 sizing: border-box; margin-top: 0px; margin-bottom: 1rem; color: #2b2b2b; f
 ont-family: Roboto; font-size: 16px;"><span class="text-primary font-weight
 -bold" style="box-sizing: border-box; font-weight: 700 !important; color: #
 158795 !important;">Kurstag:&nbsp;</span>Montag 09:30-10:15</p><p style="bo
 x-sizing: border-box; margin-top: 0px; margin-bottom: 1rem; color: #2b2b2b;
  font-family: Roboto; font-size: 16px;"><span class="text-primary font-weig
 ht-bold" style="box-sizing: border-box; font-weight: 700 !important; color:
  #158795 !important;">Termine:&nbsp;</span>18.08.</p><p style="box-sizing: 
 border-box; margin-top: 0px; margin-bottom: 1rem; color: #2b2b2b; font-fami
 ly: Roboto; font-size: 16px;"><span class="text-primary font-weight-bold" s
 tyle="box-sizing: border-box; font-weight: 700 !important; color: #158795 !
 important;">Kosten:&nbsp;</span>€20,- (für einen Termin)</p><p style="box-s
 izing: border-box; margin-top: 0px; margin-bottom: 1rem; color: #2b2b2b; fo
 nt-family: Roboto; font-size: 16px;"><span style="box-sizing: border-box; f
 ont-weight: bolder;">MusikZwerge in Bewegung</span>&nbsp;ist eine liebevoll
  gestaltete Kursreihe für Babys und Kleinkinder, die auf spielerische Weise
  die Welt der Musik, Bewegung und Körperwahrnehmung entdecken. In einer ges
 chützten und fröhlichen Atmosphäre fördern wir mit Liedern, Tänzen und einf
 achen Instrumenten die ganzheitliche Entwicklung deines Kindes – und schaff
 en zugleich wertvolle gemeinsame Momente.</p><p style="box-sizing: border-b
 ox; margin-top: 0px; margin-bottom: 0px; color: #2b2b2b; font-family: Robot
 o; font-size: 16px;"><span style="box-sizing: border-box; font-weight: bold
 er;">MusikZwerge mini – für Krabbelkinder</span>&nbsp;(ca. 6–14 Monate) In 
 dieser Gruppe stehen sanfte Bewegungsimpulse, Kniereiter, Fingerspiele und 
 einfache Klanginstrumente im Vordergrund. Dein Kind erlebt Musik mit dem ga
 nzen Körper, wird zum Mitmachen angeregt und fördert dabei seine Wahrnehmun
 g, Koordination und Bindung zu dir.</p>
CONTACT:www.spielringel.at
X-EXTRAINFO:[preis='2000'][anmeldung='true']
DTSTAMP:20260426T035658
DTSTART:20250818T120000
DTEND:20250818T124500
SEQUENCE:0
TRANSP:OPAQUE
END:VEVENT
END:VCALENDAR