BEGIN:VCALENDAR
VERSION:2.0
PRODID:-//jEvents 2.0 for Joomla//EN
CALSCALE:GREGORIAN
METHOD:PUBLISH
BEGIN:VEVENT
UID:04b2017e81e117803b00611a0847779f
CATEGORIES:18. Bezirk
CREATED:20250706T141453
SUMMARY:MusikZwerge in Bewegung maxi
LOCATION:Spielringel  Mollgasse  11-13
DESCRIPTION:für Laufanfänger:innen &amp; kleine Tänzer:innen (ca. 14–30 Monate)Kurstag:
  Montag 15:00-15:45\nTermine: 18.08.\nKosten: €20,- (für einen Termin)\nMus
 ikZwerge in Bewegung ist eine liebevoll gestaltete Kursreihe für Babys und 
 Kleinkinder, die auf spielerische Weise die Welt der Musik, Bewegung und Kö
 rperwahrnehmung entdecken. In einer geschützten und fröhlichen Atmosphäre f
 ördern wir mit Liedern, Tänzen und einfachen Instrumenten die ganzheitliche
  Entwicklung deines Kindes – und schaffen zugleich wertvolle gemeinsame Mom
 ente.\nMusikZwerge maxi – für Laufanfänger:innen  &amp; kleine Tänzer:innen
  (ca. 14–30 Monate) Sobald die ersten Schritte sicher sind, wird die Welt n
 och spannender! In diesem Kurs wird getanzt, gehüpft, geklatscht und gespie
 lt. Mit altersgerechten Bewegungsliedern, kleinen Tänzen und phantasievolle
 n Spielen regen wir nicht nur die Motorik an, sondern auch Kreativität, Spr
 ache und soziales Miteinander.\n Onlineanmeldung    
X-ALT-DESC;FMTTYPE=text/html:<h4 style="box-sizing: border-box; margin-top: 0px; margin-bottom: 1rem; fo
 nt-family: Montserrat; font-weight: 300; line-height: 1.2; font-size: 1.25r
 em; color: #2b2b2b;">für Laufanfänger:innen &amp; kleine Tänzer:innen (ca. 
 14–30 Monate)</h4><div id="page-content" class="bp-page-content main-sectio
 n" style="box-sizing: border-box;"><div class="section section-default" sty
 le="box-sizing: border-box; overflow: hidden;"><div class="container" style
 ="box-sizing: border-box; width: 540px; padding-right: 20px; padding-left: 
 20px; margin-right: auto; margin-left: auto; max-width: 540px;"><div class=
 "section-row" style="box-sizing: border-box; display: flex; flex-wrap: wrap
 ; margin-left: -20px; margin-right: -20px;"><div class="frame frame-default
  frame-type-textpic frame-layout-0 frame-background-none frame-no-backgroun
 dimage frame-space-before-none frame-space-after-none" style="box-sizing: b
 order-box; position: relative; padding-top: 2.5rem; padding-bottom: 2.5rem;
  margin-top: 0rem; margin-bottom: 0rem;"><div class="frame-container" style
 ="box-sizing: border-box; position: relative; width: 500px; padding-right: 
 0px; padding-left: 0px; margin-right: auto; margin-left: auto; max-width: 5
 40px; margin-bottom: 0px;"><div class="frame-inner" style="box-sizing: bord
 er-box;"><div class="textpic textpic-right" style="box-sizing: border-box; 
 display: flex; flex-wrap: wrap; margin-left: -20px; margin-right: -20px; ma
 rgin-bottom: 0px;"><div class="textpic-item textpic-text" style="box-sizing
 : border-box; order: 1; width: 540px; padding-left: 20px; padding-right: 20
 px;"><p style="box-sizing: border-box; margin-top: 0px; margin-bottom: 1rem
 ;"><span class="text-primary font-weight-bold" style="box-sizing: border-bo
 x; font-weight: 700 !important; color: #158795 !important;">Kurstag:&nbsp;<
 /span>Montag 15:00-15:45</p><p style="box-sizing: border-box; margin-top: 0
 px; margin-bottom: 1rem;"><span class="text-primary font-weight-bold" style
 ="box-sizing: border-box; font-weight: 700 !important; color: #158795 !impo
 rtant;">Termine:&nbsp;</span>18.08.</p><p style="box-sizing: border-box; ma
 rgin-top: 0px; margin-bottom: 1rem;"><span class="text-primary font-weight-
 bold" style="box-sizing: border-box; font-weight: 700 !important; color: #1
 58795 !important;">Kosten:&nbsp;</span>€20,- (für einen Termin)</p><p style
 ="box-sizing: border-box; margin-top: 0px; margin-bottom: 1rem;"><span styl
 e="box-sizing: border-box; font-weight: bolder;">MusikZwerge in Bewegung</s
 pan>&nbsp;ist eine liebevoll gestaltete Kursreihe für Babys und Kleinkinder
 , die auf spielerische Weise die Welt der Musik, Bewegung und Körperwahrneh
 mung entdecken. In einer geschützten und fröhlichen Atmosphäre fördern wir 
 mit Liedern, Tänzen und einfachen Instrumenten die ganzheitliche Entwicklun
 g deines Kindes – und schaffen zugleich wertvolle gemeinsame Momente.</p><p
  style="box-sizing: border-box; margin-top: 0px; margin-bottom: 0px;"><span
  style="box-sizing: border-box; font-weight: bolder;">MusikZwerge maxi – fü
 r Laufanfänger:innen &nbsp;&amp; kleine Tänzer:innen&nbsp;</span>(ca. 14–30
  Monate) Sobald die ersten Schritte sicher sind, wird die Welt noch spannen
 der! In diesem Kurs wird getanzt, gehüpft, geklatscht und gespielt. Mit alt
 ersgerechten Bewegungsliedern, kleinen Tänzen und phantasievollen Spielen r
 egen wir nicht nur die Motorik an, sondern auch Kreativität, Sprache und so
 ziales Miteinander.</p></div></div></div></div></div><div id="c1381" class=
 "frame frame-default frame-type-form_formframework frame-layout-0 frame-bac
 kground-none frame-no-backgroundimage frame-space-before-none frame-space-a
 fter-none" style="box-sizing: border-box; position: relative; padding-top: 
 2.5rem; padding-bottom: 2.5rem; margin-top: -2.5rem; margin-bottom: 0rem;">
 <div class="frame-container" style="box-sizing: border-box; position: relat
 ive; width: 500px; padding-right: 0px; padding-left: 0px; margin-right: aut
 o; margin-left: auto; max-width: 540px; margin-bottom: 0px;"><div class="fr
 ame-inner" style="box-sizing: border-box;"><div class="form-container form-
 identifier-anmeldeformular-1381" style="box-sizing: border-box; margin-bott
 om: 0px;"><form enctype="multipart/form-data" method="post" novalidate="nov
 alidate" id="anmeldeformular-1381" style="box-sizing: border-box;"><div sty
 le="box-sizing: border-box;">&nbsp;</div><input autocomplete="4R6nPrelJuhvU
 N0Y" name="tx_form_formframework[anmeldeformular-1381][4R6nPrelJuhvUN0Y]" t
 ype="text" id="anmeldeformular-1381-4R6nPrelJuhvUN0Y" style="box-sizing: bo
 rder-box; margin: 0px 0px 0px -999em; font-family: inherit; font-size: inhe
 rit; line-height: inherit; overflow: visible; position: absolute;" tabindex
 ="-1" aria-hidden="true" /><div class="form-actions" style="box-sizing: bor
 der-box; margin-top: 1em;"><nav class="form-navigation" style="box-sizing: 
 border-box;"><div class="btn-toolbar" style="box-sizing: border-box; displa
 y: flex; flex-wrap: wrap; justify-content: flex-start;" role="toolbar"><div
  class="btn-group" style="box-sizing: border-box; position: relative; displ
 ay: inline-flex; vertical-align: middle;" role="group"><span class="btn-gro
 up next" style="box-sizing: border-box; position: relative; display: inline
 -flex; vertical-align: middle;"><button name="tx_form_formframework[anmelde
 formular-1381][__currentPage]" type="submit" value="1" class="btn btn-prima
 ry" style="border-radius: 0.25rem; margin: 0px; font-family: inherit; font-
 size: 1rem; line-height: 1.5; overflow: visible; appearance: button; font-w
 eight: 400; color: #ffffff; vertical-align: middle; user-select: none; back
 ground-color: #158795; padding: 0.375rem 0.75rem; transition: color 0.15s e
 ase-in-out, background-color 0.15s ease-in-out, border-color 0.15s ease-in-
 out, box-shadow 0.15s ease-in-out; cursor: pointer; position: relative; fle
 x: 1 1 auto; border: 1px solid #158795;">Onlineanmeldung</button></span></d
 iv></div></nav></div></form></div></div></div></div></div></div></div></div
 ><footer id="page-footer" class="bp-page-footer" style="box-sizing: border-
 box;"><section class="section footer-section footer-section-content" style=
 "box-sizing: border-box; overflow: hidden; color: #ffffff; background-color
 : #2b2b2b; font-family: Roboto; font-size: 16px;"><div class="container" st
 yle="box-sizing: border-box; width: 540px; padding-right: 20px; padding-lef
 t: 20px; margin-right: auto; margin-left: auto; max-width: 540px;"><div cla
 ss="section-row" style="box-sizing: border-box; display: flex; flex-wrap: w
 rap; margin-left: -20px; margin-right: -20px;"><div class="section-column f
 ooter-section-content-column footer-section-content-column-left" style="box
 -sizing: border-box; width: 179.995px; padding-left: 20px; padding-right: 2
 0px;">&nbsp;</div><div class="section-column footer-section-content-column 
 footer-section-content-column-middle" style="box-sizing: border-box; width:
  179.995px; padding-left: 20px; padding-right: 20px;">&nbsp;</div><div clas
 s="section-column footer-section-content-column footer-section-content-colu
 mn-right" style="box-sizing: border-box; width: 179.995px; padding-left: 20
 px; padding-right: 20px;">&nbsp;</div></div></div></section><section class=
 "section footer-section footer-section-meta" style="box-sizing: border-box;
  overflow: hidden; color: #ffffff; background-color: #232323; text-align: c
 enter; font-family: Roboto; font-size: 16px;"><div class="frame frame-backg
 round-none frame-space-before-none frame-space-after-none" style="box-sizin
 g: border-box; position: relative; padding-top: 2.5rem; padding-bottom: 2.5
 rem; margin-top: 0rem; margin-bottom: 0rem;"><div class="frame-container" s
 tyle="box-sizing: border-box; position: relative; width: 540px; padding-rig
 ht: 20px; padding-left: 20px; margin-right: auto; margin-left: auto; max-wi
 dth: 540px; margin-bottom: 0px;"><div class="frame-inner" style="box-sizing
 : border-box;"><div class="footer-meta" style="box-sizing: border-box; over
 flow: hidden;">&nbsp;</div></div></div></div></section></footer>
CONTACT:www.spielringel.at
X-EXTRAINFO:[preis='2000'][anmeldung='true']
DTSTAMP:20260426T035657
DTSTART:20250818T130000
DTEND:20250818T134500
SEQUENCE:0
TRANSP:OPAQUE
END:VEVENT
END:VCALENDAR