BEGIN:VCALENDAR
VERSION:2.0
PRODID:-//jEvents 2.0 for Joomla//EN
CALSCALE:GREGORIAN
METHOD:PUBLISH
BEGIN:VEVENT
UID:fb39e2f5e175f634776fa4e2da0a7b81
CATEGORIES:18. Bezirk
CREATED:19700101T010000
SUMMARY:Spiel & Spaß im Sommer
LOCATION:Spielringel  Mollgasse  11-13
DESCRIPTION:für Babys und Kleinkinder 8 Monate - 2 JahreKurstag: Dienstag 09:30-10:30\n
 Termine: 19.08./ 26.08.\nKosten: €20,- (für eine Einheit)\nIm Sommer gibt e
 s Einzeleinheiten von unserer Spiel &amp; Spaß Gruppe zu buchen.\nDas freie
  Spiel steht im Vordergrund. Nebenbei werden motorische Fähigkeiten geschul
 t, alle Sinne gefördert und erste soziale Kontakte zu Gleichaltrigen gemach
 t.\nAuch die "Großen" können Erfahrungen austauschen und neue Kontakte knüp
 fen.\n
X-ALT-DESC;FMTTYPE=text/html:<h4 style="box-sizing: border-box; margin-top: 0px; margin-bottom: 1rem; fo
 nt-family: Montserrat; font-weight: 300; line-height: 1.2; font-size: 1.25r
 em; color: #2b2b2b;">für Babys und Kleinkinder 8 Monate - 2 Jahre</h4><p st
 yle="box-sizing: border-box; margin-top: 0px; margin-bottom: 1rem; color: #
 2b2b2b; font-family: Roboto; font-size: 16px;"><span class="text-primary fo
 nt-weight-bold" style="box-sizing: border-box; font-weight: 700 !important;
  color: #158795 !important;">Kurstag:&nbsp;</span>Dienstag 09:30-10:30</p><
 p style="box-sizing: border-box; margin-top: 0px; margin-bottom: 1rem; colo
 r: #2b2b2b; font-family: Roboto; font-size: 16px;"><span class="text-primar
 y font-weight-bold" style="box-sizing: border-box; font-weight: 700 !import
 ant; color: #158795 !important;">Termine:</span>&nbsp;19.08./ 26.08.</p><p 
 style="box-sizing: border-box; margin-top: 0px; margin-bottom: 1rem; color:
  #2b2b2b; font-family: Roboto; font-size: 16px;"><span class="text-primary 
 font-weight-bold" style="box-sizing: border-box; font-weight: 700 !importan
 t; color: #158795 !important;">Kosten:&nbsp;</span>€20,- (für eine Einheit)
 </p><p style="box-sizing: border-box; margin-top: 0px; margin-bottom: 1rem;
  color: #2b2b2b; font-family: Roboto; font-size: 16px;">Im Sommer gibt es E
 inzeleinheiten von unserer Spiel &amp; Spaß Gruppe zu buchen.</p><p style="
 box-sizing: border-box; margin-top: 0px; margin-bottom: 1rem; color: #2b2b2
 b; font-family: Roboto; font-size: 16px;">Das freie Spiel steht im Vordergr
 und. Nebenbei werden motorische Fähigkeiten geschult, alle Sinne gefördert 
 und erste soziale Kontakte zu Gleichaltrigen gemacht.</p><p style="box-sizi
 ng: border-box; margin-top: 0px; margin-bottom: 1rem; color: #2b2b2b; font-
 family: Roboto; font-size: 16px;">Auch die "Großen" können Erfahrungen aust
 auschen und neue Kontakte knüpfen.</p>
CONTACT:www.spielringel.at
X-EXTRAINFO:[preis='2000'][anmeldung='true']
DTSTAMP:20260426T035658
DTSTART:20250819T073000
DTEND:20250819T083000
SEQUENCE:0
RRULE:FREQ=WEEKLY;UNTIL=20250828T000000Z;INTERVAL=1;BYDAY=TU
TRANSP:OPAQUE
END:VEVENT
END:VCALENDAR