BEGIN:VCALENDAR
VERSION:2.0
PRODID:-//jEvents 2.0 for Joomla//EN
CALSCALE:GREGORIAN
METHOD:PUBLISH
BEGIN:VEVENT
UID:c909677c3e8d42b989e65b78e58ad5fe
CATEGORIES:18. Bezirk
CREATED:20250706T142100
SUMMARY:Spielend durch den Sommer am Freitag
LOCATION:Spielringel  Mollgasse  11-13
DESCRIPTION:für Kinder von 1-3 JahrenKurstag: Freitag 09:30-10:30\nTermine: 22.08.\nKos
 ten: €20,- pro Kind mit Begleitperson für einen Termin\nWir spielen und bas
 teln passend zum Sommer!\nHier werden wir gemeinsam den Sommer mit allen Si
 nnen erleben. Es wird der Jahreszeit entsprechend gebastelt, gewerkt, entde
 ckt und gespielt. Natürlich bleibt auch genug Zeit und Raum für soziale Int
 eraktionen und Bewegungen.\n\n\n
X-ALT-DESC;FMTTYPE=text/html:<h4 style="box-sizing: border-box; margin-top: 0px; margin-bottom: 1rem; fo
 nt-family: Montserrat; font-weight: 300; line-height: 1.2; font-size: 1.25r
 em; color: #2b2b2b;">für Kinder von 1-3 Jahren</h4><p style="box-sizing: bo
 rder-box; margin-top: 0px; margin-bottom: 1rem; color: #2b2b2b; font-family
 : Roboto; font-size: 16px;"><span class="text-primary font-weight-bold" sty
 le="box-sizing: border-box; font-weight: 700 !important; color: #158795 !im
 portant;">Kurstag:&nbsp;</span>Freitag 09:30-10:30</p><p style="box-sizing:
  border-box; margin-top: 0px; margin-bottom: 1rem; color: #2b2b2b; font-fam
 ily: Roboto; font-size: 16px;"><span class="text-primary font-weight-bold" 
 style="box-sizing: border-box; font-weight: 700 !important; color: #158795 
 !important;">Termine:&nbsp;2</span>2.08.</p><p style="box-sizing: border-bo
 x; margin-top: 0px; margin-bottom: 1rem; color: #2b2b2b; font-family: Robot
 o; font-size: 16px;"><span class="text-primary font-weight-bold" style="box
 -sizing: border-box; font-weight: 700 !important; color: #158795 !important
 ;">Kosten:&nbsp;</span>€20,- pro Kind mit Begleitperson für einen Termin</p
 ><p style="box-sizing: border-box; margin-top: 0px; margin-bottom: 1rem; co
 lor: #2b2b2b; font-family: Roboto; font-size: 16px;">Wir spielen und bastel
 n passend zum Sommer!</p><p style="box-sizing: border-box; margin-top: 0px;
  margin-bottom: 1rem; color: #2b2b2b; font-family: Roboto; font-size: 16px;
 ">Hier werden wir gemeinsam den Sommer mit allen Sinnen erleben. Es wird de
 r Jahreszeit entsprechend gebastelt, gewerkt, entdeckt und gespielt. Natürl
 ich bleibt auch genug Zeit und Raum für soziale Interaktionen und Bewegunge
 n.</p><p style="box-sizing: border-box; margin-top: 0px; margin-bottom: 1re
 m; color: #2b2b2b; font-family: Roboto; font-size: 16px;"><br style="box-si
 zing: border-box;" /><br /></p>
CONTACT:www.spielringel.at
X-EXTRAINFO:[preis='2000'][anmeldung='true']
DTSTAMP:20260426T035655
DTSTART:20250822T073000
DTEND:20250822T083000
SEQUENCE:0
TRANSP:OPAQUE
END:VEVENT
END:VCALENDAR