BEGIN:VCALENDAR
VERSION:2.0
PRODID:-//jEvents 2.0 for Joomla//EN
CALSCALE:GREGORIAN
METHOD:PUBLISH
BEGIN:VEVENT
UID:61bbeb2cad9817711dffb8541e4a0e4a
CATEGORIES:18. Bezirk
CREATED:20250706T142218
SUMMARY:Mit allen Sinnen am Freitag
LOCATION:Spielringel  Mollgasse  11-13
DESCRIPTION:Sinneserlebnis für Kinder ab dem Krabbelalter bis 3 JahrenKurstag: Freitag 
 11:15-12:15\nTermine: 22.08.\nKosten: €20,- pro Kind mit Begleitperson für 
 einen Termin\nDie Kinder können nach Herzenslust mit verschiedenen Material
 ien (wie zum Beispiel Reis, Wasser, selbstgemachten Fingerfarben und Schlei
 m) matschen, gatschen, schütten, spielen und experimentieren. Dabei werden 
 ihre sensomotorischen Fähigkeiten und ihre Kreativität gefördert. Die Elter
 n haben die Möglichkeit, ihre Kinder in dieser Entdeckungsreise zu begleite
 n und zu unterstützen.\nBitte denkt daran, ein Outfit zu wählen, das schmut
 zig werden darf, und bringt ein Wechselgewand mit! \n
X-ALT-DESC;FMTTYPE=text/html:<h4 style="box-sizing: border-box; margin-top: 0px; margin-bottom: 1rem; fo
 nt-family: Montserrat; font-weight: 300; line-height: 1.2; font-size: 1.25r
 em; color: #2b2b2b;">Sinneserlebnis für Kinder ab dem Krabbelalter bis 3 Ja
 hren</h4><p style="box-sizing: border-box; margin-top: 0px; margin-bottom: 
 1rem; color: #2b2b2b; font-family: Roboto; font-size: 16px;"><span class="t
 ext-primary font-weight-bold" style="box-sizing: border-box; font-weight: 7
 00 !important; color: #158795 !important;">Kurstag:&nbsp;</span>Freitag 11:
 15-12:15</p><p style="box-sizing: border-box; margin-top: 0px; margin-botto
 m: 1rem; color: #2b2b2b; font-family: Roboto; font-size: 16px;"><span class
 ="text-primary font-weight-bold" style="box-sizing: border-box; font-weight
 : 700 !important; color: #158795 !important;">Termine:&nbsp;</span>22.08.</
 p><p style="box-sizing: border-box; margin-top: 0px; margin-bottom: 1rem; c
 olor: #2b2b2b; font-family: Roboto; font-size: 16px;"><span class="text-pri
 mary font-weight-bold" style="box-sizing: border-box; font-weight: 700 !imp
 ortant; color: #158795 !important;">Kosten:&nbsp;</span>€20,- pro Kind mit 
 Begleitperson für einen Termin</p><p style="box-sizing: border-box; margin-
 top: 0px; margin-bottom: 1rem; color: #2b2b2b; font-family: Roboto; font-si
 ze: 16px;">Die Kinder können nach Herzenslust mit verschiedenen Materialien
  (wie zum Beispiel Reis, Wasser, selbstgemachten Fingerfarben und Schleim) 
 matschen, gatschen, schütten, spielen und experimentieren. Dabei werden ihr
 e sensomotorischen Fähigkeiten und ihre Kreativität gefördert. Die Eltern h
 aben die Möglichkeit, ihre Kinder in dieser Entdeckungsreise zu begleiten u
 nd zu unterstützen.</p><p style="box-sizing: border-box; margin-top: 0px; m
 argin-bottom: 1rem; color: #2b2b2b; font-family: Roboto; font-size: 16px;">
 Bitte denkt daran, ein Outfit zu wählen, das schmutzig werden darf, und bri
 ngt ein Wechselgewand mit!&nbsp;</p>
CONTACT:www.spielringel.at
X-EXTRAINFO:[preis='2000'][anmeldung='true']
DTSTAMP:20260426T005414
DTSTART:20250822T091500
DTEND:20250822T101500
SEQUENCE:0
TRANSP:OPAQUE
END:VEVENT
END:VCALENDAR