BEGIN:VCALENDAR
VERSION:2.0
PRODID:-//jEvents 2.0 for Joomla//EN
CALSCALE:GREGORIAN
METHOD:PUBLISH
BEGIN:VEVENT
UID:7945ad492824694d4119bfba9875c97a
CATEGORIES:18. Bezirk
CREATED:20250706T142353
SUMMARY:Kreative Freude im Sommer
LOCATION:Spielringel  Mollgasse  11-13
DESCRIPTION:<h4 style="box-sizing: border-box; margin-top: 0px; margin-bottom: 1rem; fo
 nt-family: Montserrat; font-weight: 300; line-height: 1.2; font-size: 1.25r
 em; color: #2b2b2b;">Bastelworkshop für Kinder ab 2 Jahren (mit Begleitung)
 </h4><p style="box-sizing: border-box; margin-top: 0px; margin-bottom: 1rem
 ; color: #2b2b2b; font-family: Roboto; font-size: 16px;"><span class="text-
 primary font-weight-bold" style="box-sizing: border-box; font-weight: 700 !
 important; color: #158795 !important;">Kurstag:&nbsp;</span>Freitag 15:00-1
 6:30</p><p style="box-sizing: border-box; margin-top: 0px; margin-bottom: 1
 rem; color: #2b2b2b; font-family: Roboto; font-size: 16px;"><span class="te
 xt-primary font-weight-bold" style="box-sizing: border-box; font-weight: 70
 0 !important; color: #158795 !important;">Termine:&nbsp;</span>11.07./ 22.0
 8.</p><p style="box-sizing: border-box; margin-top: 0px; margin-bottom: 1re
 m; color: #2b2b2b; font-family: Roboto; font-size: 16px;"><span class="text
 -primary font-weight-bold" style="box-sizing: border-box; font-weight: 700 
 !important; color: #158795 !important;">Kosten:&nbsp;</span>€28,- pro Kind 
 mit Begleitperson für einen Termin</p><p style="box-sizing: border-box; mar
 gin-top: 0px; margin-bottom: 1rem; color: #2b2b2b; font-family: Roboto; fon
 t-size: 16px;">Bei der Kreativen Freude geht es weniger um das Endprodukt, 
 als um den Spaß und die Freude beim Kreativ sein.</p><p style="box-sizing: 
 border-box; margin-top: 0px; margin-bottom: 1rem; color: #2b2b2b; font-fami
 ly: Roboto; font-size: 16px;"><span style="box-sizing: border-box; font-wei
 ght: bolder;">22.08. Raupen &amp; Schmetterlinge</span></p><p style="box-si
 zing: border-box; margin-top: 0px; margin-bottom: 1rem; color: #2b2b2b; fon
 t-family: Roboto; font-size: 16px;">&nbsp;</p><p style="box-sizing: border-
 box; margin-top: 0px; margin-bottom: 1rem; color: #2b2b2b; font-family: Rob
 oto; font-size: 16px;">Es werden verschiedene Bastelmaterialien und Ideen z
 u einem Thema zur Verfügung gestellt und die Kinder dürfen nach Lust und La
 une werken.</p><p style="box-sizing: border-box; margin-top: 0px; margin-bo
 ttom: 1rem; color: #2b2b2b; font-family: Roboto; font-size: 16px;">Wir male
 n, basteln, schnippseln, stempeln, stanzen, kleben, formen, usw .-&nbsp; da
 her ist es sinnvoll, Gewand, das auch schmutzig werden darf, anzuziehen.</p
 >
CONTACT:www.spielringel.at
X-EXTRAINFO:[preis='2800'][anmeldung='true']
DTSTAMP:20260426T005728
DTSTART:20250822T130000
DTEND:20250822T143000
SEQUENCE:0
TRANSP:OPAQUE
END:VEVENT
END:VCALENDAR