BEGIN:VCALENDAR
VERSION:2.0
PRODID:-//jEvents 2.0 for Joomla//EN
CALSCALE:GREGORIAN
METHOD:PUBLISH
BEGIN:VEVENT
UID:733183a5af46a50d1a937004c48c4944
CATEGORIES:2. Bezirk
CREATED:20250719T075835
SUMMARY:Bewegungsreich Krabbelalter bis 13 Monate TINIS BEWEGUNGSRAUM
LOCATION:Tini's Bewegungsraum
DESCRIPTION: SOMMERKURS\nIm Bewegungsreich werden Babys auf spielerische Weise geförder
 t. Das Angebot bietet eine Vielzahl von Aktivitäten, die die motorische Ent
 wicklung und Koordination verbessern. Darüber hinaus kann das Bewegungsreic
 h dazu beitragen, das Selbstbewusstsein und das Selbstvertrauen der Babys z
 u stärken. Es bietet auch eine großartige Gelegenheit, soziale Kontakte zu 
 knüpfen und die sozialen Fähigkeiten zu verbessern.\nDie Aktivitäten sind a
 uf die Bedürfnisse der Babys abgestimmt und bieten eine sichere Umgebung fü
 r sie, um zu lernen und zu wachsen.\nEine typische Einheit im Bewegungsreic
 h beginnt mit gemeinsamen Liedern und Bewegungsübungen. Im Anschluss haben 
 die Babys die Möglichkeit, sich frei im Raum zu bewegen und selbstständig z
 u entdecken. Die Eltern begleiten ihre Kinder dabei und können ihnen helfen
 , wenn sie Unterstützung benötigen.\nGebühr pro Kind 19€\nGebühr für Zwilli
 nge: 34€\nDiese Einheit kann bis 24h vor Kursstart kostenlos storniert werd
 en.\nAnmeldung unter Tinis Bewegungsraum | Website (https://tiniskinderzimm
 er.kursimple.de/?course=139)\n
X-ALT-DESC;FMTTYPE=text/html:<div class="course-files-dv" style="box-sizing: border-box; color: #212529;
  font-family: Titillium, sans-serif; font-size: 16px; font-style: normal; f
 ont-variant-ligatures: normal; font-variant-caps: normal; font-weight: 300;
  letter-spacing: normal; orphans: 2; text-align: left; text-indent: 0px; te
 xt-transform: none; widows: 2; word-spacing: 0px; -webkit-text-stroke-width
 : 0px; white-space: normal; background-color: #ffffff; text-decoration-thic
 kness: initial; text-decoration-style: initial; text-decoration-color: init
 ial;">&nbsp;</div><div class="course-description-dv" style="box-sizing: bor
 der-box; color: #212529; font-family: Titillium, sans-serif; font-size: 16p
 x; font-style: normal; font-variant-ligatures: normal; font-variant-caps: n
 ormal; font-weight: 300; letter-spacing: normal; orphans: 2; text-align: le
 ft; text-indent: 0px; text-transform: none; widows: 2; word-spacing: 0px; -
 webkit-text-stroke-width: 0px; white-space: normal; background-color: #ffff
 ff; text-decoration-thickness: initial; text-decoration-style: initial; tex
 t-decoration-color: initial;"><p>SOMMERKURS</p><p style="box-sizing: border
 -box; margin: 0.8rem 0px 0.2rem;">Im Bewegungsreich werden Babys auf spiele
 rische Weise gefördert. Das Angebot bietet eine Vielzahl von Aktivitäten, d
 ie die motorische Entwicklung und Koordination verbessern. Darüber hinaus k
 ann das Bewegungsreich dazu beitragen, das Selbstbewusstsein und das Selbst
 vertrauen der Babys zu stärken. Es bietet auch eine großartige Gelegenheit,
  soziale Kontakte zu knüpfen und die sozialen Fähigkeiten zu verbessern.</p
 ><p style="box-sizing: border-box; margin: 0.8rem 0px 0.2rem;">Die Aktivitä
 ten sind auf die Bedürfnisse der Babys abgestimmt und bieten eine sichere U
 mgebung für sie, um zu lernen und zu wachsen.</p><p style="box-sizing: bord
 er-box; margin: 0.8rem 0px 0.2rem;">Eine typische Einheit im Bewegungsreich
  beginnt mit gemeinsamen Liedern und Bewegungsübungen. Im Anschluss haben d
 ie Babys die Möglichkeit, sich frei im Raum zu bewegen und selbstständig zu
  entdecken. Die Eltern begleiten ihre Kinder dabei und können ihnen helfen,
  wenn sie Unterstützung benötigen.</p><p style="box-sizing: border-box; mar
 gin: 0.8rem 0px 0.2rem;">Gebühr pro Kind 19€</p><p style="box-sizing: borde
 r-box; margin: 0.8rem 0px 0.2rem;">Gebühr für Zwillinge: 34€</p><p style="b
 ox-sizing: border-box; margin: 0.8rem 0px 0.2rem;"><span style="box-sizing:
  border-box; color: #111111;"><strong style="box-sizing: border-box; font-w
 eight: 100;">Diese Einheit kann bis 24h vor Kursstart kostenlos storniert w
 erden.</strong></span></p><p>Anmeldung unter&nbsp;<a href="https://tiniskin
 derzimmer.kursimple.de/?course=139">Tinis Bewegungsraum | Website</a></p></
 div>
CONTACT:office@tinis.at, 0699 17 36 01 95
X-EXTRAINFO:[preis='1900'][anmeldung='true']
DTSTAMP:20260426T010819
DTSTART:20250721T073000
DTEND:20250721T082000
SEQUENCE:0
TRANSP:OPAQUE
END:VEVENT
END:VCALENDAR