BEGIN:VCALENDAR
VERSION:2.0
PRODID:-//jEvents 2.0 for Joomla//EN
CALSCALE:GREGORIAN
METHOD:PUBLISH
BEGIN:VEVENT
UID:0822153150b61fe2a9dc376cecdea97c
CATEGORIES:23. Bezirk
CREATED:20250728T135806
SUMMARY:Zaubern für Kinder (ab 7 Jahren)
LOCATION:VHS Liesing\, Liesinger Platz 3
DESCRIPTION:<p>25611501 Zaubern für Kinder (ab 7 Jahren)</p><p>Tricks, mit denen du dei
 ne Freund*innen verblüffst!</p><p>Fr 1x, 28.11.2025, 16-18 Uhr</p><p>VHS Li
 esing</p><p>Bakk. phil. Florian Stadtthaler</p><p>Gebühr: 15 €</p><p>In die
 sem Workshop hast Du die Gelegenheit, gemeinsam mit einem Zauberprofi einig
 e Geheimnisse der Magier*innen zu erfahren. Diese werden dann für Tricks ve
 rwendet, mit denen Du Andere zum Staunen bringen wirst! Bei Interesse der G
 ruppe kann ein mehrteiliger Fortsetzungskurs folgen.</p><p>Termine:</p><p>2
 8.11.2025, 16:00:00 - 18:00:00</p>
CONTACT:liesing@vhs.at, +43-1-89174-123000
X-EXTRAINFO:[preis='000'][anmeldung='true']
DTSTAMP:20260426T024240
DTSTART:20251128T150000
DTEND:20251128T170000
SEQUENCE:0
TRANSP:OPAQUE
END:VEVENT
END:VCALENDAR