BEGIN:VCALENDAR
VERSION:2.0
PRODID:-//jEvents 2.0 for Joomla//EN
CALSCALE:GREGORIAN
METHOD:PUBLISH
BEGIN:VEVENT
UID:d10cfa1dd84870c9e9418243cc63f50e
CATEGORIES:23. Bezirk
CREATED:20250728T135952
SUMMARY:Zaubern für alt und jung
LOCATION:VHS Liesing\, Liesinger Platz 3
DESCRIPTION:25611502 Zaubern für alt und jung\nFr 1x, 28.11.2025, 18-20 Uhr\nVHS Liesin
 g\nBakk. phil. Florian Stadtthaler\nGebühr: 16 €\nIn diesem Workshop haben 
 Sie die Gelegenheit, gemeinsam mit einem Zauberprofi einige „magische“ Gehe
 imnisse zu erfahren. Diese werden dann für Tricks verwendet, mit denen Sie 
 sogar Harry Potter amüsieren würden! Bei Interesse der Gruppe kann ein mehr
 teiliger Fortsetzungskurs folgen. \nTermine:\n28.11.2025, 18:00:00 - 20:00:
 00\n
X-ALT-DESC;FMTTYPE=text/html:<p>25611502 Zaubern für alt und jung</p><p>Fr 1x, 28.11.2025, 18-20 Uhr</p>
 <p>VHS Liesing</p><p>Bakk. phil. Florian Stadtthaler</p><p>Gebühr: 16 €</p>
 <p>In diesem Workshop haben Sie die Gelegenheit, gemeinsam mit einem Zauber
 profi einige „magische“ Geheimnisse zu erfahren. Diese werden dann für Tric
 ks verwendet, mit denen Sie sogar Harry Potter amüsieren würden! Bei Intere
 sse der Gruppe kann ein mehrteiliger Fortsetzungskurs folgen.&nbsp;</p><p>T
 ermine:</p><p>28.11.2025, 18:00:00 - 20:00:00</p>
CONTACT:liesing@vhs.at, +43-1-89174-123000
X-EXTRAINFO:[preis='1600'][anmeldung='true']
DTSTAMP:20260426T023720
DTSTART:20251128T170000
DTEND:20251128T190000
SEQUENCE:0
TRANSP:OPAQUE
END:VEVENT
END:VCALENDAR