BEGIN:VCALENDAR
VERSION:2.0
PRODID:-//jEvents 2.0 for Joomla//EN
CALSCALE:GREGORIAN
METHOD:PUBLISH
BEGIN:VEVENT
UID:cf067c08777ee25035c3c4435221e3e7
CATEGORIES:18. Bezirk
CREATED:19700101T010000
SUMMARY:MusikZwerge in Bewegung mini
LOCATION:Spielringel  Mollgasse  11-13
DESCRIPTION:<p style="box-sizing: border-box; margin-top: 0px; margin-bottom: 1rem; col
 or: #2b2b2b; font-family: Roboto; font-size: 16px;"><span class="text-prima
 ry font-weight-bold" style="box-sizing: border-box; font-weight: 700 !impor
 tant; color: #158795 !important;">Start:&nbsp;</span>08.09.2025</p><p style
 ="box-sizing: border-box; margin-top: 0px; margin-bottom: 1rem; color: #2b2
 b2b; font-family: Roboto; font-size: 16px;"><span class="text-primary font-
 weight-bold" style="box-sizing: border-box; font-weight: 700 !important; co
 lor: #158795 !important;">Mit:&nbsp;</span><a href="https://spielringel.at/
 angebote/das-team/susanne" style="box-sizing: border-box; color: #158795; t
 ext-decoration-line: none; background-color: transparent;">Susanne</a></p><
 p style="box-sizing: border-box; margin-top: 0px; margin-bottom: 1rem; colo
 r: #2b2b2b; font-family: Roboto; font-size: 16px;"><span class="text-primar
 y font-weight-bold" style="box-sizing: border-box; font-weight: 700 !import
 ant; color: #158795 !important;">Kurstag:&nbsp;</span>Montag 14:00-14:45</p
 ><p style="box-sizing: border-box; margin-top: 0px; margin-bottom: 1rem; co
 lor: #2b2b2b; font-family: Roboto; font-size: 16px;"><span class="text-prim
 ary font-weight-bold" style="box-sizing: border-box; font-weight: 700 !impo
 rtant; color: #158795 !important;">Termine:&nbsp;</span>08.09., 15.09., 22.
 09., 06.10., 13.10.</p><p style="box-sizing: border-box; margin-top: 0px; m
 argin-bottom: 1rem; color: #2b2b2b; font-family: Roboto; font-size: 16px;">
 <span class="text-primary font-weight-bold" style="box-sizing: border-box; 
 font-weight: 700 !important; color: #158795 !important;">Kosten:&nbsp;</spa
 n>€90,- (5 Einheiten)</p><p><span style="box-sizing: border-box; font-weigh
 t: bolder; color: #2b2b2b; font-family: Roboto; font-size: 16px;">MusikZwer
 ge mini – für Krabbelkinder</span><span style="color: #2b2b2b; font-family:
  Roboto; font-size: 16px;">&nbsp;(ca. 6–14 Monate) In dieser Gruppe stehen 
 sanfte Bewegungsimpulse, Kniereiter, Fingerspiele und einfache Klanginstrum
 ente im Vordergrund. Dein Kind erlebt Musik mit dem ganzen Körper, wird zum
  Mitmachen angeregt und fördert dabei seine Wahrnehmung, Koordination und B
 indung zu dir.</span></p>
CONTACT:www.spielringel.at
X-EXTRAINFO:[preis='9000'][anmeldung='true']
DTSTAMP:20260426T033703
DTSTART:20250908T120000
DTEND:20250908T124500
SEQUENCE:0
RRULE:FREQ=WEEKLY;UNTIL=20251015T000000Z;INTERVAL=1;BYDAY=MO
TRANSP:OPAQUE
END:VEVENT
END:VCALENDAR