BEGIN:VCALENDAR
VERSION:2.0
PRODID:-//jEvents 2.0 for Joomla//EN
CALSCALE:GREGORIAN
METHOD:PUBLISH
BEGIN:VEVENT
UID:5d5cafc0c741e35f6512129afc645b1e
CATEGORIES:18. Bezirk
CREATED:19700101T010000
SUMMARY:Babyklangwelt 
LOCATION:Spielringel  Mollgasse  11-13
DESCRIPTION:<h2 class="element-header" style="box-sizing: border-box; margin-top: 0px; 
 margin-bottom: 0.5rem; font-family: Montserrat; font-weight: 300; line-heig
 ht: 1.2; font-size: 2.275rem; color: #2b2b2b;">Babyklangwelt</h2><h4 style=
 "box-sizing: border-box; margin-top: 0px; margin-bottom: 1rem; font-family:
  Montserrat; font-weight: 300; line-height: 1.2; font-size: 1.625rem; color
 : #2b2b2b;">für Babys (3-10 Monate)</h4><p style="box-sizing: border-box; m
 argin-top: 0px; margin-bottom: 1rem; color: #2b2b2b; font-family: Roboto; f
 ont-size: 16px;"><span class="text-primary font-weight-bold" style="box-siz
 ing: border-box; font-weight: 700 !important; color: #158795 !important;">S
 tart:&nbsp;</span>09.09.2025</p><p style="box-sizing: border-box; margin-to
 p: 0px; margin-bottom: 1rem; color: #2b2b2b; font-family: Roboto; font-size
 : 16px;"><span class="text-primary font-weight-bold" style="box-sizing: bor
 der-box; font-weight: 700 !important; color: #158795 !important;">Mit:&nbsp
 ;</span><a href="https://spielringel.at/angebote/das-team/susanne" style="b
 ox-sizing: border-box; color: #158795; text-decoration-line: none; backgrou
 nd-color: transparent;">Susanne</a></p><p style="box-sizing: border-box; ma
 rgin-top: 0px; margin-bottom: 1rem; color: #2b2b2b; font-family: Roboto; fo
 nt-size: 16px;"><span class="text-primary font-weight-bold" style="box-sizi
 ng: border-box; font-weight: 700 !important; color: #158795 !important;">Ku
 rstag:&nbsp;</span>Dienstag 13:00-13:45</p><p style="box-sizing: border-box
 ; margin-top: 0px; margin-bottom: 1rem; color: #2b2b2b; font-family: Roboto
 ; font-size: 16px;"><span class="text-primary font-weight-bold" style="box-
 sizing: border-box; font-weight: 700 !important; color: #158795 !important;
 ">Termine:&nbsp;</span>09.09., 16.09., 23.09., 07.10., 14.10.</p><p style="
 box-sizing: border-box; margin-top: 0px; margin-bottom: 1rem; color: #2b2b2
 b; font-family: Roboto; font-size: 16px;"><span class="text-primary font-we
 ight-bold" style="box-sizing: border-box; font-weight: 700 !important; colo
 r: #158795 !important;">Kosten:&nbsp;</span>€90,- (5 Einheiten)</p><p style
 ="box-sizing: border-box; margin-top: 0px; margin-bottom: 0px; color: #2b2b
 2b; font-family: Roboto; font-size: 16px;">Babys lieben Klänge, Geräusche, 
 Musik und Gesang. Gemeinsam schaffen wir akustische und musikalische Erlebn
 iswelten, in die sich die Babys nach Möglichkeit einbringen können und erwe
 itern dabei auch Kompetenz und Repertoire das Kind im Alltag spielerisch zu
  fördern.</p>
CONTACT:www.spielringel.at
X-EXTRAINFO:[preis='9000'][anmeldung='true']
DTSTAMP:20260426T033648
DTSTART:20250909T110000
DTEND:20250909T114500
SEQUENCE:0
RRULE:FREQ=WEEKLY;UNTIL=20251016T000000Z;INTERVAL=1;BYDAY=TU
TRANSP:OPAQUE
END:VEVENT
END:VCALENDAR