BEGIN:VCALENDAR
VERSION:2.0
PRODID:-//jEvents 2.0 for Joomla//EN
CALSCALE:GREGORIAN
METHOD:PUBLISH
BEGIN:VEVENT
UID:dcbc85aec590f7a21a7619393aa64494
CATEGORIES:23. Bezirk
CREATED:20250728T144657
SUMMARY:Kartengestaltung & Pop-Up-Karten für Kinder (8-10 Jahre)
LOCATION:VHS Liesing\, Liesinger Platz 3
DESCRIPTION:25611606 Kartengestaltung &amp; Pop-Up-Karten für Kinder (8-10 Jahre)\n(mit
  Begleitperson)\nSa 1x, 08.11.2025, 9-11:30 Uhr\nVHS Liesing\nAngelika Göth
 , BEd\nZusatzinfo: Die Materialkosten von € 20,00 sind nicht in der Kursgeb
 ühr inkludiert und werden direkt mit der Kursleiterin verrechnet!\nGebühr: 
 18 €\nTauchen Sie ein, in die Welt der Kartengestaltung! Nutzen Sie die gem
 einsame Zeit mit Ihrem Kind und kreieren Sie heuer selbstgemachte Karten fü
 r Geburtstage, Weihnachten oder als Dankeschön! Wir zeigen in 2,5 Std. eine
 n kleinen Einblick in die verschiedenen Gestaltungs- und Kartentechniken, d
 ie mit Papier möglich sind. \nProbieren Sie es vor Ort gleich selbst aus un
 d wählen Sie aus drei spannenden Projekten! \n·Karte nach Wunsch designen: 
 mit verschiedensten Stempeln, Stanzformen und buntem Designerpapier\n·PopUp
 Karte basteln:mit verblüffendem 3DEffekt\n·KartenAnhänger gestalten:hübsche
  Hänger für Geschenke oder Deko\nDer Workshop richtet sich gleichermaßen an
  Einsteiger*innen und Bastelprofis – ob Grundlagen oder ausgeklügelte Faltt
 echnik, es ist für jedes Kind etwas dabei. \nZusätzlich gibt es weitere Ein
 blicke in verschiedene Kartendesigns mit vielseitigem Anschauungsmaterial.\
 nDie Teilnahme der Begleitperson ist kostenlos.\nDie Materialkosten von € 2
 0,00 sind nicht in der Kursgebühr inkludiert und werden direkt, vor Ort von
  der Kursleiterin erhoben!\nTermine:\n08.11.2025, 09:00:00 - 11:30:00\n
X-ALT-DESC;FMTTYPE=text/html:<p>25611606 Kartengestaltung &amp; Pop-Up-Karten für Kinder (8-10 Jahre)</p
 ><p>(mit Begleitperson)</p><p>Sa 1x, 08.11.2025, 9-11:30 Uhr</p><p>VHS Lies
 ing</p><p>Angelika Göth, BEd</p><p>Zusatzinfo: Die Materialkosten von € 20,
 00 sind nicht in der Kursgebühr inkludiert und werden direkt mit der Kursle
 iterin verrechnet!</p><p>Gebühr: 18 €</p><p>Tauchen Sie ein, in die Welt de
 r Kartengestaltung! Nutzen Sie die gemeinsame Zeit mit Ihrem Kind und kreie
 ren Sie heuer selbstgemachte Karten für Geburtstage, Weihnachten oder als D
 ankeschön! Wir zeigen in 2,5 Std. einen kleinen Einblick in die verschieden
 en Gestaltungs- und Kartentechniken, die mit Papier möglich sind.&nbsp;</p>
 <p>Probieren Sie es vor Ort gleich selbst aus und wählen Sie aus drei spann
 enden Projekten!&nbsp;</p><p>·Karte nach Wunsch designen: mit verschiedenst
 en Stempeln, Stanzformen und buntem Designerpapier</p><p>·PopUpKarte bastel
 n:mit verblüffendem 3DEffekt</p><p>·KartenAnhänger gestalten:hübsche Hänger
  für Geschenke oder Deko</p><p>Der Workshop richtet sich gleichermaßen an E
 insteiger*innen und Bastelprofis – ob Grundlagen oder ausgeklügelte Falttec
 hnik, es ist für jedes Kind etwas dabei.&nbsp;</p><p>Zusätzlich gibt es wei
 tere Einblicke in verschiedene Kartendesigns mit vielseitigem Anschauungsma
 terial.</p><p>Die Teilnahme der Begleitperson ist kostenlos.</p><p>Die Mate
 rialkosten von € 20,00 sind nicht in der Kursgebühr inkludiert und werden d
 irekt, vor Ort von der Kursleiterin erhoben!</p><p>Termine:</p><p>08.11.202
 5, 09:00:00 - 11:30:00</p>
CONTACT:liesing@vhs.at, +43-1-89174-123000
X-EXTRAINFO:[preis='1800'][anmeldung='true']
DTSTAMP:20260426T043143
DTSTART:20251108T080000
DTEND:20251108T103000
SEQUENCE:0
TRANSP:OPAQUE
END:VEVENT
END:VCALENDAR