BEGIN:VCALENDAR
VERSION:2.0
PRODID:-//jEvents 2.0 for Joomla//EN
CALSCALE:GREGORIAN
METHOD:PUBLISH
BEGIN:VEVENT
UID:236ded0e43d88e61168ab4e6e2e1b249
CATEGORIES:18. Bezirk
CREATED:19700101T010000
SUMMARY:BabySteps ® - Kunterbunt durch den Tag 
LOCATION:Spielringel  Mollgasse  11-13
DESCRIPTION:BabySteps ® - Kunterbunt durch den Tag für Eltern mit Babys von 0-1Start: 1
 1.09.2025\nMit: Doris (https://spielringel.at/angebote/das-team/mag-doris-z
 ipper)\nKurstag: Donnerstag 09:45-10:45\nTermine: 11.09., 18.09., 25.09., 0
 2.10., 09.10., 16.10., 23.10., 06.11.\nKosten: €150,- (8 Einheiten)\nDu suc
 hst Antwort auf all deine Fragen in Babys erstem Lebensjahr und magst ander
 e Mamas kennen lernen und dich mit ihnen austauschen? Dabei willst du hilfr
 eiche Informationen rund um die Entwicklung deines Babys und entwicklungsge
 rechte Spielanregungen durch die Jahreszeiten bekommen? Dann bist du im Bab
 ySteps Kurs bei Doris genau richtig!\n
X-ALT-DESC;FMTTYPE=text/html:<h2 class="element-header" style="box-sizing: border-box; margin-top: 0px; 
 margin-bottom: 0.5rem; font-family: Montserrat; font-weight: 300; line-heig
 ht: 1.2; font-size: 2.275rem; color: #2b2b2b;">BabySteps ® - Kunterbunt dur
 ch den Tag&nbsp;</h2><h4 style="box-sizing: border-box; margin-top: 0px; ma
 rgin-bottom: 1rem; font-family: Montserrat; font-weight: 300; line-height: 
 1.2; font-size: 1.625rem; color: #2b2b2b;">für Eltern mit Babys von 0-1</h4
 ><p style="box-sizing: border-box; margin-top: 0px; margin-bottom: 1rem; co
 lor: #2b2b2b; font-family: Roboto; font-size: 16px;"><span class="text-prim
 ary font-weight-bold" style="box-sizing: border-box; font-weight: 700 !impo
 rtant; color: #158795 !important;">Start:&nbsp;</span>11.09.2025</p><p styl
 e="box-sizing: border-box; margin-top: 0px; margin-bottom: 1rem; color: #2b
 2b2b; font-family: Roboto; font-size: 16px;"><span class="text-primary font
 -weight-bold" style="box-sizing: border-box; font-weight: 700 !important; c
 olor: #158795 !important;">Mit:&nbsp;</span><a href="https://spielringel.at
 /angebote/das-team/mag-doris-zipper" style="box-sizing: border-box; color: 
 #158795; text-decoration-line: none; background-color: transparent;">Doris<
 /a></p><p style="box-sizing: border-box; margin-top: 0px; margin-bottom: 1r
 em; color: #2b2b2b; font-family: Roboto; font-size: 16px;"><span class="tex
 t-primary font-weight-bold" style="box-sizing: border-box; font-weight: 700
  !important; color: #158795 !important;">Kurstag:&nbsp;</span>Donnerstag 09
 :45-10:45</p><p style="box-sizing: border-box; margin-top: 0px; margin-bott
 om: 1rem; color: #2b2b2b; font-family: Roboto; font-size: 16px;"><span clas
 s="text-primary font-weight-bold" style="box-sizing: border-box; font-weigh
 t: 700 !important; color: #158795 !important;">Termine:&nbsp;</span>11.09.,
  18.09., 25.09., 02.10., 09.10., 16.10., 23.10., 06.11.</p><p style="box-si
 zing: border-box; margin-top: 0px; margin-bottom: 1rem; color: #2b2b2b; fon
 t-family: Roboto; font-size: 16px;"><span class="text-primary font-weight-b
 old" style="box-sizing: border-box; font-weight: 700 !important; color: #15
 8795 !important;">Kosten:&nbsp;</span>€150,- (8 Einheiten)</p><p style="box
 -sizing: border-box; margin-top: 0px; margin-bottom: 0px; color: #2b2b2b; f
 ont-family: Roboto; font-size: 16px;">Du suchst Antwort auf all deine Frage
 n in Babys erstem Lebensjahr und magst andere Mamas kennen lernen und dich 
 mit ihnen austauschen? Dabei willst du hilfreiche Informationen rund um die
  Entwicklung deines Babys und entwicklungsgerechte Spielanregungen durch di
 e Jahreszeiten bekommen? Dann bist du im BabySteps Kurs bei Doris genau ric
 htig!</p>
CONTACT:www.spielringel.at
X-EXTRAINFO:[preis='15000'][anmeldung='true']
DTSTAMP:20260426T033309
DTSTART:20250911T074500
DTEND:20250911T084500
SEQUENCE:0
RRULE:FREQ=WEEKLY;UNTIL=20251110T000000Z;INTERVAL=1;BYDAY=TH
TRANSP:OPAQUE
END:VEVENT
END:VCALENDAR