BEGIN:VCALENDAR
VERSION:2.0
PRODID:-//jEvents 2.0 for Joomla//EN
CALSCALE:GREGORIAN
METHOD:PUBLISH
BEGIN:VEVENT
UID:70a5b1ac4ec6cbfee9a2f2b82ab366e8
CATEGORIES:23. Bezirk
CREATED:20250729T091429
SUMMARY:Ballettworkshop für Kinder (5-7 Jahre)
LOCATION:VHS Liesing\, Liesinger Platz 3
DESCRIPTION:25591205 Ballett Workshop für Kinder (5-7 Jahre)\nIn Kooperation mit der Be
 zirksvorstehung\nDi 1x, 26.08.2025, 16:30-17:30 Uhr\n1 UE | TN-Min/Max: 1-1
 2\nVHS Liesing\nMagdalena Nemetz\nGebühr: 0 €\nIn diesem Workshop schnupper
 n wir ein wenig in die Welt des Tanzes hinein. Mit kreativen Aufgaben und s
 pielerischen Bewegungsabfolgen erforschen wir die Grundbegriffe des Ballett
 s und erleben dabei Koordination, Vorstellungskraft und nicht zuletzt den S
 paß an der gemeinsamen Bewegung.\nTermine:\n26.08.2025, 16:30:00 - 17:30:00
 \n
X-ALT-DESC;FMTTYPE=text/html:<p>25591205 Ballett Workshop für Kinder (5-7 Jahre)</p><p>In Kooperation mi
 t der Bezirksvorstehung</p><p>Di 1x, 26.08.2025, 16:30-17:30 Uhr</p><p>1 UE
  | TN-Min/Max: 1-12</p><p>VHS Liesing</p><p>Magdalena Nemetz</p><p>Gebühr: 
 0 €</p><p>In diesem Workshop schnuppern wir ein wenig in die Welt des Tanze
 s hinein. Mit kreativen Aufgaben und spielerischen Bewegungsabfolgen erfors
 chen wir die Grundbegriffe des Balletts und erleben dabei Koordination, Vor
 stellungskraft und nicht zuletzt den Spaß an der gemeinsamen Bewegung.</p><
 p>Termine:</p><p>26.08.2025, 16:30:00 - 17:30:00</p>
CONTACT:liesing@vhs.at, +43-1-89174-123000
X-EXTRAINFO:[preis='000'][anmeldung='true']
DTSTAMP:20260426T005328
DTSTART:20250826T143000
DTEND:20250826T153000
SEQUENCE:0
TRANSP:OPAQUE
END:VEVENT
END:VCALENDAR