BEGIN:VCALENDAR
VERSION:2.0
PRODID:-//jEvents 2.0 for Joomla//EN
CALSCALE:GREGORIAN
METHOD:PUBLISH
BEGIN:VEVENT
UID:8cebf26fbf80c2c02b2cd76920d9cb7c
CATEGORIES:23. Bezirk
CREATED:20250729T091611
SUMMARY:Eltern-Kind-Tanz Workshop (3-5 Jahre)
LOCATION:VHS Liesing\, Liesinger Platz 3
DESCRIPTION:25591204 Eltern-Kind-Tanz Workshop (3-5 Jahre)\nIn Kooperation mit der Bezi
 rksvorstehung\nDi 1x, 26.08.2025, 15:30-16:30 Uhr\nVHS Liesing\nMagdalena N
 emetz\nGebühr: 0 €\nWir unternehmen eine kreative Tanzreise, bei der Eltern
  und Kinder gemeinsam kurze Tänze lernen und im Laufe der Geschichte unters
 chiedliche naturinspirierte Rollen und deren Bewegungen entdecken. Koordina
 tion und Rhythmusgefühl werden gefördert, während wir gemeinsam die Freude 
 am Bewegen und an der Musik genießen.\nTermine:\n26.08.2025, 15:30:00 - 16:
 30:00\n
X-ALT-DESC;FMTTYPE=text/html:<p>25591204&nbsp;<span style="background-color: inherit; color: inherit; fo
 nt-family: inherit; font-size: 1rem; caret-color: auto;">Eltern-Kind-Tanz W
 orkshop (3-5 Jahre)</span></p><p>In Kooperation mit der Bezirksvorstehung</
 p><p>Di 1x, 26.08.2025, 15:30-16:30 Uhr</p><p>VHS Liesing</p><p>Magdalena N
 emetz</p><p>Gebühr: 0 €</p><p>Wir unternehmen eine kreative Tanzreise, bei 
 der Eltern und Kinder gemeinsam kurze Tänze lernen und im Laufe der Geschic
 hte unterschiedliche naturinspirierte Rollen und deren Bewegungen entdecken
 . Koordination und Rhythmusgefühl werden gefördert, während wir gemeinsam d
 ie Freude am Bewegen und an der Musik genießen.</p><p>Termine:</p><p>26.08.
 2025, 15:30:00 - 16:30:00</p>
CONTACT:liesing@vhs.at, +43-1-89174-123000
X-EXTRAINFO:[preis='000'][anmeldung='true']
DTSTAMP:20260426T020024
DTSTART:20250826T133000
DTEND:20250826T143000
SEQUENCE:0
TRANSP:OPAQUE
END:VEVENT
END:VCALENDAR