BEGIN:VCALENDAR
VERSION:2.0
PRODID:-//jEvents 2.0 for Joomla//EN
CALSCALE:GREGORIAN
METHOD:PUBLISH
BEGIN:VEVENT
UID:0267a59e7b7ce7fb5d32fd56c1538df0
CATEGORIES:11. Bezirk
CREATED:20250819T172053
SUMMARY:Kinder City- Play Day
LOCATION:Simmeringer Hauptstraße 7\, 1110 Wien
DESCRIPTION:<p>Nach der Sommerpause treffen wir uns wieder bei unseren Play Days.</p><p
 >Der Preis für einen Erwachsenen und ein Kind beträgt 10 €</p><p>Jede weite
 re Person oder jedes weitere Kind kostet 5 €</p><p>Im Preis inbegriffen: Sn
 acks + Saft für die Kinder</p><p>Bezahlung in bar möglich</p><p>Anmeldung e
 rforderlich unter der Telefonnummer: 06763284722</p>
CONTACT:06763284722
X-EXTRAINFO:[preis='1010'][anmeldung='true']
DTSTAMP:20260425T215232
DTSTART:20250822T140000
DTEND:20250822T170000
SEQUENCE:0
TRANSP:OPAQUE
END:VEVENT
END:VCALENDAR