BEGIN:VCALENDAR
VERSION:2.0
PRODID:-//jEvents 2.0 for Joomla//EN
CALSCALE:GREGORIAN
METHOD:PUBLISH
BEGIN:VEVENT
UID:c6513ebfe944c0ee3d948c1e8b434fb3
CATEGORIES:7. Bezirk
CREATED:20250822T103030
SUMMARY:KRABBELKONZERT
LOCATION:Lindengasse 44
DESCRIPTION:<p><b style="color: #000000; font-family: Calibri, Helvetica, sans-serif; f
 ont-size: 16px;">Emil Tsang</b><span style="color: #000000; font-family: Ca
 libri, Helvetica, sans-serif; font-size: 16px;">&nbsp;am Klavier spielt uns
  klassische und moderne Stücke - bei denen es auch viel zu sehen, staunen u
 nd mitmachen gibt. Vor dem Konzert&nbsp;</span><span style="border: 0px; fo
 nt-variant-numeric: inherit; font-variant-east-asian: inherit; font-variant
 -alternates: inherit; font-variant-position: inherit; font-variant-emoji: i
 nherit; font-stretch: inherit; font-size: 16px; line-height: inherit; font-
 family: Calibri, Helvetica, sans-serif; font-optical-sizing: inherit; font-
 size-adjust: inherit; font-kerning: inherit; font-feature-settings: inherit
 ; font-variation-settings: inherit; margin: 0px; padding: 0px; vertical-ali
 gn: baseline; color: #000000;">ab 9:00 und danach gibt es gemütliches Zusam
 mensitzen und Frühstücken! (Es gibt einen barrierefreier Zugang direkt von 
 der Lindengasse und eine barrierefreie Toilette) Es ist keine Anmeldung/Res
 ervierung nötig, einfach vorbeikommen - wir freuen uns auf ein gemeinsames 
 Musikerlebnis.</span></p>
CONTACT:https://www.evang-neubau.at/
DTSTAMP:20260426T020539
DTSTART:20250910T080000
DTEND:20250910T083000
SEQUENCE:0
TRANSP:OPAQUE
END:VEVENT
END:VCALENDAR