BEGIN:VCALENDAR
VERSION:2.0
PRODID:-//jEvents 2.0 for Joomla//EN
CALSCALE:GREGORIAN
METHOD:PUBLISH
BEGIN:VEVENT
UID:c496e75231bd7abf3e83768ec9444be8
CATEGORIES:3. Bezirk
CREATED:19700101T010000
SUMMARY:MEIN ERSTES JAHR ALS MAMA - psychotherapeutische Jahresgruppe
LOCATION:Ölzeltgasse 1/10\, 1030 Wien
DESCRIPTION:DU BIST VOR KURZEM MAMA GEWORDEN UND ...\n\n - fühlst dich erschöpft oder s
 tehst unter Stress\n - erlebst Schuldgefühle, Ängste oder Selbstzweifel\n -
  bist belastet nach schwerer Geburt\n - fühlst dich einsam und mit der Verä
 nderung allein gelassen\n - ringst mit Erwartungen, Ansprüchen und Identitä
 ts-fragen\n - es Fällt dir schwer Partnerschaft, Beruf und Mutterschaft zu 
 vereinbaren \nWAS DICH ERWARTET:\n\n - Psychotherapeutisch angeleiteter Aus
 tausch mit anderen Müttern\n - Raum für ehrliche Gefühle – ohne Leistungsdr
 uck, Vergleiche oder Erwartungen\n - Stärkende Impulse, Reflexion, kreative
  Methoden &amp; körperorientierte Übungen\n - Ein sicherer Rahmen, in dem d
 u dich gesehen, verstanden und begleitet fühlen darfst \n6-8 Teilnehmerinne
 n\nZuschuss/Übernahme Krankenkasse möglich\n \nweitere Informationen unter 
 www.psychotherapie-juliaschick.at\n
X-ALT-DESC;FMTTYPE=text/html:<p>DU BIST VOR KURZEM MAMA GEWORDEN UND ...</p><ul><li>fühlst dich erschöpf
 t oder stehst unter Stress</li></ul><ul><li>erlebst&nbsp;Schuldgefühle, Äng
 ste oder Selbstzweifel</li></ul><ul><li>bist belastet nach schwerer Geburt<
 /li></ul><ul><li>fühlst dich einsam und mit der Veränderung allein gelassen
 </li></ul><ul><li>ringst mit Erwartungen, Ansprüchen und Identitäts-fragen<
 /li></ul><ul><li>es Fällt&nbsp;dir schwer Partnerschaft, Beruf und Muttersc
 haft zu vereinbaren</li></ul><p>&nbsp;</p><p>WAS DICH ERWARTET:</p><ul><li>
 Psychotherapeutisch angeleiteter Austausch mit anderen Müttern</li></ul><ul
 ><li>Raum für ehrliche Gefühle – ohne Leistungsdruck, Vergleiche oder Erwar
 tungen</li></ul><ul><li>Stärkende Impulse, Reflexion, kreative Methoden &am
 p; körperorientierte Übungen</li></ul><ul><li>Ein sicherer Rahmen, in dem d
 u dich gesehen, verstanden und begleitet fühlen darfst</li></ul><p>&nbsp;</
 p><p>6-8 Teilnehmerinnen</p><p>Zuschuss/Übernahme Krankenkasse möglich</p><
 p>&nbsp;</p><p>weitere Informationen unter www.psychotherapie-juliaschick.a
 t</p>
CONTACT:Mag. Julia Schick, BA
X-EXTRAINFO:[preis='4000'][anmeldung='true']
DTSTAMP:20260426T020941
DTSTART:20250902T080000
DTEND:20250902T093000
SEQUENCE:0
RRULE:FREQ=WEEKLY;UNTIL=20251001T000000Z;INTERVAL=1;BYDAY=TU
TRANSP:OPAQUE
END:VEVENT
BEGIN:VEVENT
UID:c496e75231bd7abf3e83768ec9444be8
CATEGORIES:3. Bezirk
CREATED:20250902T102030
SUMMARY:MEIN ERSTES JAHR ALS MAMA - psychotherapeutische Jahresgruppe
LOCATION:Ölzeltgasse 1/10, 1030 Wien
DESCRIPTION:DU BIST VOR KURZEM MAMA GEWORDEN UND ...\n\n - fühlst dich erschöpft oder s
 tehst unter Stress \n\n - erlebst Schuldgefühle, Ängste oder Selbstzweifel 
 \n\n - bist belastet nach schwerer Geburt \n\n - fühlst dich einsam und mit
  der Veränderung allein gelassen \n\n - ringst mit Erwartungen, Ansprüchen 
 und Identitäts-fragen \n\n - es Fällt dir schwer Partnerschaft, Beruf und M
 utterschaft zu vereinbaren \nWAS DICH ERWARTET:\n \n\n - Psychotherapeutisc
 h angeleiteter Austausch mit anderen Müttern \n\n - Raum für ehrliche Gefüh
 le – ohne Leistungsdruck, Vergleiche oder Erwartungen \n\n - Stärkende Impu
 lse, Reflexion, kreative Methoden &amp; körperorientierte Übungen \n\n - Ei
 n sicherer Rahmen, in dem du dich gesehen, verstanden und begleitet fühlen 
 darfst6-8 Teilnehmerinnen\nZuschuss/Übernahme Krankenkasse möglich\nweitere
  Informationen unter www.psychotherapie-juliaschick.at\n
X-ALT-DESC;FMTTYPE=text/html:<p>DU BIST VOR KURZEM MAMA GEWORDEN UND ...</p><ul><li>fühlst dich erschöpf
 t oder stehst unter Stress</li></ul><p>&nbsp;</p><ul><li>erlebst&nbsp;Schul
 dgefühle, Ängste oder Selbstzweifel</li></ul><p>&nbsp;</p><ul><li>bist bela
 stet nach schwerer Geburt</li></ul><p>&nbsp;</p><ul><li>fühlst dich einsam 
 und mit der Veränderung allein gelassen</li></ul><p>&nbsp;</p><ul><li>rings
 t mit Erwartungen, Ansprüchen und Identitäts-fragen</li></ul><p>&nbsp;</p><
 ul><li>es Fällt&nbsp;dir schwer Partnerschaft, Beruf und Mutterschaft zu ve
 reinbaren</li></ul><p>&nbsp;</p><p>WAS DICH ERWARTET:</p><p>&nbsp;</p><ul><
 li>Psychotherapeutisch angeleiteter Austausch mit anderen Müttern</li></ul>
 <p>&nbsp;</p><ul><li>Raum für ehrliche Gefühle – ohne Leistungsdruck, Vergl
 eiche oder Erwartungen</li></ul><p>&nbsp;</p><ul><li>Stärkende Impulse, Ref
 lexion, kreative Methoden &amp; körperorientierte Übungen</li></ul><p>&nbsp
 ;</p><ul><li>Ein sicherer Rahmen, in dem du dich gesehen, verstanden und be
 gleitet fühlen darfst</li></ul><p>6-8 Teilnehmerinnen</p><p>Zuschuss/Überna
 hme Krankenkasse möglich</p><p>weitere Informationen unter www.psychotherap
 ie-juliaschick.at</p>
URL;VALUE=URI:https://www.babymamas.at/index.php/veranstaltungen/eventdetail/951683/mein-
 erstes-jahr-als-mama-psychotherapeutische-jahresgruppe?tmpl=component
CONTACT:Mag. Julia Schick, BA
X-EXTRAINFO:[preis='4000'][anmeldung='false']
DTSTAMP:20260426T020941
DTSTART:20250902T080000
DTEND:20250902T093000
RECURRENCE-ID:20250902T080000
SEQUENCE:0
TRANSP:OPAQUE
END:VEVENT
END:VCALENDAR