BEGIN:VCALENDAR
VERSION:2.0
PRODID:-//jEvents 2.0 for Joomla//EN
CALSCALE:GREGORIAN
METHOD:PUBLISH
BEGIN:VEVENT
UID:8bb4831244d2017d7828223357754e75
CATEGORIES:18. Bezirk
CREATED:19700101T010000
SUMMARY:Kinderyoga 3-6 Jahren alt
LOCATION:Ferrogasse 9/1 1180 Wien
DESCRIPTION:Für Kinder von 3–6 Jahren, mit Eltern-Option für jüngere Kinder.\nIn diesem
  Kinderyoga-Kurs erleben Kinder Bewegung, Entspannung und Achtsamkeit auf s
 pielerische Weise. Mit Musik, Fantasiereisen und sanften Asanas wird ein po
 sitives Körper- und Raumgefühl gefördert. Die Kinder lernen, im Moment zu v
 erweilen, den eigenen Atem bewusst wahrzunehmen und achtsam mit sich selbst
  sowie allen Lebewesen umzugehen. Kinderyoga lädt dazu ein, Wurzeln zu stär
 ken und gleichzeitig Flügel wachsen zu lassen. Der Kurs versteht sich als k
 reatives Abenteuer, das Freude an Bewegung, innere Ruhe und Bewusstsein mit
 einander verbindet. Ein geschützter Raum, in dem Kinder zuhören, spüren und
  sich entfalten können.\nDieser Kurs wird auf Deutsch gehalten.\n
X-ALT-DESC;FMTTYPE=text/html:<p style="box-sizing: border-box; border: 0px solid #e5e7eb; --tw-border-sp
 acing-x: 0; --tw-border-spacing-y: 0; --tw-translate-x: 0; --tw-translate-y
 : 0; --tw-rotate: 0; --tw-skew-x: 0; --tw-skew-y: 0; --tw-scale-x: 1; --tw-
 scale-y: 1; --tw-scroll-snap-strictness: proximity; --tw-ring-offset-width:
  0px; --tw-ring-offset-color: #fff; --tw-ring-color: rgb(59 130 246/0.5); -
 -tw-ring-offset-shadow: 0 0 #0000; --tw-ring-shadow: 0 0 #0000; --tw-shadow
 : 0 0 #0000; --tw-shadow-colored: 0 0 #0000; margin: 0px 0px 12px; color: #
 141414; font-family: ui-sans-serif, system-ui, sans-serif, 'Apple Color Emo
 ji', 'Segoe UI Emoji', 'Segoe UI Symbol', 'Noto Color Emoji'; font-size: me
 dium;"><span style="box-sizing: border-box; border: 0px solid #e5e7eb; --tw
 -border-spacing-x: 0; --tw-border-spacing-y: 0; --tw-translate-x: 0; --tw-t
 ranslate-y: 0; --tw-rotate: 0; --tw-skew-x: 0; --tw-skew-y: 0; --tw-scale-x
 : 1; --tw-scale-y: 1; --tw-scroll-snap-strictness: proximity; --tw-ring-off
 set-width: 0px; --tw-ring-offset-color: #fff; --tw-ring-color: rgb(59 130 2
 46/0.5); --tw-ring-offset-shadow: 0 0 #0000; --tw-ring-shadow: 0 0 #0000; -
 -tw-shadow: 0 0 #0000; --tw-shadow-colored: 0 0 #0000; font-weight: bold;">
 Für Kinder von 3–6 Jahren, mit Eltern-Option für jüngere Kinder.</span></p>
 <p style="box-sizing: border-box; border: 0px solid #e5e7eb; --tw-border-sp
 acing-x: 0; --tw-border-spacing-y: 0; --tw-translate-x: 0; --tw-translate-y
 : 0; --tw-rotate: 0; --tw-skew-x: 0; --tw-skew-y: 0; --tw-scale-x: 1; --tw-
 scale-y: 1; --tw-scroll-snap-strictness: proximity; --tw-ring-offset-width:
  0px; --tw-ring-offset-color: #fff; --tw-ring-color: rgb(59 130 246/0.5); -
 -tw-ring-offset-shadow: 0 0 #0000; --tw-ring-shadow: 0 0 #0000; --tw-shadow
 : 0 0 #0000; --tw-shadow-colored: 0 0 #0000; margin: 0px 0px 12px; color: #
 141414; font-family: ui-sans-serif, system-ui, sans-serif, 'Apple Color Emo
 ji', 'Segoe UI Emoji', 'Segoe UI Symbol', 'Noto Color Emoji'; font-size: me
 dium;">In diesem Kinderyoga-Kurs erleben Kinder Bewegung, Entspannung und A
 chtsamkeit auf spielerische Weise. Mit Musik, Fantasiereisen und sanften As
 anas wird ein positives Körper- und Raumgefühl gefördert. Die Kinder lernen
 , im Moment zu verweilen, den eigenen Atem bewusst wahrzunehmen und achtsam
  mit sich selbst sowie allen Lebewesen umzugehen. Kinderyoga lädt dazu ein,
  Wurzeln zu stärken und gleichzeitig Flügel wachsen zu lassen. Der Kurs ver
 steht sich als kreatives Abenteuer, das Freude an Bewegung, innere Ruhe und
  Bewusstsein miteinander verbindet. Ein geschützter Raum, in dem Kinder zuh
 ören, spüren und sich entfalten können.</p><p style="box-sizing: border-box
 ; border: 0px solid #e5e7eb; --tw-border-spacing-x: 0; --tw-border-spacing-
 y: 0; --tw-translate-x: 0; --tw-translate-y: 0; --tw-rotate: 0; --tw-skew-x
 : 0; --tw-skew-y: 0; --tw-scale-x: 1; --tw-scale-y: 1; --tw-scroll-snap-str
 ictness: proximity; --tw-ring-offset-width: 0px; --tw-ring-offset-color: #f
 ff; --tw-ring-color: rgb(59 130 246/0.5); --tw-ring-offset-shadow: 0 0 #000
 0; --tw-ring-shadow: 0 0 #0000; --tw-shadow: 0 0 #0000; --tw-shadow-colored
 : 0 0 #0000; margin: 0px 0px 12px; color: #141414; font-family: ui-sans-ser
 if, system-ui, sans-serif, 'Apple Color Emoji', 'Segoe UI Emoji', 'Segoe UI
  Symbol', 'Noto Color Emoji'; font-size: medium;">Dieser Kurs wird auf&nbsp
 ;<span style="box-sizing: border-box; border: 0px solid #e5e7eb; --tw-borde
 r-spacing-x: 0; --tw-border-spacing-y: 0; --tw-translate-x: 0; --tw-transla
 te-y: 0; --tw-rotate: 0; --tw-skew-x: 0; --tw-skew-y: 0; --tw-scale-x: 1; -
 -tw-scale-y: 1; --tw-scroll-snap-strictness: proximity; --tw-ring-offset-wi
 dth: 0px; --tw-ring-offset-color: #fff; --tw-ring-color: rgb(59 130 246/0.5
 ); --tw-ring-offset-shadow: 0 0 #0000; --tw-ring-shadow: 0 0 #0000; --tw-sh
 adow: 0 0 #0000; --tw-shadow-colored: 0 0 #0000; font-weight: bold;">Deutsc
 h</span>&nbsp;gehalten.</p>
CONTACT:https://www.beyourmuse.at/stundenplan
X-EXTRAINFO:[preis='2000'][anmeldung='true']
DTSTAMP:20260426T020041
DTSTART:20250915T134500
DTEND:20250915T144500
SEQUENCE:0
RRULE:FREQ=WEEKLY;UNTIL=20260101T000000Z;INTERVAL=1;BYDAY=MO
TRANSP:OPAQUE
END:VEVENT
END:VCALENDAR