BEGIN:VCALENDAR
VERSION:2.0
PRODID:-//jEvents 2.0 for Joomla//EN
CALSCALE:GREGORIAN
METHOD:PUBLISH
BEGIN:VEVENT
UID:8b6d6cd4ebfc49b3a7aa38b7fbbccb34
CATEGORIES:18. Bezirk
CREATED:19700101T010000
SUMMARY:Pilates für Frauen
LOCATION:Ferrogasse 9/1 1180 Wien
DESCRIPTION:Dieser Kurs ist speziell auf den weiblichen Körper abgestimmt und legt beso
 nderen Fokus auf Core-Stabilität, Beckenboden, Haltung und funktionelle Bew
 egung. Durch achtsame und präzise Übungen werden Bereiche unterstützt, die 
 für die Gesundheit und das körperliche Wohlbefinden von Frauen besonders wi
 chtig sind. Ob du neu bei Pilates bist oder deine Praxis vertiefen möchtest
  – dieser Kurs bietet einen sicheren und stärkenden Raum, um deinen Körper 
 zu kräftigen, zu dehnen und dich mit ihm in einer Weise zu verbinden, die s
 einer natürlichen Form gerecht wird.\nFür alle Levels geeignet. Vorkenntnis
 se in Pilates sind nicht erforderlich.\nBitte beachte, dass der Kurs auf De
 utsch unterrichtet wird.\n
X-ALT-DESC;FMTTYPE=text/html:<p style="box-sizing: border-box; border: 0px solid #e5e7eb; --tw-border-sp
 acing-x: 0; --tw-border-spacing-y: 0; --tw-translate-x: 0; --tw-translate-y
 : 0; --tw-rotate: 0; --tw-skew-x: 0; --tw-skew-y: 0; --tw-scale-x: 1; --tw-
 scale-y: 1; --tw-scroll-snap-strictness: proximity; --tw-ring-offset-width:
  0px; --tw-ring-offset-color: #fff; --tw-ring-color: rgb(59 130 246/0.5); -
 -tw-ring-offset-shadow: 0 0 #0000; --tw-ring-shadow: 0 0 #0000; --tw-shadow
 : 0 0 #0000; --tw-shadow-colored: 0 0 #0000; margin: 0px 0px 12px; color: #
 141414; font-family: ui-sans-serif, system-ui, sans-serif, 'Apple Color Emo
 ji', 'Segoe UI Emoji', 'Segoe UI Symbol', 'Noto Color Emoji'; font-size: me
 dium;">Dieser Kurs ist speziell auf den weiblichen Körper abgestimmt und le
 gt besonderen Fokus auf Core-Stabilität, Beckenboden, Haltung und funktione
 lle Bewegung. Durch achtsame und präzise Übungen werden Bereiche unterstütz
 t, die für die Gesundheit und das körperliche Wohlbefinden von Frauen beson
 ders wichtig sind. Ob du neu bei Pilates bist oder deine Praxis vertiefen m
 öchtest – dieser Kurs bietet einen sicheren und stärkenden Raum, um deinen 
 Körper zu kräftigen, zu dehnen und dich mit ihm in einer Weise zu verbinden
 , die seiner natürlichen Form gerecht wird.</p><p style="box-sizing: border
 -box; border: 0px solid #e5e7eb; --tw-border-spacing-x: 0; --tw-border-spac
 ing-y: 0; --tw-translate-x: 0; --tw-translate-y: 0; --tw-rotate: 0; --tw-sk
 ew-x: 0; --tw-skew-y: 0; --tw-scale-x: 1; --tw-scale-y: 1; --tw-scroll-snap
 -strictness: proximity; --tw-ring-offset-width: 0px; --tw-ring-offset-color
 : #fff; --tw-ring-color: rgb(59 130 246/0.5); --tw-ring-offset-shadow: 0 0 
 #0000; --tw-ring-shadow: 0 0 #0000; --tw-shadow: 0 0 #0000; --tw-shadow-col
 ored: 0 0 #0000; margin: 0px 0px 12px; color: #141414; font-family: ui-sans
 -serif, system-ui, sans-serif, 'Apple Color Emoji', 'Segoe UI Emoji', 'Sego
 e UI Symbol', 'Noto Color Emoji'; font-size: medium;">Für&nbsp;<span style=
 "box-sizing: border-box; border: 0px solid #e5e7eb; --tw-border-spacing-x: 
 0; --tw-border-spacing-y: 0; --tw-translate-x: 0; --tw-translate-y: 0; --tw
 -rotate: 0; --tw-skew-x: 0; --tw-skew-y: 0; --tw-scale-x: 1; --tw-scale-y: 
 1; --tw-scroll-snap-strictness: proximity; --tw-ring-offset-width: 0px; --t
 w-ring-offset-color: #fff; --tw-ring-color: rgb(59 130 246/0.5); --tw-ring-
 offset-shadow: 0 0 #0000; --tw-ring-shadow: 0 0 #0000; --tw-shadow: 0 0 #00
 00; --tw-shadow-colored: 0 0 #0000; font-weight: bold;">alle Levels</span>&
 nbsp;geeignet. Vorkenntnisse in Pilates sind nicht erforderlich.</p><p styl
 e="box-sizing: border-box; border: 0px solid #e5e7eb; --tw-border-spacing-x
 : 0; --tw-border-spacing-y: 0; --tw-translate-x: 0; --tw-translate-y: 0; --
 tw-rotate: 0; --tw-skew-x: 0; --tw-skew-y: 0; --tw-scale-x: 1; --tw-scale-y
 : 1; --tw-scroll-snap-strictness: proximity; --tw-ring-offset-width: 0px; -
 -tw-ring-offset-color: #fff; --tw-ring-color: rgb(59 130 246/0.5); --tw-rin
 g-offset-shadow: 0 0 #0000; --tw-ring-shadow: 0 0 #0000; --tw-shadow: 0 0 #
 0000; --tw-shadow-colored: 0 0 #0000; margin: 0px 0px 12px; color: #141414;
  font-family: ui-sans-serif, system-ui, sans-serif, 'Apple Color Emoji', 'S
 egoe UI Emoji', 'Segoe UI Symbol', 'Noto Color Emoji'; font-size: medium;">
 Bitte beachte, dass der Kurs auf&nbsp;<span style="box-sizing: border-box; 
 border: 0px solid #e5e7eb; --tw-border-spacing-x: 0; --tw-border-spacing-y:
  0; --tw-translate-x: 0; --tw-translate-y: 0; --tw-rotate: 0; --tw-skew-x: 
 0; --tw-skew-y: 0; --tw-scale-x: 1; --tw-scale-y: 1; --tw-scroll-snap-stric
 tness: proximity; --tw-ring-offset-width: 0px; --tw-ring-offset-color: #fff
 ; --tw-ring-color: rgb(59 130 246/0.5); --tw-ring-offset-shadow: 0 0 #0000;
  --tw-ring-shadow: 0 0 #0000; --tw-shadow: 0 0 #0000; --tw-shadow-colored: 
 0 0 #0000; font-weight: bold;">Deutsch</span>&nbsp;unterrichtet wird.</p>
CONTACT:https://www.beyourmuse.at/stundenplan
X-EXTRAINFO:[preis='2000'][anmeldung='true']
DTSTAMP:20260426T020140
DTSTART:20250916T060000
DTEND:20250916T065000
SEQUENCE:0
RRULE:FREQ=WEEKLY;UNTIL=20260101T000000Z;INTERVAL=1;BYDAY=TU
TRANSP:OPAQUE
END:VEVENT
END:VCALENDAR