BEGIN:VCALENDAR
VERSION:2.0
PRODID:-//jEvents 2.0 for Joomla//EN
CALSCALE:GREGORIAN
METHOD:PUBLISH
BEGIN:VEVENT
UID:6a0ecd781f0d139260e121db9a1cfe7a
CATEGORIES:18. Bezirk
CREATED:19700101T010000
SUMMARY:Kinderyoga 6-10 Jahre alt
LOCATION:Ferrogasse 9/1 1180 Wien
DESCRIPTION:<p style="box-sizing: border-box; border: 0px solid #e5e7eb; --tw-border-sp
 acing-x: 0; --tw-border-spacing-y: 0; --tw-translate-x: 0; --tw-translate-y
 : 0; --tw-rotate: 0; --tw-skew-x: 0; --tw-skew-y: 0; --tw-scale-x: 1; --tw-
 scale-y: 1; --tw-scroll-snap-strictness: proximity; --tw-ring-offset-width:
  0px; --tw-ring-offset-color: #fff; --tw-ring-color: rgb(59 130 246/0.5); -
 -tw-ring-offset-shadow: 0 0 #0000; --tw-ring-shadow: 0 0 #0000; --tw-shadow
 : 0 0 #0000; --tw-shadow-colored: 0 0 #0000; margin: 0px 0px 12px; color: #
 141414; font-family: ui-sans-serif, system-ui, sans-serif, 'Apple Color Emo
 ji', 'Segoe UI Emoji', 'Segoe UI Symbol', 'Noto Color Emoji'; font-size: me
 dium;">Bewegung, Musik, Geschichten, Konzentration und Kreativität – kindge
 recht, lebendig und mit ganz viel Herz.In diesen Stunden entdecken die Kind
 er erste Yoga-Elemente wie Atmung, Haltung und Achtsamkeit – spielerisch, o
 hne Druck und frei von starren Vorgaben.Es geht nicht um „richtig oder fals
 ch“, sondern ums Spüren, Staunen und Ausprobieren.</p><p style="box-sizing:
  border-box; border: 0px solid #e5e7eb; --tw-border-spacing-x: 0; --tw-bord
 er-spacing-y: 0; --tw-translate-x: 0; --tw-translate-y: 0; --tw-rotate: 0; 
 --tw-skew-x: 0; --tw-skew-y: 0; --tw-scale-x: 1; --tw-scale-y: 1; --tw-scro
 ll-snap-strictness: proximity; --tw-ring-offset-width: 0px; --tw-ring-offse
 t-color: #fff; --tw-ring-color: rgb(59 130 246/0.5); --tw-ring-offset-shado
 w: 0 0 #0000; --tw-ring-shadow: 0 0 #0000; --tw-shadow: 0 0 #0000; --tw-sha
 dow-colored: 0 0 #0000; margin: 0px 0px 12px; color: #141414; font-family: 
 ui-sans-serif, system-ui, sans-serif, 'Apple Color Emoji', 'Segoe UI Emoji'
 , 'Segoe UI Symbol', 'Noto Color Emoji'; font-size: medium;">Mit kleinen Ge
 schichten, feinen Impulsen und viel Raum zum Forschen, Bewegen, Ruhen und W
 achsen entsteht ein liebevoller Rahmen, der Struktur bietet und dennoch Pla
 tz lässt – für Fantasie, Selbstentfaltung und echtes Kind-Sein.</p><p style
 ="box-sizing: border-box; border: 0px solid #e5e7eb; --tw-border-spacing-x:
  0; --tw-border-spacing-y: 0; --tw-translate-x: 0; --tw-translate-y: 0; --t
 w-rotate: 0; --tw-skew-x: 0; --tw-skew-y: 0; --tw-scale-x: 1; --tw-scale-y:
  1; --tw-scroll-snap-strictness: proximity; --tw-ring-offset-width: 0px; --
 tw-ring-offset-color: #fff; --tw-ring-color: rgb(59 130 246/0.5); --tw-ring
 -offset-shadow: 0 0 #0000; --tw-ring-shadow: 0 0 #0000; --tw-shadow: 0 0 #0
 000; --tw-shadow-colored: 0 0 #0000; margin: 0px 0px 12px; color: #141414; 
 font-family: ui-sans-serif, system-ui, sans-serif, 'Apple Color Emoji', 'Se
 goe UI Emoji', 'Segoe UI Symbol', 'Noto Color Emoji'; font-size: medium;">W
 as bleibt? Innere Ruhe, Bewegungsfreude, Körperbewusstsein, Selbstvertrauen
  – und fast immer ein stolzes Lächeln auf dem Heimweg.</p><p style="box-siz
 ing: border-box; border: 0px solid #e5e7eb; --tw-border-spacing-x: 0; --tw-
 border-spacing-y: 0; --tw-translate-x: 0; --tw-translate-y: 0; --tw-rotate:
  0; --tw-skew-x: 0; --tw-skew-y: 0; --tw-scale-x: 1; --tw-scale-y: 1; --tw-
 scroll-snap-strictness: proximity; --tw-ring-offset-width: 0px; --tw-ring-o
 ffset-color: #fff; --tw-ring-color: rgb(59 130 246/0.5); --tw-ring-offset-s
 hadow: 0 0 #0000; --tw-ring-shadow: 0 0 #0000; --tw-shadow: 0 0 #0000; --tw
 -shadow-colored: 0 0 #0000; margin: 0px 0px 12px; color: #141414; font-fami
 ly: ui-sans-serif, system-ui, sans-serif, 'Apple Color Emoji', 'Segoe UI Em
 oji', 'Segoe UI Symbol', 'Noto Color Emoji'; font-size: medium;">Bitte beac
 hten: Dieser Kurs wird&nbsp;<span style="box-sizing: border-box; border: 0p
 x solid #e5e7eb; --tw-border-spacing-x: 0; --tw-border-spacing-y: 0; --tw-t
 ranslate-x: 0; --tw-translate-y: 0; --tw-rotate: 0; --tw-skew-x: 0; --tw-sk
 ew-y: 0; --tw-scale-x: 1; --tw-scale-y: 1; --tw-scroll-snap-strictness: pro
 ximity; --tw-ring-offset-width: 0px; --tw-ring-offset-color: #fff; --tw-rin
 g-color: rgb(59 130 246/0.5); --tw-ring-offset-shadow: 0 0 #0000; --tw-ring
 -shadow: 0 0 #0000; --tw-shadow: 0 0 #0000; --tw-shadow-colored: 0 0 #0000;
  font-weight: bold;">auf Deutsch unterrichtet.</span></p>
CONTACT:https://www.beyourmuse.at/stundenplan
X-EXTRAINFO:[preis='2000'][anmeldung='true']
DTSTAMP:20260426T033813
DTSTART:20250916T134500
DTEND:20250916T144500
SEQUENCE:0
RRULE:FREQ=WEEKLY;UNTIL=20260101T000000Z;INTERVAL=1;BYDAY=TU
TRANSP:OPAQUE
END:VEVENT
END:VCALENDAR