BEGIN:VCALENDAR
VERSION:2.0
PRODID:-//jEvents 2.0 for Joomla//EN
CALSCALE:GREGORIAN
METHOD:PUBLISH
BEGIN:VEVENT
UID:63e4bbde60d7b3db2f7225361172f4b5
CATEGORIES:18. Bezirk
CREATED:19700101T010000
SUMMARY:MamaWORKOUT - Rückbildung & Fitness mit Baby
LOCATION:Spielringel\, Mollgasse 11-13\, 1180 Wien
DESCRIPTION:Du möchtest etwas für deine Fitness und dein Wohlbefinden tun und dein Baby
  soll mit dabei sein? Dann ist MamaWORKOUT genau das Richtige für dich! Das
  MamaWORKOUT Konzept umfasst sowohl Rückbildung als auch ganzheitliches Fit
 nesstraining, angepasst an die veränderten körperlichen Bedingen von Mütter
 n im ersten Babyjahr (Einstieg ab 6 Wochen nach der Geburt). Dein Baby wird
  liebevoll in die Übungen integriert, spielt, turnt oder kuschelt mit. Natü
 rlich kannst du auch ohne Baby kommen.\nHerbstkurs: 17.9. / 24.9. / 1.10. /
  8.10. / 15.10. / 22.10. \nMITTWOCH 11:00 Uhr @ Spielringel\nAnmeldung unte
 r: eva.derdak@gmx.at\nKosten Herbstkurs: 110,- EUR\nEinzeleinheit: 20,- Eur
 o\nONLINE TEILNAHME möglich!\nMehr Info auf: www.fit-mit-eva.at (https://ww
 w.fit-mit-eva.at)\n \n
X-ALT-DESC;FMTTYPE=text/html:<p><span style="font-family: 'Fira Sans', sans-serif, google; font-size: 14
 px; color: #e9932a;"><span style="color: #454545;">Du möchtest etwas für de
 ine Fitness und dein Wohlbefinden tun und dein Baby soll mit dabei sein? Da
 nn ist MamaWORKOUT&nbsp;genau das Richtige für dich! Das MamaWORKOUT Konzep
 t umfasst sowohl&nbsp;<strong>Rückbildung</strong>&nbsp;als auch&nbsp;<stro
 ng>ganzheitliches Fitnesstraining</strong>, angepasst an die veränderten kö
 rperlichen Bedingen von Müttern im ersten Babyjahr (Einstieg ab 6 Wochen na
 ch der Geburt). Dein Baby wird liebevoll in die Übungen integriert, spielt,
  turnt oder kuschelt mit. Natürlich kannst du auch ohne Baby kommen.</span>
 </span><span style="caret-color: #e8912a; color: #e8912a; font-family: 'Fir
 a Sans', sans-serif, google; font-size: 14px; background-color: #fdfdfd;"><
 /span></p><p style="margin: 0px; caret-color: #e8912a; color: #e8912a; font
 -family: 'Fira Sans', sans-serif, google; font-size: 18px;"><span style="co
 lor: #e9932b; font-size: 14px;"><strong>Herbstkurs:</strong>&nbsp;17.9. / 2
 4.9. / 1.10. / 8.10. / 15.10. / 22.10.&nbsp;</span></p><p style="margin: 0p
 x; caret-color: #e8912a; color: #e8912a; font-family: 'Fira Sans', sans-ser
 if, google; font-size: 18px;"><span style="color: #e9932b; font-size: 14px;
 "><strong style="caret-color: #454545; color: #454545;">MITTWOCH 11:00 Uhr<
 /strong>&nbsp;<span style="color: #454545;">@ Spielringel</span></span></p>
 <p style="margin: 0px; caret-color: #e8912a; color: #e8912a; font-family: '
 Fira Sans', sans-serif, google; font-size: 18px;"><span style="color: #4545
 45;"><span style="font-size: 14px;">Anmeldung</span></span>&nbsp;<span styl
 e="caret-color: #454545; color: #454545;"><span style="font-size: 14px;">un
 ter:&nbsp;</span></span><span style="caret-color: #454545; color: #454545;"
 ><span style="font-size: 14px;"><span style="color: #e9932b;">e</span></spa
 n></span><span style="color: #e9932b;"><span><span style="caret-color: #e99
 32b; font-size: 14px;">va.derdak@gmx.at</span></span></span></p><p style="m
 argin: 0px; caret-color: #e8912a; color: #e8912a; font-family: 'Fira Sans',
  sans-serif, google; font-size: 18px;"><span style="font-size: 14px; color:
  #454545;">Kosten Herbstkurs:&nbsp;<span style="font-weight: 700 !important
 ;">110,- EUR</span></span></p><p style="margin: 0px; caret-color: #e8912a; 
 color: #e8912a; font-family: 'Fira Sans', sans-serif, google; font-size: 18
 px;"><span style="font-size: 12px; color: #454545;">Einzeleinheit: 20,- Eur
 o</span></p><p><strong>ONLINE TEILNAHME möglich!</strong></p><p>Mehr Info a
 uf: <a href="https://www.fit-mit-eva.at">www.fit-mit-eva.at</a></p><p>&nbsp
 ;</p>
CONTACT:Eva Derdak
X-EXTRAINFO:[preis='11000'][anmeldung='true']
DTSTAMP:20260426T020942
DTSTART:20250917T090000
DTEND:20250917T100000
SEQUENCE:0
RRULE:FREQ=WEEKLY;UNTIL=20251024T000000Z;INTERVAL=6;BYDAY=WE
TRANSP:OPAQUE
END:VEVENT
END:VCALENDAR