BEGIN:VCALENDAR
VERSION:2.0
PRODID:-//jEvents 2.0 for Joomla//EN
CALSCALE:GREGORIAN
METHOD:PUBLISH
BEGIN:VEVENT
UID:24810ccf8bdf9bb8d97027d1f94daff3
CATEGORIES:1. Bezirk
CREATED:19700101T010000
SUMMARY:Mama- Baby-Yoga
LOCATION:Yoga Kula\, Bösendorferstrasse 9\, 1010 Wien
DESCRIPTION:Ein Yogakurs für Mamas - mit oder ohne Baby. 🧘\nDurch systematisch aufgebau
 te Übungsabfolgen gewinnst du an Muskeltonus und Stabilität. Dein Beckenbod
 en und Bauch werden gekräftigt, dein, Rücken, Schultern und Hände entlastet
 . \nEtwa 6 Wochen nach der Geburt kannst du schon zu Mama-Baby-Yoga kommen.
  Etwas später nach einem Kaiserschnitt.\nDein Baby darf gerne dabei sein!\n
 Du brauchst keine Yoga Vorerfahrung.\nAnmelden kannst du dich über everspor
 ts bei Yoga Kula (https://www.eversports.at/scl/yogakula-vienna),\n \nder a
 ngeführte Preis ist eine Schnupperstunde. Es gibt verschiedene Preismodelle
 .\n \n \n
X-ALT-DESC;FMTTYPE=text/html:<p style="box-sizing: border-box; margin: 0px 0px 1.2em; caret-color: #0000
 00; color: #000000; font-family: 'Open Sans', Arial, sans-serif; font-size:
  14px; -webkit-tap-highlight-color: rgba(0, 0, 0, 0); -webkit-text-size-adj
 ust: 100%; border: 0px solid currentcolor;"><strong>Ein Yogakurs für Mamas 
 - mit oder ohne Baby. 🧘</strong></p><p>Durch systematisch aufgebaute Übungs
 abfolgen gewinnst du an <strong>Muskeltonus</strong> und Stabilität. Dein&n
 bsp;<strong>Beckenboden</strong> und Bauch werden gekräftigt, dein, Rücken,
  Schultern und Hände entlastet.&nbsp;</p><p>Etwa 6 Wochen nach der Geburt k
 annst du schon zu Mama-Baby-Yoga kommen. Etwas später nach einem Kaiserschn
 itt.</p><p style="box-sizing: border-box; margin: 0px 0px 1.2em; caret-colo
 r: #000000; color: #000000; font-family: 'Open Sans', Arial, sans-serif; fo
 nt-size: 14px; -webkit-tap-highlight-color: rgba(0, 0, 0, 0); -webkit-text-
 size-adjust: 100%; border: 0px solid currentcolor;">Dein Baby darf gerne da
 bei sein!</p><p>Du brauchst keine Yoga Vorerfahrung.</p><p>Anmelden kannst 
 du dich über <a href="https://www.eversports.at/scl/yogakula-vienna">eversp
 orts bei Yoga Kula</a>,</p><p>&nbsp;</p><p>der angeführte Preis ist eine Sc
 hnupperstunde. Es gibt verschiedene Preismodelle.</p><p style="box-sizing: 
 border-box; margin: 0px 0px 1.2em; caret-color: #000000; color: #000000; fo
 nt-family: 'Open Sans', Arial, sans-serif; font-size: 14px; -webkit-tap-hig
 hlight-color: rgba(0, 0, 0, 0); -webkit-text-size-adjust: 100%; border: 0px
  solid currentcolor;">&nbsp;</p><p>&nbsp;</p>
CONTACT:www.yogakula.at
X-EXTRAINFO:[preis='1000'][anmeldung='false']
DTSTAMP:20260426T023721
DTSTART:20250916T083000
DTEND:20250916T093000
SEQUENCE:0
RRULE:FREQ=WEEKLY;COUNT=10;INTERVAL=1;BYDAY=TU
TRANSP:OPAQUE
END:VEVENT
END:VCALENDAR