BEGIN:VCALENDAR
VERSION:2.0
PRODID:-//jEvents 2.0 for Joomla//EN
CALSCALE:GREGORIAN
METHOD:PUBLISH
BEGIN:VEVENT
UID:48044254a5105457abee682c37e71407
CATEGORIES:18. Bezirk
CREATED:19700101T010000
SUMMARY:Spiel & Spaß zu Mittag 
LOCATION:Spielringel  Mollgasse  11-13
DESCRIPTION:  Spiel &amp; Spaß zu Mittag ab 17.09.für Babys und Kleinkinder 8 Monate - 
 2 JahreDas freie Spiel steht im Vordergrund. Nebenbei werden motorische Fäh
 igkeiten geschult, alle Sinne gefördert und erste soziale Kontakte zu Gleic
 haltrigen gemacht.\nAuch die "Großen" können Erfahrungen austauschen und ne
 ue Kontakte knüpfen!\n
X-ALT-DESC;FMTTYPE=text/html:<div class="frame-container" style="box-sizing: border-box; position: relat
 ive; width: 815px; padding-right: 0px; padding-left: 0px; margin-right: aut
 o; margin-left: auto; max-width: 1140px; margin-bottom: 0px;"><div class="f
 rame-inner" style="box-sizing: border-box;"><div class="textpic textpic-rig
 ht" style="box-sizing: border-box; display: flex; flex-wrap: wrap; margin-l
 eft: -20px; margin-right: -20px; margin-bottom: 0px;"><div class="textpic-i
 tem textpic-gallery" style="box-sizing: border-box; order: 2; width: 427.5p
 x; padding-left: 20px; padding-right: 20px; margin-bottom: 0px; color: #2b2
 b2b; font-family: Roboto; font-size: 16px; font-style: normal; font-variant
 -ligatures: normal; font-variant-caps: normal; font-weight: 400; letter-spa
 cing: normal; orphans: 2; text-align: left; text-indent: 0px; text-transfor
 m: none; widows: 2; word-spacing: 0px; -webkit-text-stroke-width: 0px; whit
 e-space: normal; background-color: #ffffff; text-decoration-thickness: init
 ial; text-decoration-style: initial; text-decoration-color: initial;"><div 
 class="gallery-row" style="box-sizing: border-box; display: flex; flex-wrap
 : wrap; margin-left: -0.5rem; margin-right: -0.5rem; margin-bottom: -1rem;"
 ><div class="gallery-item gallery-item-size-1" style="box-sizing: border-bo
 x; padding-left: 0.5rem; padding-right: 0.5rem; width: 403.5px;">&nbsp;</di
 v></div></div><div class="textpic-item textpic-text" style="box-sizing: bor
 der-box; order: 1; width: 427.5px; padding-left: 20px; padding-right: 20px;
  margin-bottom: 0px; color: #2b2b2b; font-family: Roboto; font-size: 16px; 
 font-style: normal; font-variant-ligatures: normal; font-variant-caps: norm
 al; font-weight: 400; letter-spacing: normal; orphans: 2; text-align: left;
  text-indent: 0px; text-transform: none; widows: 2; word-spacing: 0px; -web
 kit-text-stroke-width: 0px; white-space: normal; background-color: #ffffff;
  text-decoration-thickness: initial; text-decoration-style: initial; text-d
 ecoration-color: initial;">&nbsp;</div></div></div></div><header class="fra
 me-header" style="box-sizing: border-box; display: block;"><h2 class="eleme
 nt-header" style="box-sizing: border-box; margin-top: 0px; margin-bottom: 0
 .5rem; font-family: Montserrat; font-weight: 300; line-height: 1.2; font-si
 ze: 2.275rem;">Spiel &amp; Spaß zu Mittag ab 17.09.</h2><h4 style="box-sizi
 ng: border-box; margin-top: 0px; margin-bottom: 1rem; font-family: Montserr
 at; font-weight: 300; line-height: 1.2; font-size: 1.625rem;">für Babys und
  Kleinkinder 8 Monate - 2 Jahre</h4><p style="box-sizing: border-box; margi
 n-top: 0px; margin-bottom: 1rem; color: #2b2b2b; font-family: Roboto; font-
 size: 16px;">Das freie Spiel steht im Vordergrund. Nebenbei werden motorisc
 he Fähigkeiten geschult, alle Sinne gefördert und erste soziale Kontakte zu
  Gleichaltrigen gemacht.</p><p style="box-sizing: border-box; margin-top: 0
 px; margin-bottom: 1rem; color: #2b2b2b; font-family: Roboto; font-size: 16
 px;">Auch die "Großen" können Erfahrungen austauschen und neue Kontakte knü
 pfen!</p></header>
CONTACT:www.spielringel.at
X-EXTRAINFO:[preis='9000'][anmeldung='true']
DTSTAMP:20260426T033327
DTSTART:20250917T110000
DTEND:20250917T120000
SEQUENCE:0
RRULE:FREQ=WEEKLY;UNTIL=20251018T000000Z;INTERVAL=1;BYDAY=WE
TRANSP:OPAQUE
END:VEVENT
END:VCALENDAR