BEGIN:VCALENDAR
VERSION:2.0
PRODID:-//jEvents 2.0 for Joomla//EN
CALSCALE:GREGORIAN
METHOD:PUBLISH
BEGIN:VEVENT
UID:e3dc93aa2e867602ef5c198a5bd5ba94
CATEGORIES:9. Bezirk
CREATED:19700101T010000
SUMMARY:Entdeckt Musik
LOCATION:Fürstengasse 3\, neben dem Gartenpalais Liechtenstein
DESCRIPTION:Entdeckt, was in Musik steckt\nMusikkurs für kleine Entdecker*Innen\n \nEnt
 deckt, was in Musik steckt ist ein interaktiver Musikkurs für Babies von kl
 ein an (ab 8 Wochen bis zum Krabbelalter), der zum Mitmachen, Mitsingen und
  Entdecken anregt.\nGemeinsam werden Musikstücke unterschiedlichster Stilri
 chtungen erkundet, Instrumente ausprobiert und Lieder gesungen. Und entdeck
 t, was sonst noch so alles in Musik steckt.\nMaximale Teilnehmer*Innenzahl:
  6 Babies plus Bezugsperson\nWo: direkt neben dem Gartenpalais Liechtenstei
 n, Fürstengasse 3\nKosten: 20€/ Einheit  - 5er Block um 85€\nAnmeldung über
 : entdeckt.musik@piapircher.com (mailto:entdeckt.musik@piapircher.com)\nÜbe
 r mich:\nMein Name ist Pia und ich bin Mama von zwei wunderbaren neugierige
 n Mädchen. Ich bin Konzertmusikerin und Musikpädagogin, derzeit unterrichte
  ich auch bei den Wiener Sängerkaben.\n \n
X-ALT-DESC;FMTTYPE=text/html:<p style="text-align: left;"><strong>Entdeckt, was in Musik steckt</strong>
 </p><p><em>Musikkurs für kleine Entdecker*Innen</em></p><p>&nbsp;</p><p><em
 >Entdeckt, was in Musik steckt</em> ist ein interaktiver Musikkurs für Babi
 es von klein an (ab 8 Wochen bis zum Krabbelalter), der zum Mitmachen, Mits
 ingen und Entdecken anregt.</p><p>Gemeinsam werden Musikstücke unterschiedl
 ichster Stilrichtungen erkundet, Instrumente ausprobiert und Lieder gesunge
 n. Und entdeckt, was sonst noch so alles in Musik steckt.</p><p>Maximale Te
 ilnehmer*Innenzahl: 6 Babies plus Bezugsperson</p><p>Wo: direkt neben dem G
 artenpalais Liechtenstein, Fürstengasse 3</p><p>Kosten: 20€/ Einheit &nbsp;
 - 5er Block um 85€</p><p>Anmeldung über: <a href="mailto:entdeckt.musik@pia
 pircher.com">entdeckt.musik@piapircher.com</a></p><p>Über mich:</p><p>Mein 
 Name ist Pia und ich bin Mama von zwei wunderbaren neugierigen Mädchen. Ich
  bin Konzertmusikerin und Musikpädagogin, derzeit unterrichte ich auch bei 
 den Wiener Sängerkaben.</p><p>&nbsp;</p>
CONTACT:Pia Pircher-Gerges: entdeckt.musik@piapircher.com
X-EXTRAINFO:[preis='2000'][anmeldung='true']
DTSTAMP:20260426T020009
DTSTART:20250923T073000
DTEND:20250923T081500
SEQUENCE:0
RRULE:FREQ=WEEKLY;COUNT=4;INTERVAL=1;BYDAY=TU
TRANSP:OPAQUE
END:VEVENT
END:VCALENDAR