BEGIN:VCALENDAR
VERSION:2.0
PRODID:-//jEvents 2.0 for Joomla//EN
CALSCALE:GREGORIAN
METHOD:PUBLISH
BEGIN:VEVENT
UID:b8c1722d2d1aeec9485e4740802345b1
CATEGORIES:18. Bezirk
CREATED:20250919T125801
SUMMARY:Beikoststart
LOCATION:Spielringel  Mollgasse  11-13
DESCRIPTION:Ab einem gewissen Zeitpunkt ist dein Baby reif, neben seiner Milch auch ers
 te feste Nahrung zu sich zu nehmen. \nUm diesen Zeitpunkt ranken sich sehr 
 viele Mythen. \nAb wann soll mit der Beikost begonnen werden? Ist Beikost a
 uch immer Breikost, oder darf es auch was anderes sein? Was dürfen Baby ess
 en?\n \nAll diese Fragen werden hier beantwortet. Doris unterstützt dich au
 f deinem Weg mit Baby in die Beikostzeit. \n
X-ALT-DESC;FMTTYPE=text/html:<p style="box-sizing: border-box; margin-top: 0px; margin-bottom: 1rem; col
 or: #2b2b2b; font-family: Roboto; font-size: 16px;">Ab einem gewissen Zeitp
 unkt ist dein Baby reif, neben seiner Milch auch erste feste Nahrung zu sic
 h zu nehmen.&nbsp;</p><p style="box-sizing: border-box; margin-top: 0px; ma
 rgin-bottom: 1rem; color: #2b2b2b; font-family: Roboto; font-size: 16px;">U
 m diesen Zeitpunkt ranken sich sehr viele Mythen.&nbsp;</p><p style="box-si
 zing: border-box; margin-top: 0px; margin-bottom: 1rem; color: #2b2b2b; fon
 t-family: Roboto; font-size: 16px;">Ab wann soll mit der Beikost begonnen w
 erden? Ist Beikost auch immer Breikost, oder darf es auch was anderes sein?
  Was dürfen Baby essen?</p><p style="box-sizing: border-box; margin-top: 0p
 x; margin-bottom: 1rem; color: #2b2b2b; font-family: Roboto; font-size: 16p
 x;">&nbsp;</p><p style="box-sizing: border-box; margin-top: 0px; margin-bot
 tom: 1rem; color: #2b2b2b; font-family: Roboto; font-size: 16px;">All diese
  Fragen werden hier beantwortet. Doris unterstützt dich auf deinem Weg mit 
 Baby in die Beikostzeit.&nbsp;</p>
CONTACT:www.spielringel.at
X-EXTRAINFO:[preis='2000'][anmeldung='true']
DTSTAMP:20260426T020000
DTSTART:20250925T074500
DTEND:20250925T084500
SEQUENCE:0
TRANSP:OPAQUE
END:VEVENT
END:VCALENDAR