BEGIN:VCALENDAR
VERSION:2.0
PRODID:-//jEvents 2.0 for Joomla//EN
CALSCALE:GREGORIAN
METHOD:PUBLISH
BEGIN:VEVENT
UID:264bf6ac7818e84dfa2c2bdda7ffa9b4
CATEGORIES:18. Bezirk
CREATED:20250919T125928
SUMMARY:Gemeinsam wachsen (Kennenlernstunde)
LOCATION:Spielringel  Mollgasse  11-13
DESCRIPTION:Du suchst Antwort auf all deine Fragen in Babys erstem Lebensjahr und magst
  andere Mamas kennen lernen und dich mit ihnen austauschen? Dabei willst du
  hilfreiche Informationen rund um die Entwicklung deines Babys un dentwickl
 ungsgerechte Spielanregungen durch die Jahreszeiten bekommen? Dann bist du 
 im "Gemeinsam wachsen" Kurs bei Doris genau richtig!\nAm 08.10. gibt es ein
 e Kennenlernstunde mit Doris bei uns zu buchen! Am 20.11. startet dann ein 
 8-Wochen Kurs "Gemeinsam wachsen"!\n
X-ALT-DESC;FMTTYPE=text/html:<p style="box-sizing: border-box; margin-top: 0px; margin-bottom: 1rem; col
 or: #2b2b2b; font-family: Roboto; font-size: 16px;">Du suchst Antwort auf a
 ll deine Fragen in Babys erstem Lebensjahr und magst andere Mamas kennen le
 rnen und dich mit ihnen austauschen? Dabei willst du hilfreiche Information
 en rund um die Entwicklung deines Babys un dentwicklungsgerechte Spielanreg
 ungen durch die Jahreszeiten bekommen? Dann bist du im "Gemeinsam wachsen" 
 Kurs bei Doris genau richtig!</p><p style="box-sizing: border-box; margin-t
 op: 0px; margin-bottom: 0px; color: #2b2b2b; font-family: Roboto; font-size
 : 16px;">Am 08.10. gibt es eine Kennenlernstunde mit Doris bei uns zu buche
 n! Am 20.11. startet dann ein 8-Wochen Kurs "Gemeinsam wachsen"!</p>
CONTACT:www.spielringel.at
X-EXTRAINFO:[preis='2000'][anmeldung='true']
DTSTAMP:20260426T020130
DTSTART:20250919T074500
DTEND:20250919T084500
SEQUENCE:0
TRANSP:OPAQUE
END:VEVENT
END:VCALENDAR