BEGIN:VCALENDAR
VERSION:2.0
PRODID:-//jEvents 2.0 for Joomla//EN
CALSCALE:GREGORIAN
METHOD:PUBLISH
BEGIN:VEVENT
UID:349b3e4594fb3b9fed28de9cb87416b0
CATEGORIES:21. Bezirk
CREATED:20250922T110735
SUMMARY:Elternrunde
LOCATION:Stadtteilbüro am Schlingermarkt Brünnerstraße 34-38/8/R10
DESCRIPTION:Am 3. Oktober findet die kostenlose Elternrunde im Stadtteilbüro statt. Die
 smal zum Thema: \nPünktlich in die Schule, ohne Streit am Morgen. \nWas es 
 dafür braucht, kann natürlich auch auf den Kindergartenbesuch übertragen we
 rden. Auch, wenn euer Kind nächstes Jahr in die Schule kommt, könnt ihr euc
 h hier schon Inspirationen holen wie ihr euch ganz sanft auf diese Zeit vor
 bereitet. \nWir freuen uns auf eure Anmeldung!\nhttps://beratung.kreuz.wien
 /ws-beschreibungen.html (https://beratung.kreuz.wien/ws-beschreibungen.html
 )\n \n
X-ALT-DESC;FMTTYPE=text/html:<p>Am 3. Oktober findet die kostenlose Elternrunde im Stadtteilbüro statt. 
 Diesmal zum Thema:&nbsp;</p><p><strong>Pünktlich in die Schule, ohne Streit
  am Morgen.&nbsp;</strong></p><p>Was es dafür braucht, kann natürlich auch 
 auf den Kindergartenbesuch übertragen werden. Auch, wenn euer Kind nächstes
  Jahr in die Schule kommt, könnt ihr euch hier schon Inspirationen holen wi
 e ihr euch ganz sanft auf diese Zeit vorbereitet.&nbsp;</p><p>Wir freuen un
 s auf eure Anmeldung!</p><p><a href="https://beratung.kreuz.wien/ws-beschre
 ibungen.html">https://beratung.kreuz.wien/ws-beschreibungen.html</a></p><p>
 &nbsp;</p>
CONTACT:https://beratung.kreuz.wien/kontakt.html#anchor1-kontaktformular
X-EXTRAINFO:[preis='000'][anmeldung='true']
DTSTAMP:20260426T033446
DTSTART:20251003T160000
DTEND:20251003T173000
SEQUENCE:0
TRANSP:OPAQUE
END:VEVENT
END:VCALENDAR