BEGIN:VCALENDAR
VERSION:2.0
PRODID:-//jEvents 2.0 for Joomla//EN
CALSCALE:GREGORIAN
METHOD:PUBLISH
BEGIN:VEVENT
UID:77c83bb1c2f33b58ded724c016211fc6
CATEGORIES:22. Bezirk
CREATED:20250929T133355
SUMMARY:WindelHopser-Tanzkurs (2-3 Jahre)
LOCATION:Tanzschule Schwebach\, Maculangasse 1b\, 1220 Wien
DESCRIPTION:Tanz- und Bewegungsreise für die Kleinsten\nIn diesem liebevoll gestalteten
  Kurs entdecken Kinder gemeinsam mit Mama, Papa oder einer anderen vertraut
 en Begleitperson erste Kreis-, Bewegungs- und Fingerspiele. Wir singen, lau
 schen Klängen und erleben die Freude an der Bewegung. \nJede Stunde wird zu
  einer kleinen Entdeckungsreise, bei der die gemeinsame Zeit im Mittelpunkt
  steht.\nHinweis: Der Kurs kann nur mit einer Begleitperson besucht werden.
 \nSchaut auf unserer Homepage vorbei: www.familydancesensation.at\n \n
X-ALT-DESC;FMTTYPE=text/html:<p><strong>Tanz- und Bewegungsreise für die Kleinsten</strong></p><p>In die
 sem liebevoll gestalteten Kurs entdecken Kinder gemeinsam mit Mama, Papa od
 er einer anderen vertrauten Begleitperson erste Kreis-, Bewegungs- und Fing
 erspiele. Wir singen, lauschen Klängen und erleben die Freude an der Bewegu
 ng.&nbsp;<br />Jede Stunde wird zu einer kleinen Entdeckungsreise, bei der 
 die gemeinsame Zeit im Mittelpunkt steht.</p><p><span style="text-decoratio
 n: underline;">Hinweis</span>: Der Kurs kann nur mit einer Begleitperson be
 sucht werden.</p><p>Schaut auf unserer Homepage vorbei: <strong>www.familyd
 ancesensation.at</strong></p><p style="margin: 0px; padding: 0px; transitio
 n: font-size 0.2s ease-in-out; line-height: 1.6; font-size: 16px; color: #f
 fffff; font-family: Roboto; background-color: #6c586d;">&nbsp;</p>
CONTACT:info@familydancesensation.at
X-EXTRAINFO:[preis='3900'][anmeldung='true']
DTSTAMP:20260426T033654
DTSTART:20250930T140000
DTEND:20250930T145000
SEQUENCE:0
TRANSP:OPAQUE
END:VEVENT
END:VCALENDAR