BEGIN:VCALENDAR
VERSION:2.0
PRODID:-//jEvents 2.0 for Joomla//EN
CALSCALE:GREGORIAN
METHOD:PUBLISH
BEGIN:VEVENT
UID:42bd90dc25b6874802d4b9255b3b99e7
CATEGORIES:22. Bezirk
CREATED:20250929T133618
SUMMARY:WindelHopser-Tanzkurs (2-3 Jahre)
LOCATION:Tanzschule Schwebach\, Maculangasse 1b\, 1220 Wien
DESCRIPTION:<p><strong>Tanz- und Bewegungsreise für die Kleinsten</strong></p><p>In die
 sem liebevoll gestalteten Kurs entdecken Kinder gemeinsam mit Mama, Papa od
 er einer anderen vertrauten Begleitperson erste Kreis-, Bewegungs- und Fing
 erspiele. Wir singen, lauschen Klängen und erleben die Freude an der Bewegu
 ng.&nbsp;<br />Jede Stunde wird zu einer kleinen Entdeckungsreise, bei der 
 die gemeinsame Zeit im Mittelpunkt steht.</p><p><span style="text-decoratio
 n: underline;">Hinweis</span>: Der Kurs kann nur mit einer Begleitperson be
 sucht werden.</p><p>Schaut auf unserer Homepage vorbei: <strong>www.familyd
 ancesensation.a</strong>t</p>
CONTACT:info@familydancesensation.at
X-EXTRAINFO:[preis='3900'][anmeldung='true']
DTSTAMP:20260426T033814
DTSTART:20251007T140000
DTEND:20251007T145000
SEQUENCE:0
TRANSP:OPAQUE
END:VEVENT
END:VCALENDAR