BEGIN:VCALENDAR
VERSION:2.0
PRODID:-//jEvents 2.0 for Joomla//EN
CALSCALE:GREGORIAN
METHOD:PUBLISH
BEGIN:VEVENT
UID:587d249545f3cd608122433a3f4eb376
CATEGORIES:22. Bezirk
CREATED:20250929T134038
SUMMARY:WindelHopser-Tanzkurs (2-3 Jahre)
LOCATION:Tanzschule Schwebach\, Maculangasse 1b\, 1220 Wien
DESCRIPTION:<p><strong>Tanz- und Bewegungsreise für die Kleinsten</strong></p><p>In die
 sem liebevoll gestalteten Kurs entdecken Kinder gemeinsam mit Mama, Papa od
 er einer anderen vertrauten Begleitperson erste Kreis-, Bewegungs- und Fing
 erspiele. Wir singen, lauschen Klängen und erleben die Freude an der Bewegu
 ng.&nbsp;<br />Jede Stunde wird zu einer kleinen Entdeckungsreise, bei der 
 die gemeinsame Zeit im Mittelpunkt steht.4</p><p><span style="text-decorati
 on: underline;">Hinweis</span>: Der Kurs kann nur mit einer Begleitperson b
 esucht werden.</p><p><strong>Kosenlose Schnupperstunde zu unseren Einstiegs
 terminen.</strong></p><p>Preise p. Monat.</p><p>Schaut auf unserer Homepage
  vorbei: <strong>www.familydancesensation.at</strong></p>
CONTACT:info@familydancesensation.at
X-EXTRAINFO:[preis='3900'][anmeldung='true']
DTSTAMP:20260426T033632
DTSTART:20251014T140000
DTEND:20251014T145000
SEQUENCE:0
TRANSP:OPAQUE
END:VEVENT
END:VCALENDAR