BEGIN:VCALENDAR
VERSION:2.0
PRODID:-//jEvents 2.0 for Joomla//EN
CALSCALE:GREGORIAN
METHOD:PUBLISH
BEGIN:VEVENT
UID:8f724150e595cd04a6396ba9edf9c2a8
CATEGORIES:22. Bezirk
CREATED:20250929T134135
SUMMARY:WindelHopser-Tanzkurs (2-3 Jahre)
LOCATION:Tanzschule Schwebach\, Maculangasse 1b\, 1220 Wien
DESCRIPTION:<p><strong>Tanz- und Bewegungsreise für die Kleinsten</strong></p><p>In die
 sem liebevoll gestalteten Kurs entdecken Kinder gemeinsam mit Mama, Papa od
 er einer anderen vertrauten Begleitperson erste Kreis-, Bewegungs- und Fing
 erspiele. Wir singen, lauschen Klängen und erleben die Freude an der Bewegu
 ng.&nbsp;<br />Jede Stunde wird zu einer kleinen Entdeckungsreise, bei der 
 die gemeinsame Zeit im Mittelpunkt steht.4</p><p><span style="text-decorati
 on: underline;">Hinweis</span>: Der Kurs kann nur mit einer Begleitperson b
 esucht werden.</p><p>Kostenlose Schnupperstunde zu den Einstiegsterminen!</
 p><p>Preise p. Monat.</p><p>Schaut auf unserer Homepage vorbei:&nbsp;<stron
 g>www.familydancesensation.at</strong></p>
CONTACT:info@familydancesensation.at
X-EXTRAINFO:[preis='000'][anmeldung='true']
DTSTAMP:20260426T033829
DTSTART:20251021T140000
DTEND:20251021T145000
SEQUENCE:0
TRANSP:OPAQUE
END:VEVENT
END:VCALENDAR