BEGIN:VCALENDAR
VERSION:2.0
PRODID:-//jEvents 2.0 for Joomla//EN
CALSCALE:GREGORIAN
METHOD:PUBLISH
BEGIN:VEVENT
UID:84dfd94bd409277ad3c1e26df6e097ac
CATEGORIES:Online
CREATED:20251007T110431
SUMMARY:Kinderleicht den Tod erklären - Webinar
LOCATION:Zoom
DESCRIPTION:Wie Kinder den Tod verstehen und wie sich das im Laufe ihrer Entwicklung än
 dert, ist Thema dieses Workshops. Sie bekommen Tipps und Hilfestellungen, d
 amit es Ihnen als Eltern oder Betreuungspersonen leichter fällt mit Kindern
  über Tod und Sterben zu reden. Wir schauen uns auch an, ob Formulierungen 
 wie: jemand ist eingeschlafen oder von uns gegangen, hilfreich sind oder ni
 cht.\n \nWas erwartet Sie in diesem Workshop:\n\n - Entwicklung des Todesbe
 griffs in den unterschiedlichen Altersstufen\n - Praktische Tipps für den A
 lltag\n - Hilfestellungen, wenn Kinder trauern\n - Kinderbücher – welche gi
 bt es und worauf gilt es zu achten\n - Nehme ich mein Kind zum Begräbnis mi
 t?Termin:\n\n - Mi, 15. Oktober 2025 von 9:00 - 10:30 online Webinar\n Kost
 en 30€, Anmeldung unter anmeldung@weihs.org (mailto:anmeldung@weihs.org?sub
 ject=Anmeldung%20%22Kindgerecht%20den%20Tod%20erkl%C3%A4ren%22%2015.10.%20W
 ebinar)Vortragende: Lisi Weihs - Psychosoziale Beraterin, Dipl. Lebens- und
  Sozialberaterin, Systemisches Coaching, Kinderkrankenschwester (www.weihs.
 org (https://www.weihs.org))\n \n
X-ALT-DESC;FMTTYPE=text/html:<p>Wie Kinder den Tod verstehen und wie sich das im Laufe ihrer Entwicklung
  ändert, ist Thema dieses Workshops. Sie bekommen Tipps und Hilfestellungen
 , damit es Ihnen als Eltern oder Betreuungspersonen leichter fällt mit Kind
 ern über Tod und Sterben zu reden. Wir schauen uns auch an, ob Formulierung
 en wie: jemand ist eingeschlafen oder von uns gegangen, hilfreich sind oder
  nicht.</p><p>&nbsp;</p><p><strong>Was erwartet Sie in diesem Workshop:</st
 rong></p><ul><li>Entwicklung des Todesbegriffs in den unterschiedlichen Alt
 ersstufen</li><li>Praktische Tipps für den Alltag</li><li>Hilfestellungen, 
 wenn Kinder trauern</li><li>Kinderbücher – welche gibt es und worauf gilt e
 s zu achten</li><li>Nehme ich mein Kind zum Begräbnis mit?</li></ul><p><spa
 n style="text-decoration: underline;">Termin:</span></p><ul><li><strong>Mi,
  15. Oktober 2025</strong> von 9:00 - 10:30 online Webinar<br /> Kosten 30€
 , Anmeldung unter <a href="mailto:anmeldung@weihs.org?subject=Anmeldung%20%
 22Kindgerecht%20den%20Tod%20erkl%C3%A4ren%22%2015.10.%20Webinar">anmeldung@
 weihs.org</a></li></ul><p><span style="text-decoration: underline;">Vortrag
 ende:</span> Lisi Weihs -&nbsp;Psychosoziale Beraterin, Dipl. Lebens- und S
 ozialberaterin, Systemisches Coaching, Kinderkrankenschwester (<a href="htt
 ps://www.weihs.org">www.weihs.org</a>)</p><p>&nbsp;</p>
CONTACT:anmeldung@weihs.org
X-EXTRAINFO:[preis='3000'][anmeldung='true']
DTSTAMP:20260425T204604
DTSTART:20251015T070000
DTEND:20251015T083000
SEQUENCE:0
TRANSP:OPAQUE
END:VEVENT
END:VCALENDAR